BEGIN:VCALENDAR
VERSION:2.0
PRODID:-//Sun Pier House CIC - ECPv6.15.18//NONSGML v1.0//EN
CALSCALE:GREGORIAN
METHOD:PUBLISH
X-WR-CALNAME:Sun Pier House CIC
X-ORIGINAL-URL:https://sunpierhouse.co.uk
X-WR-CALDESC:Events for Sun Pier House CIC
REFRESH-INTERVAL;VALUE=DURATION:PT1H
X-Robots-Tag:noindex
X-PUBLISHED-TTL:PT1H
BEGIN:VTIMEZONE
TZID:UTC
BEGIN:STANDARD
TZOFFSETFROM:+0000
TZOFFSETTO:+0000
TZNAME:UTC
DTSTART:20260101T000000
END:STANDARD
END:VTIMEZONE
BEGIN:VEVENT
DTSTART;TZID=UTC:20271104T100000
DTEND;TZID=UTC:20271104T160000
DTSTAMP:20260420T145553
CREATED:20260309T135144Z
LAST-MODIFIED:20260326T132247Z
UID:10000383-1825322400-1825344000@sunpierhouse.co.uk
SUMMARY:Café Open
DESCRIPTION:Perched on the top floor of Sun Pier House\, our café offers stunning panoramic views of the River Medway\, stretching from Rochester Castle to Upnor Castle. This peaceful spot provides a welcome escape from the bustle of Chatham High Street and is the perfect place to soak up the atmosphere Thursdays\, Fridays and Saturdays.
URL:https://sunpierhouse.co.uk/whatson/cafe-open-3-6/2027-11-04/
LOCATION:Café\, Second Floor\, Sun Pier House\, Chatham\, Kent\, ME4 4HF
CATEGORIES:Café
ATTACH;FMTTYPE=image/jpeg:https://sunpierhouse.co.uk/wp-content/uploads/2025/12/SPh-GalleryTearoom-20220622-56-9219-scaled.jpg
ORGANIZER;CN="Sun Pier House":MAILTO:info@sunpierhouse.co.uk
END:VEVENT
BEGIN:VEVENT
DTSTART;TZID=UTC:20271105T100000
DTEND;TZID=UTC:20271105T160000
DTSTAMP:20260420T145553
CREATED:20260309T135144Z
LAST-MODIFIED:20260326T132247Z
UID:10000384-1825408800-1825430400@sunpierhouse.co.uk
SUMMARY:Café Open
DESCRIPTION:Perched on the top floor of Sun Pier House\, our café offers stunning panoramic views of the River Medway\, stretching from Rochester Castle to Upnor Castle. This peaceful spot provides a welcome escape from the bustle of Chatham High Street and is the perfect place to soak up the atmosphere Thursdays\, Fridays and Saturdays.
URL:https://sunpierhouse.co.uk/whatson/cafe-open-3-6/2027-11-05/
LOCATION:Café\, Second Floor\, Sun Pier House\, Chatham\, Kent\, ME4 4HF
CATEGORIES:Café
ATTACH;FMTTYPE=image/jpeg:https://sunpierhouse.co.uk/wp-content/uploads/2025/12/SPh-GalleryTearoom-20220622-56-9219-scaled.jpg
ORGANIZER;CN="Sun Pier House":MAILTO:info@sunpierhouse.co.uk
END:VEVENT
BEGIN:VEVENT
DTSTART;TZID=UTC:20271106T100000
DTEND;TZID=UTC:20271106T160000
DTSTAMP:20260420T145553
CREATED:20260309T135144Z
LAST-MODIFIED:20260326T132247Z
UID:10000385-1825495200-1825516800@sunpierhouse.co.uk
SUMMARY:Café Open
DESCRIPTION:Perched on the top floor of Sun Pier House\, our café offers stunning panoramic views of the River Medway\, stretching from Rochester Castle to Upnor Castle. This peaceful spot provides a welcome escape from the bustle of Chatham High Street and is the perfect place to soak up the atmosphere Thursdays\, Fridays and Saturdays.
URL:https://sunpierhouse.co.uk/whatson/cafe-open-3-6/2027-11-06/
LOCATION:Café\, Second Floor\, Sun Pier House\, Chatham\, Kent\, ME4 4HF
CATEGORIES:Café
ATTACH;FMTTYPE=image/jpeg:https://sunpierhouse.co.uk/wp-content/uploads/2025/12/SPh-GalleryTearoom-20220622-56-9219-scaled.jpg
ORGANIZER;CN="Sun Pier House":MAILTO:info@sunpierhouse.co.uk
END:VEVENT
BEGIN:VEVENT
DTSTART;TZID=UTC:20271111T100000
DTEND;TZID=UTC:20271111T160000
DTSTAMP:20260420T145553
CREATED:20260309T135144Z
LAST-MODIFIED:20260326T132247Z
UID:10000386-1825927200-1825948800@sunpierhouse.co.uk
SUMMARY:Café Open
DESCRIPTION:Perched on the top floor of Sun Pier House\, our café offers stunning panoramic views of the River Medway\, stretching from Rochester Castle to Upnor Castle. This peaceful spot provides a welcome escape from the bustle of Chatham High Street and is the perfect place to soak up the atmosphere Thursdays\, Fridays and Saturdays.
URL:https://sunpierhouse.co.uk/whatson/cafe-open-3-6/2027-11-11/
LOCATION:Café\, Second Floor\, Sun Pier House\, Chatham\, Kent\, ME4 4HF
CATEGORIES:Café
ATTACH;FMTTYPE=image/jpeg:https://sunpierhouse.co.uk/wp-content/uploads/2025/12/SPh-GalleryTearoom-20220622-56-9219-scaled.jpg
ORGANIZER;CN="Sun Pier House":MAILTO:info@sunpierhouse.co.uk
END:VEVENT
BEGIN:VEVENT
DTSTART;TZID=UTC:20271112T100000
DTEND;TZID=UTC:20271112T160000
DTSTAMP:20260420T145553
CREATED:20260309T135144Z
LAST-MODIFIED:20260326T132247Z
UID:10000387-1826013600-1826035200@sunpierhouse.co.uk
SUMMARY:Café Open
DESCRIPTION:Perched on the top floor of Sun Pier House\, our café offers stunning panoramic views of the River Medway\, stretching from Rochester Castle to Upnor Castle. This peaceful spot provides a welcome escape from the bustle of Chatham High Street and is the perfect place to soak up the atmosphere Thursdays\, Fridays and Saturdays.
URL:https://sunpierhouse.co.uk/whatson/cafe-open-3-6/2027-11-12/
LOCATION:Café\, Second Floor\, Sun Pier House\, Chatham\, Kent\, ME4 4HF
CATEGORIES:Café
ATTACH;FMTTYPE=image/jpeg:https://sunpierhouse.co.uk/wp-content/uploads/2025/12/SPh-GalleryTearoom-20220622-56-9219-scaled.jpg
ORGANIZER;CN="Sun Pier House":MAILTO:info@sunpierhouse.co.uk
END:VEVENT
BEGIN:VEVENT
DTSTART;TZID=UTC:20271113T100000
DTEND;TZID=UTC:20271113T160000
DTSTAMP:20260420T145553
CREATED:20260309T135144Z
LAST-MODIFIED:20260326T132247Z
UID:10000388-1826100000-1826121600@sunpierhouse.co.uk
SUMMARY:Café Open
DESCRIPTION:Perched on the top floor of Sun Pier House\, our café offers stunning panoramic views of the River Medway\, stretching from Rochester Castle to Upnor Castle. This peaceful spot provides a welcome escape from the bustle of Chatham High Street and is the perfect place to soak up the atmosphere Thursdays\, Fridays and Saturdays.
URL:https://sunpierhouse.co.uk/whatson/cafe-open-3-6/2027-11-13/
LOCATION:Café\, Second Floor\, Sun Pier House\, Chatham\, Kent\, ME4 4HF
CATEGORIES:Café
ATTACH;FMTTYPE=image/jpeg:https://sunpierhouse.co.uk/wp-content/uploads/2025/12/SPh-GalleryTearoom-20220622-56-9219-scaled.jpg
ORGANIZER;CN="Sun Pier House":MAILTO:info@sunpierhouse.co.uk
END:VEVENT
BEGIN:VEVENT
DTSTART;TZID=UTC:20271118T100000
DTEND;TZID=UTC:20271118T160000
DTSTAMP:20260420T145553
CREATED:20260309T135144Z
LAST-MODIFIED:20260326T132247Z
UID:10000389-1826532000-1826553600@sunpierhouse.co.uk
SUMMARY:Café Open
DESCRIPTION:Perched on the top floor of Sun Pier House\, our café offers stunning panoramic views of the River Medway\, stretching from Rochester Castle to Upnor Castle. This peaceful spot provides a welcome escape from the bustle of Chatham High Street and is the perfect place to soak up the atmosphere Thursdays\, Fridays and Saturdays.
URL:https://sunpierhouse.co.uk/whatson/cafe-open-3-6/2027-11-18/
LOCATION:Café\, Second Floor\, Sun Pier House\, Chatham\, Kent\, ME4 4HF
CATEGORIES:Café
ATTACH;FMTTYPE=image/jpeg:https://sunpierhouse.co.uk/wp-content/uploads/2025/12/SPh-GalleryTearoom-20220622-56-9219-scaled.jpg
ORGANIZER;CN="Sun Pier House":MAILTO:info@sunpierhouse.co.uk
END:VEVENT
BEGIN:VEVENT
DTSTART;TZID=UTC:20271119T100000
DTEND;TZID=UTC:20271119T160000
DTSTAMP:20260420T145553
CREATED:20260309T135144Z
LAST-MODIFIED:20260326T132247Z
UID:10000390-1826618400-1826640000@sunpierhouse.co.uk
SUMMARY:Café Open
DESCRIPTION:Perched on the top floor of Sun Pier House\, our café offers stunning panoramic views of the River Medway\, stretching from Rochester Castle to Upnor Castle. This peaceful spot provides a welcome escape from the bustle of Chatham High Street and is the perfect place to soak up the atmosphere Thursdays\, Fridays and Saturdays.
URL:https://sunpierhouse.co.uk/whatson/cafe-open-3-6/2027-11-19/
LOCATION:Café\, Second Floor\, Sun Pier House\, Chatham\, Kent\, ME4 4HF
CATEGORIES:Café
ATTACH;FMTTYPE=image/jpeg:https://sunpierhouse.co.uk/wp-content/uploads/2025/12/SPh-GalleryTearoom-20220622-56-9219-scaled.jpg
ORGANIZER;CN="Sun Pier House":MAILTO:info@sunpierhouse.co.uk
END:VEVENT
BEGIN:VEVENT
DTSTART;TZID=UTC:20271120T100000
DTEND;TZID=UTC:20271120T160000
DTSTAMP:20260420T145553
CREATED:20260309T135144Z
LAST-MODIFIED:20260326T132247Z
UID:10000391-1826704800-1826726400@sunpierhouse.co.uk
SUMMARY:Café Open
DESCRIPTION:Perched on the top floor of Sun Pier House\, our café offers stunning panoramic views of the River Medway\, stretching from Rochester Castle to Upnor Castle. This peaceful spot provides a welcome escape from the bustle of Chatham High Street and is the perfect place to soak up the atmosphere Thursdays\, Fridays and Saturdays.
URL:https://sunpierhouse.co.uk/whatson/cafe-open-3-6/2027-11-20/
LOCATION:Café\, Second Floor\, Sun Pier House\, Chatham\, Kent\, ME4 4HF
CATEGORIES:Café
ATTACH;FMTTYPE=image/jpeg:https://sunpierhouse.co.uk/wp-content/uploads/2025/12/SPh-GalleryTearoom-20220622-56-9219-scaled.jpg
ORGANIZER;CN="Sun Pier House":MAILTO:info@sunpierhouse.co.uk
END:VEVENT
BEGIN:VEVENT
DTSTART;TZID=UTC:20271125T100000
DTEND;TZID=UTC:20271125T160000
DTSTAMP:20260420T145553
CREATED:20260309T135144Z
LAST-MODIFIED:20260326T132247Z
UID:10000392-1827136800-1827158400@sunpierhouse.co.uk
SUMMARY:Café Open
DESCRIPTION:Perched on the top floor of Sun Pier House\, our café offers stunning panoramic views of the River Medway\, stretching from Rochester Castle to Upnor Castle. This peaceful spot provides a welcome escape from the bustle of Chatham High Street and is the perfect place to soak up the atmosphere Thursdays\, Fridays and Saturdays.
URL:https://sunpierhouse.co.uk/whatson/cafe-open-3-6/2027-11-25/
LOCATION:Café\, Second Floor\, Sun Pier House\, Chatham\, Kent\, ME4 4HF
CATEGORIES:Café
ATTACH;FMTTYPE=image/jpeg:https://sunpierhouse.co.uk/wp-content/uploads/2025/12/SPh-GalleryTearoom-20220622-56-9219-scaled.jpg
ORGANIZER;CN="Sun Pier House":MAILTO:info@sunpierhouse.co.uk
END:VEVENT
BEGIN:VEVENT
DTSTART;TZID=UTC:20271126T100000
DTEND;TZID=UTC:20271126T160000
DTSTAMP:20260420T145553
CREATED:20260309T135144Z
LAST-MODIFIED:20260326T132247Z
UID:10000393-1827223200-1827244800@sunpierhouse.co.uk
SUMMARY:Café Open
DESCRIPTION:Perched on the top floor of Sun Pier House\, our café offers stunning panoramic views of the River Medway\, stretching from Rochester Castle to Upnor Castle. This peaceful spot provides a welcome escape from the bustle of Chatham High Street and is the perfect place to soak up the atmosphere Thursdays\, Fridays and Saturdays.
URL:https://sunpierhouse.co.uk/whatson/cafe-open-3-6/2027-11-26/
LOCATION:Café\, Second Floor\, Sun Pier House\, Chatham\, Kent\, ME4 4HF
CATEGORIES:Café
ATTACH;FMTTYPE=image/jpeg:https://sunpierhouse.co.uk/wp-content/uploads/2025/12/SPh-GalleryTearoom-20220622-56-9219-scaled.jpg
ORGANIZER;CN="Sun Pier House":MAILTO:info@sunpierhouse.co.uk
END:VEVENT
BEGIN:VEVENT
DTSTART;TZID=UTC:20271127T100000
DTEND;TZID=UTC:20271127T160000
DTSTAMP:20260420T145553
CREATED:20260309T135144Z
LAST-MODIFIED:20260326T132247Z
UID:10000394-1827309600-1827331200@sunpierhouse.co.uk
SUMMARY:Café Open
DESCRIPTION:Perched on the top floor of Sun Pier House\, our café offers stunning panoramic views of the River Medway\, stretching from Rochester Castle to Upnor Castle. This peaceful spot provides a welcome escape from the bustle of Chatham High Street and is the perfect place to soak up the atmosphere Thursdays\, Fridays and Saturdays.
URL:https://sunpierhouse.co.uk/whatson/cafe-open-3-6/2027-11-27/
LOCATION:Café\, Second Floor\, Sun Pier House\, Chatham\, Kent\, ME4 4HF
CATEGORIES:Café
ATTACH;FMTTYPE=image/jpeg:https://sunpierhouse.co.uk/wp-content/uploads/2025/12/SPh-GalleryTearoom-20220622-56-9219-scaled.jpg
ORGANIZER;CN="Sun Pier House":MAILTO:info@sunpierhouse.co.uk
END:VEVENT
END:VCALENDAR