BEGIN:VCALENDAR
VERSION:2.0
PRODID:-//Sun Pier House CIC - ECPv6.15.18//NONSGML v1.0//EN
CALSCALE:GREGORIAN
METHOD:PUBLISH
X-WR-CALNAME:Sun Pier House CIC
X-ORIGINAL-URL:https://sunpierhouse.co.uk
X-WR-CALDESC:Events for Sun Pier House CIC
REFRESH-INTERVAL;VALUE=DURATION:PT1H
X-Robots-Tag:noindex
X-PUBLISHED-TTL:PT1H
BEGIN:VTIMEZONE
TZID:UTC
BEGIN:STANDARD
TZOFFSETFROM:+0000
TZOFFSETTO:+0000
TZNAME:UTC
DTSTART:20250101T000000
END:STANDARD
END:VTIMEZONE
BEGIN:VEVENT
DTSTART;TZID=UTC:20260701T100000
DTEND;TZID=UTC:20260701T120000
DTSTAMP:20260419T123637
CREATED:20260309T114826Z
LAST-MODIFIED:20260326T130924Z
UID:10000126-1782900000-1782907200@sunpierhouse.co.uk
SUMMARY:Wednesday Art Club
DESCRIPTION:Artist-led sessions allowing participants to work on their own projects or explore new techniques
URL:https://sunpierhouse.co.uk/whatson/wednesday-art-club-4/2026-07-01/
LOCATION:Creation Space\, Ground Floor\, Sun Pier House\, Chatham\, Kent\, ME4 4HF
CATEGORIES:Class
ATTACH;FMTTYPE=image/jpeg:https://sunpierhouse.co.uk/wp-content/uploads/2026/03/WAC-Web-1.jpg
ORGANIZER;CN="Sun Pier House":MAILTO:info@sunpierhouse.co.uk
END:VEVENT
BEGIN:VEVENT
DTSTART;TZID=UTC:20260702T100000
DTEND;TZID=UTC:20260702T120000
DTSTAMP:20260419T123637
CREATED:20260309T115029Z
LAST-MODIFIED:20260326T130735Z
UID:10000062-1782986400-1782993600@sunpierhouse.co.uk
SUMMARY:Thursday Art Club
DESCRIPTION:Artist-led sessions allowing participants to work on their own projects or explore new techniques
URL:https://sunpierhouse.co.uk/whatson/thursday-art-club-4/2026-07-02/
LOCATION:Creation Space\, Ground Floor\, Sun Pier House\, Chatham\, Kent\, ME4 4HF
CATEGORIES:Class
ATTACH;FMTTYPE=image/jpeg:https://sunpierhouse.co.uk/wp-content/uploads/2026/03/TAC-Web.jpg
ORGANIZER;CN="Sun Pier House":MAILTO:info@sunpierhouse.co.uk
END:VEVENT
BEGIN:VEVENT
DTSTART;TZID=UTC:20260706T091500
DTEND;TZID=UTC:20260706T123000
DTSTAMP:20260419T123637
CREATED:20260326T142758Z
LAST-MODIFIED:20260326T142758Z
UID:10001199-1783329300-1783341000@sunpierhouse.co.uk
SUMMARY:Zen Go Yoga
DESCRIPTION:Join Angela from Zen Go yoga for 3 different classes every Monday.
URL:https://sunpierhouse.co.uk/whatson/zen-go-yoga/2026-07-06/
LOCATION:Community Hire Space\, First Floor\, Sun Pier House\, Chatham\, Kent\, ME4 4HF
CATEGORIES:Class
ATTACH;FMTTYPE=image/jpeg:https://sunpierhouse.co.uk/wp-content/uploads/2026/03/yoga-banner.jpg
ORGANIZER;CN="Zen Go Yoga":MAILTO:zengomedway@gmail.com
END:VEVENT
BEGIN:VEVENT
DTSTART;TZID=UTC:20260706T100000
DTEND;TZID=UTC:20260706T120000
DTSTAMP:20260419T123637
CREATED:20260309T131507Z
LAST-MODIFIED:20260326T131745Z
UID:10000138-1783332000-1783339200@sunpierhouse.co.uk
SUMMARY:Life Drawing Sessions
DESCRIPTION:Self-led Life Drawing sessions held weekly in the Creation Space organised by a local art group. \nContact Lynn for more information at lynn-drew@outlook.com
URL:https://sunpierhouse.co.uk/whatson/life-drawing-classes-2/2026-07-06/
LOCATION:Creation Space\, Ground Floor\, Sun Pier House\, Chatham\, Kent\, ME4 4HF
CATEGORIES:Class
ATTACH;FMTTYPE=image/jpeg:https://sunpierhouse.co.uk/wp-content/uploads/2026/03/Web-images.jpg
ORGANIZER;CN="Sun Pier Life Drawing":MAILTO:lynn-drew@outlook.com
END:VEVENT
BEGIN:VEVENT
DTSTART;TZID=UTC:20260708T100000
DTEND;TZID=UTC:20260708T120000
DTSTAMP:20260419T123637
CREATED:20260309T114826Z
LAST-MODIFIED:20260326T130924Z
UID:10000127-1783504800-1783512000@sunpierhouse.co.uk
SUMMARY:Wednesday Art Club
DESCRIPTION:Artist-led sessions allowing participants to work on their own projects or explore new techniques
URL:https://sunpierhouse.co.uk/whatson/wednesday-art-club-4/2026-07-08/
LOCATION:Creation Space\, Ground Floor\, Sun Pier House\, Chatham\, Kent\, ME4 4HF
CATEGORIES:Class
ATTACH;FMTTYPE=image/jpeg:https://sunpierhouse.co.uk/wp-content/uploads/2026/03/WAC-Web-1.jpg
ORGANIZER;CN="Sun Pier House":MAILTO:info@sunpierhouse.co.uk
END:VEVENT
BEGIN:VEVENT
DTSTART;TZID=UTC:20260709T100000
DTEND;TZID=UTC:20260709T120000
DTSTAMP:20260419T123637
CREATED:20260309T115029Z
LAST-MODIFIED:20260326T130735Z
UID:10000063-1783591200-1783598400@sunpierhouse.co.uk
SUMMARY:Thursday Art Club
DESCRIPTION:Artist-led sessions allowing participants to work on their own projects or explore new techniques
URL:https://sunpierhouse.co.uk/whatson/thursday-art-club-4/2026-07-09/
LOCATION:Creation Space\, Ground Floor\, Sun Pier House\, Chatham\, Kent\, ME4 4HF
CATEGORIES:Class
ATTACH;FMTTYPE=image/jpeg:https://sunpierhouse.co.uk/wp-content/uploads/2026/03/TAC-Web.jpg
ORGANIZER;CN="Sun Pier House":MAILTO:info@sunpierhouse.co.uk
END:VEVENT
BEGIN:VEVENT
DTSTART;TZID=UTC:20260713T091500
DTEND;TZID=UTC:20260713T123000
DTSTAMP:20260419T123637
CREATED:20260326T142758Z
LAST-MODIFIED:20260326T142758Z
UID:10001200-1783934100-1783945800@sunpierhouse.co.uk
SUMMARY:Zen Go Yoga
DESCRIPTION:Join Angela from Zen Go yoga for 3 different classes every Monday.
URL:https://sunpierhouse.co.uk/whatson/zen-go-yoga/2026-07-13/
LOCATION:Community Hire Space\, First Floor\, Sun Pier House\, Chatham\, Kent\, ME4 4HF
CATEGORIES:Class
ATTACH;FMTTYPE=image/jpeg:https://sunpierhouse.co.uk/wp-content/uploads/2026/03/yoga-banner.jpg
ORGANIZER;CN="Zen Go Yoga":MAILTO:zengomedway@gmail.com
END:VEVENT
BEGIN:VEVENT
DTSTART;TZID=UTC:20260715T100000
DTEND;TZID=UTC:20260715T120000
DTSTAMP:20260419T123637
CREATED:20260309T114826Z
LAST-MODIFIED:20260326T130924Z
UID:10000128-1784109600-1784116800@sunpierhouse.co.uk
SUMMARY:Wednesday Art Club
DESCRIPTION:Artist-led sessions allowing participants to work on their own projects or explore new techniques
URL:https://sunpierhouse.co.uk/whatson/wednesday-art-club-4/2026-07-15/
LOCATION:Creation Space\, Ground Floor\, Sun Pier House\, Chatham\, Kent\, ME4 4HF
CATEGORIES:Class
ATTACH;FMTTYPE=image/jpeg:https://sunpierhouse.co.uk/wp-content/uploads/2026/03/WAC-Web-1.jpg
ORGANIZER;CN="Sun Pier House":MAILTO:info@sunpierhouse.co.uk
END:VEVENT
BEGIN:VEVENT
DTSTART;TZID=UTC:20260716T100000
DTEND;TZID=UTC:20260716T120000
DTSTAMP:20260419T123637
CREATED:20260309T115029Z
LAST-MODIFIED:20260326T130735Z
UID:10000064-1784196000-1784203200@sunpierhouse.co.uk
SUMMARY:Thursday Art Club
DESCRIPTION:Artist-led sessions allowing participants to work on their own projects or explore new techniques
URL:https://sunpierhouse.co.uk/whatson/thursday-art-club-4/2026-07-16/
LOCATION:Creation Space\, Ground Floor\, Sun Pier House\, Chatham\, Kent\, ME4 4HF
CATEGORIES:Class
ATTACH;FMTTYPE=image/jpeg:https://sunpierhouse.co.uk/wp-content/uploads/2026/03/TAC-Web.jpg
ORGANIZER;CN="Sun Pier House":MAILTO:info@sunpierhouse.co.uk
END:VEVENT
BEGIN:VEVENT
DTSTART;TZID=UTC:20260720T091500
DTEND;TZID=UTC:20260720T123000
DTSTAMP:20260419T123637
CREATED:20260326T142758Z
LAST-MODIFIED:20260326T142758Z
UID:10001201-1784538900-1784550600@sunpierhouse.co.uk
SUMMARY:Zen Go Yoga
DESCRIPTION:Join Angela from Zen Go yoga for 3 different classes every Monday.
URL:https://sunpierhouse.co.uk/whatson/zen-go-yoga/2026-07-20/
LOCATION:Community Hire Space\, First Floor\, Sun Pier House\, Chatham\, Kent\, ME4 4HF
CATEGORIES:Class
ATTACH;FMTTYPE=image/jpeg:https://sunpierhouse.co.uk/wp-content/uploads/2026/03/yoga-banner.jpg
ORGANIZER;CN="Zen Go Yoga":MAILTO:zengomedway@gmail.com
END:VEVENT
BEGIN:VEVENT
DTSTART;TZID=UTC:20260727T091500
DTEND;TZID=UTC:20260727T123000
DTSTAMP:20260419T123637
CREATED:20260326T142758Z
LAST-MODIFIED:20260326T142758Z
UID:10001202-1785143700-1785155400@sunpierhouse.co.uk
SUMMARY:Zen Go Yoga
DESCRIPTION:Join Angela from Zen Go yoga for 3 different classes every Monday.
URL:https://sunpierhouse.co.uk/whatson/zen-go-yoga/2026-07-27/
LOCATION:Community Hire Space\, First Floor\, Sun Pier House\, Chatham\, Kent\, ME4 4HF
CATEGORIES:Class
ATTACH;FMTTYPE=image/jpeg:https://sunpierhouse.co.uk/wp-content/uploads/2026/03/yoga-banner.jpg
ORGANIZER;CN="Zen Go Yoga":MAILTO:zengomedway@gmail.com
END:VEVENT
END:VCALENDAR