BEGIN:VCALENDAR
VERSION:2.0
PRODID:-//Sun Pier House CIC - ECPv6.15.18//NONSGML v1.0//EN
CALSCALE:GREGORIAN
METHOD:PUBLISH
X-WR-CALNAME:Sun Pier House CIC
X-ORIGINAL-URL:https://sunpierhouse.co.uk
X-WR-CALDESC:Events for Sun Pier House CIC
REFRESH-INTERVAL;VALUE=DURATION:PT1H
X-Robots-Tag:noindex
X-PUBLISHED-TTL:PT1H
BEGIN:VTIMEZONE
TZID:UTC
BEGIN:STANDARD
TZOFFSETFROM:+0000
TZOFFSETTO:+0000
TZNAME:UTC
DTSTART:20280101T000000
END:STANDARD
END:VTIMEZONE
BEGIN:VEVENT
DTSTART;TZID=UTC:20290507T091500
DTEND;TZID=UTC:20290507T123000
DTSTAMP:20260424T012847
CREATED:20260326T142758Z
LAST-MODIFIED:20260326T142758Z
UID:10001347-1872839700-1872851400@sunpierhouse.co.uk
SUMMARY:Zen Go Yoga
DESCRIPTION:Join Angela from Zen Go yoga for 3 different classes every Monday.
URL:https://sunpierhouse.co.uk/whatson/zen-go-yoga/2029-05-07/
LOCATION:Community Hire Space\, First Floor\, Sun Pier House\, Chatham\, Kent\, ME4 4HF
CATEGORIES:Class
ATTACH;FMTTYPE=image/jpeg:https://sunpierhouse.co.uk/wp-content/uploads/2026/03/yoga-banner.jpg
ORGANIZER;CN="Zen Go Yoga":MAILTO:zengomedway@gmail.com
END:VEVENT
BEGIN:VEVENT
DTSTART;TZID=UTC:20290514T091500
DTEND;TZID=UTC:20290514T123000
DTSTAMP:20260424T012847
CREATED:20260326T142758Z
LAST-MODIFIED:20260326T142758Z
UID:10001348-1873444500-1873456200@sunpierhouse.co.uk
SUMMARY:Zen Go Yoga
DESCRIPTION:Join Angela from Zen Go yoga for 3 different classes every Monday.
URL:https://sunpierhouse.co.uk/whatson/zen-go-yoga/2029-05-14/
LOCATION:Community Hire Space\, First Floor\, Sun Pier House\, Chatham\, Kent\, ME4 4HF
CATEGORIES:Class
ATTACH;FMTTYPE=image/jpeg:https://sunpierhouse.co.uk/wp-content/uploads/2026/03/yoga-banner.jpg
ORGANIZER;CN="Zen Go Yoga":MAILTO:zengomedway@gmail.com
END:VEVENT
BEGIN:VEVENT
DTSTART;TZID=UTC:20290521T091500
DTEND;TZID=UTC:20290521T123000
DTSTAMP:20260424T012847
CREATED:20260326T142758Z
LAST-MODIFIED:20260326T142758Z
UID:10001349-1874049300-1874061000@sunpierhouse.co.uk
SUMMARY:Zen Go Yoga
DESCRIPTION:Join Angela from Zen Go yoga for 3 different classes every Monday.
URL:https://sunpierhouse.co.uk/whatson/zen-go-yoga/2029-05-21/
LOCATION:Community Hire Space\, First Floor\, Sun Pier House\, Chatham\, Kent\, ME4 4HF
CATEGORIES:Class
ATTACH;FMTTYPE=image/jpeg:https://sunpierhouse.co.uk/wp-content/uploads/2026/03/yoga-banner.jpg
ORGANIZER;CN="Zen Go Yoga":MAILTO:zengomedway@gmail.com
END:VEVENT
BEGIN:VEVENT
DTSTART;TZID=UTC:20290528T091500
DTEND;TZID=UTC:20290528T123000
DTSTAMP:20260424T012847
CREATED:20260326T142758Z
LAST-MODIFIED:20260326T142758Z
UID:10001350-1874654100-1874665800@sunpierhouse.co.uk
SUMMARY:Zen Go Yoga
DESCRIPTION:Join Angela from Zen Go yoga for 3 different classes every Monday.
URL:https://sunpierhouse.co.uk/whatson/zen-go-yoga/2029-05-28/
LOCATION:Community Hire Space\, First Floor\, Sun Pier House\, Chatham\, Kent\, ME4 4HF
CATEGORIES:Class
ATTACH;FMTTYPE=image/jpeg:https://sunpierhouse.co.uk/wp-content/uploads/2026/03/yoga-banner.jpg
ORGANIZER;CN="Zen Go Yoga":MAILTO:zengomedway@gmail.com
END:VEVENT
END:VCALENDAR