BEGIN:VCALENDAR
VERSION:2.0
PRODID:-//Sun Pier House CIC - ECPv6.15.18//NONSGML v1.0//EN
CALSCALE:GREGORIAN
METHOD:PUBLISH
X-WR-CALNAME:Sun Pier House CIC
X-ORIGINAL-URL:https://sunpierhouse.co.uk
X-WR-CALDESC:Events for Sun Pier House CIC
REFRESH-INTERVAL;VALUE=DURATION:PT1H
X-Robots-Tag:noindex
X-PUBLISHED-TTL:PT1H
BEGIN:VTIMEZONE
TZID:UTC
BEGIN:STANDARD
TZOFFSETFROM:+0000
TZOFFSETTO:+0000
TZNAME:UTC
DTSTART:20270101T000000
END:STANDARD
END:VTIMEZONE
BEGIN:VEVENT
DTSTART;TZID=UTC:20280417T091500
DTEND;TZID=UTC:20280417T123000
DTSTAMP:20260420T063515
CREATED:20260326T142758Z
LAST-MODIFIED:20260326T142758Z
UID:10001292-1839575700-1839587400@sunpierhouse.co.uk
SUMMARY:Zen Go Yoga
DESCRIPTION:Join Angela from Zen Go yoga for 3 different classes every Monday.
URL:https://sunpierhouse.co.uk/whatson/zen-go-yoga/2028-04-17/
LOCATION:Community Hire Space\, First Floor\, Sun Pier House\, Chatham\, Kent\, ME4 4HF
CATEGORIES:Class
ATTACH;FMTTYPE=image/jpeg:https://sunpierhouse.co.uk/wp-content/uploads/2026/03/yoga-banner.jpg
ORGANIZER;CN="Zen Go Yoga":MAILTO:zengomedway@gmail.com
END:VEVENT
BEGIN:VEVENT
DTSTART;TZID=UTC:20280424T091500
DTEND;TZID=UTC:20280424T123000
DTSTAMP:20260420T063515
CREATED:20260326T142758Z
LAST-MODIFIED:20260326T142758Z
UID:10001293-1840180500-1840192200@sunpierhouse.co.uk
SUMMARY:Zen Go Yoga
DESCRIPTION:Join Angela from Zen Go yoga for 3 different classes every Monday.
URL:https://sunpierhouse.co.uk/whatson/zen-go-yoga/2028-04-24/
LOCATION:Community Hire Space\, First Floor\, Sun Pier House\, Chatham\, Kent\, ME4 4HF
CATEGORIES:Class
ATTACH;FMTTYPE=image/jpeg:https://sunpierhouse.co.uk/wp-content/uploads/2026/03/yoga-banner.jpg
ORGANIZER;CN="Zen Go Yoga":MAILTO:zengomedway@gmail.com
END:VEVENT
BEGIN:VEVENT
DTSTART;TZID=UTC:20280501T091500
DTEND;TZID=UTC:20280501T123000
DTSTAMP:20260420T063515
CREATED:20260326T142758Z
LAST-MODIFIED:20260326T142758Z
UID:10001294-1840785300-1840797000@sunpierhouse.co.uk
SUMMARY:Zen Go Yoga
DESCRIPTION:Join Angela from Zen Go yoga for 3 different classes every Monday.
URL:https://sunpierhouse.co.uk/whatson/zen-go-yoga/2028-05-01/
LOCATION:Community Hire Space\, First Floor\, Sun Pier House\, Chatham\, Kent\, ME4 4HF
CATEGORIES:Class
ATTACH;FMTTYPE=image/jpeg:https://sunpierhouse.co.uk/wp-content/uploads/2026/03/yoga-banner.jpg
ORGANIZER;CN="Zen Go Yoga":MAILTO:zengomedway@gmail.com
END:VEVENT
BEGIN:VEVENT
DTSTART;TZID=UTC:20280508T091500
DTEND;TZID=UTC:20280508T123000
DTSTAMP:20260420T063515
CREATED:20260326T142758Z
LAST-MODIFIED:20260326T142758Z
UID:10001295-1841390100-1841401800@sunpierhouse.co.uk
SUMMARY:Zen Go Yoga
DESCRIPTION:Join Angela from Zen Go yoga for 3 different classes every Monday.
URL:https://sunpierhouse.co.uk/whatson/zen-go-yoga/2028-05-08/
LOCATION:Community Hire Space\, First Floor\, Sun Pier House\, Chatham\, Kent\, ME4 4HF
CATEGORIES:Class
ATTACH;FMTTYPE=image/jpeg:https://sunpierhouse.co.uk/wp-content/uploads/2026/03/yoga-banner.jpg
ORGANIZER;CN="Zen Go Yoga":MAILTO:zengomedway@gmail.com
END:VEVENT
BEGIN:VEVENT
DTSTART;TZID=UTC:20280515T091500
DTEND;TZID=UTC:20280515T123000
DTSTAMP:20260420T063515
CREATED:20260326T142758Z
LAST-MODIFIED:20260326T142758Z
UID:10001296-1841994900-1842006600@sunpierhouse.co.uk
SUMMARY:Zen Go Yoga
DESCRIPTION:Join Angela from Zen Go yoga for 3 different classes every Monday.
URL:https://sunpierhouse.co.uk/whatson/zen-go-yoga/2028-05-15/
LOCATION:Community Hire Space\, First Floor\, Sun Pier House\, Chatham\, Kent\, ME4 4HF
CATEGORIES:Class
ATTACH;FMTTYPE=image/jpeg:https://sunpierhouse.co.uk/wp-content/uploads/2026/03/yoga-banner.jpg
ORGANIZER;CN="Zen Go Yoga":MAILTO:zengomedway@gmail.com
END:VEVENT
BEGIN:VEVENT
DTSTART;TZID=UTC:20280522T091500
DTEND;TZID=UTC:20280522T123000
DTSTAMP:20260420T063515
CREATED:20260326T142758Z
LAST-MODIFIED:20260326T142758Z
UID:10001297-1842599700-1842611400@sunpierhouse.co.uk
SUMMARY:Zen Go Yoga
DESCRIPTION:Join Angela from Zen Go yoga for 3 different classes every Monday.
URL:https://sunpierhouse.co.uk/whatson/zen-go-yoga/2028-05-22/
LOCATION:Community Hire Space\, First Floor\, Sun Pier House\, Chatham\, Kent\, ME4 4HF
CATEGORIES:Class
ATTACH;FMTTYPE=image/jpeg:https://sunpierhouse.co.uk/wp-content/uploads/2026/03/yoga-banner.jpg
ORGANIZER;CN="Zen Go Yoga":MAILTO:zengomedway@gmail.com
END:VEVENT
BEGIN:VEVENT
DTSTART;TZID=UTC:20280529T091500
DTEND;TZID=UTC:20280529T123000
DTSTAMP:20260420T063515
CREATED:20260326T142758Z
LAST-MODIFIED:20260326T142758Z
UID:10001298-1843204500-1843216200@sunpierhouse.co.uk
SUMMARY:Zen Go Yoga
DESCRIPTION:Join Angela from Zen Go yoga for 3 different classes every Monday.
URL:https://sunpierhouse.co.uk/whatson/zen-go-yoga/2028-05-29/
LOCATION:Community Hire Space\, First Floor\, Sun Pier House\, Chatham\, Kent\, ME4 4HF
CATEGORIES:Class
ATTACH;FMTTYPE=image/jpeg:https://sunpierhouse.co.uk/wp-content/uploads/2026/03/yoga-banner.jpg
ORGANIZER;CN="Zen Go Yoga":MAILTO:zengomedway@gmail.com
END:VEVENT
BEGIN:VEVENT
DTSTART;TZID=UTC:20280605T091500
DTEND;TZID=UTC:20280605T123000
DTSTAMP:20260420T063515
CREATED:20260326T142758Z
LAST-MODIFIED:20260326T142758Z
UID:10001299-1843809300-1843821000@sunpierhouse.co.uk
SUMMARY:Zen Go Yoga
DESCRIPTION:Join Angela from Zen Go yoga for 3 different classes every Monday.
URL:https://sunpierhouse.co.uk/whatson/zen-go-yoga/2028-06-05/
LOCATION:Community Hire Space\, First Floor\, Sun Pier House\, Chatham\, Kent\, ME4 4HF
CATEGORIES:Class
ATTACH;FMTTYPE=image/jpeg:https://sunpierhouse.co.uk/wp-content/uploads/2026/03/yoga-banner.jpg
ORGANIZER;CN="Zen Go Yoga":MAILTO:zengomedway@gmail.com
END:VEVENT
BEGIN:VEVENT
DTSTART;TZID=UTC:20280612T091500
DTEND;TZID=UTC:20280612T123000
DTSTAMP:20260420T063515
CREATED:20260326T142758Z
LAST-MODIFIED:20260326T142758Z
UID:10001300-1844414100-1844425800@sunpierhouse.co.uk
SUMMARY:Zen Go Yoga
DESCRIPTION:Join Angela from Zen Go yoga for 3 different classes every Monday.
URL:https://sunpierhouse.co.uk/whatson/zen-go-yoga/2028-06-12/
LOCATION:Community Hire Space\, First Floor\, Sun Pier House\, Chatham\, Kent\, ME4 4HF
CATEGORIES:Class
ATTACH;FMTTYPE=image/jpeg:https://sunpierhouse.co.uk/wp-content/uploads/2026/03/yoga-banner.jpg
ORGANIZER;CN="Zen Go Yoga":MAILTO:zengomedway@gmail.com
END:VEVENT
BEGIN:VEVENT
DTSTART;TZID=UTC:20280619T091500
DTEND;TZID=UTC:20280619T123000
DTSTAMP:20260420T063515
CREATED:20260326T142758Z
LAST-MODIFIED:20260326T142758Z
UID:10001301-1845018900-1845030600@sunpierhouse.co.uk
SUMMARY:Zen Go Yoga
DESCRIPTION:Join Angela from Zen Go yoga for 3 different classes every Monday.
URL:https://sunpierhouse.co.uk/whatson/zen-go-yoga/2028-06-19/
LOCATION:Community Hire Space\, First Floor\, Sun Pier House\, Chatham\, Kent\, ME4 4HF
CATEGORIES:Class
ATTACH;FMTTYPE=image/jpeg:https://sunpierhouse.co.uk/wp-content/uploads/2026/03/yoga-banner.jpg
ORGANIZER;CN="Zen Go Yoga":MAILTO:zengomedway@gmail.com
END:VEVENT
BEGIN:VEVENT
DTSTART;TZID=UTC:20280626T091500
DTEND;TZID=UTC:20280626T123000
DTSTAMP:20260420T063515
CREATED:20260326T142758Z
LAST-MODIFIED:20260326T142758Z
UID:10001302-1845623700-1845635400@sunpierhouse.co.uk
SUMMARY:Zen Go Yoga
DESCRIPTION:Join Angela from Zen Go yoga for 3 different classes every Monday.
URL:https://sunpierhouse.co.uk/whatson/zen-go-yoga/2028-06-26/
LOCATION:Community Hire Space\, First Floor\, Sun Pier House\, Chatham\, Kent\, ME4 4HF
CATEGORIES:Class
ATTACH;FMTTYPE=image/jpeg:https://sunpierhouse.co.uk/wp-content/uploads/2026/03/yoga-banner.jpg
ORGANIZER;CN="Zen Go Yoga":MAILTO:zengomedway@gmail.com
END:VEVENT
BEGIN:VEVENT
DTSTART;TZID=UTC:20280703T091500
DTEND;TZID=UTC:20280703T123000
DTSTAMP:20260420T063516
CREATED:20260326T142758Z
LAST-MODIFIED:20260326T142758Z
UID:10001303-1846228500-1846240200@sunpierhouse.co.uk
SUMMARY:Zen Go Yoga
DESCRIPTION:Join Angela from Zen Go yoga for 3 different classes every Monday.
URL:https://sunpierhouse.co.uk/whatson/zen-go-yoga/2028-07-03/
LOCATION:Community Hire Space\, First Floor\, Sun Pier House\, Chatham\, Kent\, ME4 4HF
CATEGORIES:Class
ATTACH;FMTTYPE=image/jpeg:https://sunpierhouse.co.uk/wp-content/uploads/2026/03/yoga-banner.jpg
ORGANIZER;CN="Zen Go Yoga":MAILTO:zengomedway@gmail.com
END:VEVENT
BEGIN:VEVENT
DTSTART;TZID=UTC:20280710T091500
DTEND;TZID=UTC:20280710T123000
DTSTAMP:20260420T063516
CREATED:20260326T142758Z
LAST-MODIFIED:20260326T142758Z
UID:10001304-1846833300-1846845000@sunpierhouse.co.uk
SUMMARY:Zen Go Yoga
DESCRIPTION:Join Angela from Zen Go yoga for 3 different classes every Monday.
URL:https://sunpierhouse.co.uk/whatson/zen-go-yoga/2028-07-10/
LOCATION:Community Hire Space\, First Floor\, Sun Pier House\, Chatham\, Kent\, ME4 4HF
CATEGORIES:Class
ATTACH;FMTTYPE=image/jpeg:https://sunpierhouse.co.uk/wp-content/uploads/2026/03/yoga-banner.jpg
ORGANIZER;CN="Zen Go Yoga":MAILTO:zengomedway@gmail.com
END:VEVENT
BEGIN:VEVENT
DTSTART;TZID=UTC:20280717T091500
DTEND;TZID=UTC:20280717T123000
DTSTAMP:20260420T063516
CREATED:20260326T142758Z
LAST-MODIFIED:20260326T142758Z
UID:10001305-1847438100-1847449800@sunpierhouse.co.uk
SUMMARY:Zen Go Yoga
DESCRIPTION:Join Angela from Zen Go yoga for 3 different classes every Monday.
URL:https://sunpierhouse.co.uk/whatson/zen-go-yoga/2028-07-17/
LOCATION:Community Hire Space\, First Floor\, Sun Pier House\, Chatham\, Kent\, ME4 4HF
CATEGORIES:Class
ATTACH;FMTTYPE=image/jpeg:https://sunpierhouse.co.uk/wp-content/uploads/2026/03/yoga-banner.jpg
ORGANIZER;CN="Zen Go Yoga":MAILTO:zengomedway@gmail.com
END:VEVENT
BEGIN:VEVENT
DTSTART;TZID=UTC:20280724T091500
DTEND;TZID=UTC:20280724T123000
DTSTAMP:20260420T063516
CREATED:20260326T142758Z
LAST-MODIFIED:20260326T142758Z
UID:10001306-1848042900-1848054600@sunpierhouse.co.uk
SUMMARY:Zen Go Yoga
DESCRIPTION:Join Angela from Zen Go yoga for 3 different classes every Monday.
URL:https://sunpierhouse.co.uk/whatson/zen-go-yoga/2028-07-24/
LOCATION:Community Hire Space\, First Floor\, Sun Pier House\, Chatham\, Kent\, ME4 4HF
CATEGORIES:Class
ATTACH;FMTTYPE=image/jpeg:https://sunpierhouse.co.uk/wp-content/uploads/2026/03/yoga-banner.jpg
ORGANIZER;CN="Zen Go Yoga":MAILTO:zengomedway@gmail.com
END:VEVENT
BEGIN:VEVENT
DTSTART;TZID=UTC:20280731T091500
DTEND;TZID=UTC:20280731T123000
DTSTAMP:20260420T063516
CREATED:20260326T142758Z
LAST-MODIFIED:20260326T142758Z
UID:10001307-1848647700-1848659400@sunpierhouse.co.uk
SUMMARY:Zen Go Yoga
DESCRIPTION:Join Angela from Zen Go yoga for 3 different classes every Monday.
URL:https://sunpierhouse.co.uk/whatson/zen-go-yoga/2028-07-31/
LOCATION:Community Hire Space\, First Floor\, Sun Pier House\, Chatham\, Kent\, ME4 4HF
CATEGORIES:Class
ATTACH;FMTTYPE=image/jpeg:https://sunpierhouse.co.uk/wp-content/uploads/2026/03/yoga-banner.jpg
ORGANIZER;CN="Zen Go Yoga":MAILTO:zengomedway@gmail.com
END:VEVENT
BEGIN:VEVENT
DTSTART;TZID=UTC:20280807T091500
DTEND;TZID=UTC:20280807T123000
DTSTAMP:20260420T063516
CREATED:20260326T142758Z
LAST-MODIFIED:20260326T142758Z
UID:10001308-1849252500-1849264200@sunpierhouse.co.uk
SUMMARY:Zen Go Yoga
DESCRIPTION:Join Angela from Zen Go yoga for 3 different classes every Monday.
URL:https://sunpierhouse.co.uk/whatson/zen-go-yoga/2028-08-07/
LOCATION:Community Hire Space\, First Floor\, Sun Pier House\, Chatham\, Kent\, ME4 4HF
CATEGORIES:Class
ATTACH;FMTTYPE=image/jpeg:https://sunpierhouse.co.uk/wp-content/uploads/2026/03/yoga-banner.jpg
ORGANIZER;CN="Zen Go Yoga":MAILTO:zengomedway@gmail.com
END:VEVENT
BEGIN:VEVENT
DTSTART;TZID=UTC:20280814T091500
DTEND;TZID=UTC:20280814T123000
DTSTAMP:20260420T063516
CREATED:20260326T142758Z
LAST-MODIFIED:20260326T142758Z
UID:10001309-1849857300-1849869000@sunpierhouse.co.uk
SUMMARY:Zen Go Yoga
DESCRIPTION:Join Angela from Zen Go yoga for 3 different classes every Monday.
URL:https://sunpierhouse.co.uk/whatson/zen-go-yoga/2028-08-14/
LOCATION:Community Hire Space\, First Floor\, Sun Pier House\, Chatham\, Kent\, ME4 4HF
CATEGORIES:Class
ATTACH;FMTTYPE=image/jpeg:https://sunpierhouse.co.uk/wp-content/uploads/2026/03/yoga-banner.jpg
ORGANIZER;CN="Zen Go Yoga":MAILTO:zengomedway@gmail.com
END:VEVENT
BEGIN:VEVENT
DTSTART;TZID=UTC:20280821T091500
DTEND;TZID=UTC:20280821T123000
DTSTAMP:20260420T063516
CREATED:20260326T142758Z
LAST-MODIFIED:20260326T142758Z
UID:10001310-1850462100-1850473800@sunpierhouse.co.uk
SUMMARY:Zen Go Yoga
DESCRIPTION:Join Angela from Zen Go yoga for 3 different classes every Monday.
URL:https://sunpierhouse.co.uk/whatson/zen-go-yoga/2028-08-21/
LOCATION:Community Hire Space\, First Floor\, Sun Pier House\, Chatham\, Kent\, ME4 4HF
CATEGORIES:Class
ATTACH;FMTTYPE=image/jpeg:https://sunpierhouse.co.uk/wp-content/uploads/2026/03/yoga-banner.jpg
ORGANIZER;CN="Zen Go Yoga":MAILTO:zengomedway@gmail.com
END:VEVENT
BEGIN:VEVENT
DTSTART;TZID=UTC:20280828T091500
DTEND;TZID=UTC:20280828T123000
DTSTAMP:20260420T063516
CREATED:20260326T142758Z
LAST-MODIFIED:20260326T142758Z
UID:10001311-1851066900-1851078600@sunpierhouse.co.uk
SUMMARY:Zen Go Yoga
DESCRIPTION:Join Angela from Zen Go yoga for 3 different classes every Monday.
URL:https://sunpierhouse.co.uk/whatson/zen-go-yoga/2028-08-28/
LOCATION:Community Hire Space\, First Floor\, Sun Pier House\, Chatham\, Kent\, ME4 4HF
CATEGORIES:Class
ATTACH;FMTTYPE=image/jpeg:https://sunpierhouse.co.uk/wp-content/uploads/2026/03/yoga-banner.jpg
ORGANIZER;CN="Zen Go Yoga":MAILTO:zengomedway@gmail.com
END:VEVENT
BEGIN:VEVENT
DTSTART;TZID=UTC:20280904T091500
DTEND;TZID=UTC:20280904T123000
DTSTAMP:20260420T063516
CREATED:20260326T142758Z
LAST-MODIFIED:20260326T142758Z
UID:10001312-1851671700-1851683400@sunpierhouse.co.uk
SUMMARY:Zen Go Yoga
DESCRIPTION:Join Angela from Zen Go yoga for 3 different classes every Monday.
URL:https://sunpierhouse.co.uk/whatson/zen-go-yoga/2028-09-04/
LOCATION:Community Hire Space\, First Floor\, Sun Pier House\, Chatham\, Kent\, ME4 4HF
CATEGORIES:Class
ATTACH;FMTTYPE=image/jpeg:https://sunpierhouse.co.uk/wp-content/uploads/2026/03/yoga-banner.jpg
ORGANIZER;CN="Zen Go Yoga":MAILTO:zengomedway@gmail.com
END:VEVENT
BEGIN:VEVENT
DTSTART;TZID=UTC:20280911T091500
DTEND;TZID=UTC:20280911T123000
DTSTAMP:20260420T063516
CREATED:20260326T142758Z
LAST-MODIFIED:20260326T142758Z
UID:10001313-1852276500-1852288200@sunpierhouse.co.uk
SUMMARY:Zen Go Yoga
DESCRIPTION:Join Angela from Zen Go yoga for 3 different classes every Monday.
URL:https://sunpierhouse.co.uk/whatson/zen-go-yoga/2028-09-11/
LOCATION:Community Hire Space\, First Floor\, Sun Pier House\, Chatham\, Kent\, ME4 4HF
CATEGORIES:Class
ATTACH;FMTTYPE=image/jpeg:https://sunpierhouse.co.uk/wp-content/uploads/2026/03/yoga-banner.jpg
ORGANIZER;CN="Zen Go Yoga":MAILTO:zengomedway@gmail.com
END:VEVENT
BEGIN:VEVENT
DTSTART;TZID=UTC:20280918T091500
DTEND;TZID=UTC:20280918T123000
DTSTAMP:20260420T063516
CREATED:20260326T142758Z
LAST-MODIFIED:20260326T142758Z
UID:10001314-1852881300-1852893000@sunpierhouse.co.uk
SUMMARY:Zen Go Yoga
DESCRIPTION:Join Angela from Zen Go yoga for 3 different classes every Monday.
URL:https://sunpierhouse.co.uk/whatson/zen-go-yoga/2028-09-18/
LOCATION:Community Hire Space\, First Floor\, Sun Pier House\, Chatham\, Kent\, ME4 4HF
CATEGORIES:Class
ATTACH;FMTTYPE=image/jpeg:https://sunpierhouse.co.uk/wp-content/uploads/2026/03/yoga-banner.jpg
ORGANIZER;CN="Zen Go Yoga":MAILTO:zengomedway@gmail.com
END:VEVENT
BEGIN:VEVENT
DTSTART;TZID=UTC:20280925T091500
DTEND;TZID=UTC:20280925T123000
DTSTAMP:20260420T063516
CREATED:20260326T142758Z
LAST-MODIFIED:20260326T142758Z
UID:10001315-1853486100-1853497800@sunpierhouse.co.uk
SUMMARY:Zen Go Yoga
DESCRIPTION:Join Angela from Zen Go yoga for 3 different classes every Monday.
URL:https://sunpierhouse.co.uk/whatson/zen-go-yoga/2028-09-25/
LOCATION:Community Hire Space\, First Floor\, Sun Pier House\, Chatham\, Kent\, ME4 4HF
CATEGORIES:Class
ATTACH;FMTTYPE=image/jpeg:https://sunpierhouse.co.uk/wp-content/uploads/2026/03/yoga-banner.jpg
ORGANIZER;CN="Zen Go Yoga":MAILTO:zengomedway@gmail.com
END:VEVENT
BEGIN:VEVENT
DTSTART;TZID=UTC:20281002T091500
DTEND;TZID=UTC:20281002T123000
DTSTAMP:20260420T063516
CREATED:20260326T142758Z
LAST-MODIFIED:20260326T142758Z
UID:10001316-1854090900-1854102600@sunpierhouse.co.uk
SUMMARY:Zen Go Yoga
DESCRIPTION:Join Angela from Zen Go yoga for 3 different classes every Monday.
URL:https://sunpierhouse.co.uk/whatson/zen-go-yoga/2028-10-02/
LOCATION:Community Hire Space\, First Floor\, Sun Pier House\, Chatham\, Kent\, ME4 4HF
CATEGORIES:Class
ATTACH;FMTTYPE=image/jpeg:https://sunpierhouse.co.uk/wp-content/uploads/2026/03/yoga-banner.jpg
ORGANIZER;CN="Zen Go Yoga":MAILTO:zengomedway@gmail.com
END:VEVENT
BEGIN:VEVENT
DTSTART;TZID=UTC:20281009T091500
DTEND;TZID=UTC:20281009T123000
DTSTAMP:20260420T063516
CREATED:20260326T142758Z
LAST-MODIFIED:20260326T142758Z
UID:10001317-1854695700-1854707400@sunpierhouse.co.uk
SUMMARY:Zen Go Yoga
DESCRIPTION:Join Angela from Zen Go yoga for 3 different classes every Monday.
URL:https://sunpierhouse.co.uk/whatson/zen-go-yoga/2028-10-09/
LOCATION:Community Hire Space\, First Floor\, Sun Pier House\, Chatham\, Kent\, ME4 4HF
CATEGORIES:Class
ATTACH;FMTTYPE=image/jpeg:https://sunpierhouse.co.uk/wp-content/uploads/2026/03/yoga-banner.jpg
ORGANIZER;CN="Zen Go Yoga":MAILTO:zengomedway@gmail.com
END:VEVENT
BEGIN:VEVENT
DTSTART;TZID=UTC:20281016T091500
DTEND;TZID=UTC:20281016T123000
DTSTAMP:20260420T063516
CREATED:20260326T142758Z
LAST-MODIFIED:20260326T142758Z
UID:10001318-1855300500-1855312200@sunpierhouse.co.uk
SUMMARY:Zen Go Yoga
DESCRIPTION:Join Angela from Zen Go yoga for 3 different classes every Monday.
URL:https://sunpierhouse.co.uk/whatson/zen-go-yoga/2028-10-16/
LOCATION:Community Hire Space\, First Floor\, Sun Pier House\, Chatham\, Kent\, ME4 4HF
CATEGORIES:Class
ATTACH;FMTTYPE=image/jpeg:https://sunpierhouse.co.uk/wp-content/uploads/2026/03/yoga-banner.jpg
ORGANIZER;CN="Zen Go Yoga":MAILTO:zengomedway@gmail.com
END:VEVENT
BEGIN:VEVENT
DTSTART;TZID=UTC:20281023T091500
DTEND;TZID=UTC:20281023T123000
DTSTAMP:20260420T063516
CREATED:20260326T142758Z
LAST-MODIFIED:20260326T142758Z
UID:10001319-1855905300-1855917000@sunpierhouse.co.uk
SUMMARY:Zen Go Yoga
DESCRIPTION:Join Angela from Zen Go yoga for 3 different classes every Monday.
URL:https://sunpierhouse.co.uk/whatson/zen-go-yoga/2028-10-23/
LOCATION:Community Hire Space\, First Floor\, Sun Pier House\, Chatham\, Kent\, ME4 4HF
CATEGORIES:Class
ATTACH;FMTTYPE=image/jpeg:https://sunpierhouse.co.uk/wp-content/uploads/2026/03/yoga-banner.jpg
ORGANIZER;CN="Zen Go Yoga":MAILTO:zengomedway@gmail.com
END:VEVENT
BEGIN:VEVENT
DTSTART;TZID=UTC:20281030T091500
DTEND;TZID=UTC:20281030T123000
DTSTAMP:20260420T063516
CREATED:20260326T142758Z
LAST-MODIFIED:20260326T142758Z
UID:10001320-1856510100-1856521800@sunpierhouse.co.uk
SUMMARY:Zen Go Yoga
DESCRIPTION:Join Angela from Zen Go yoga for 3 different classes every Monday.
URL:https://sunpierhouse.co.uk/whatson/zen-go-yoga/2028-10-30/
LOCATION:Community Hire Space\, First Floor\, Sun Pier House\, Chatham\, Kent\, ME4 4HF
CATEGORIES:Class
ATTACH;FMTTYPE=image/jpeg:https://sunpierhouse.co.uk/wp-content/uploads/2026/03/yoga-banner.jpg
ORGANIZER;CN="Zen Go Yoga":MAILTO:zengomedway@gmail.com
END:VEVENT
BEGIN:VEVENT
DTSTART;TZID=UTC:20281106T091500
DTEND;TZID=UTC:20281106T123000
DTSTAMP:20260420T063516
CREATED:20260326T142758Z
LAST-MODIFIED:20260326T142758Z
UID:10001321-1857114900-1857126600@sunpierhouse.co.uk
SUMMARY:Zen Go Yoga
DESCRIPTION:Join Angela from Zen Go yoga for 3 different classes every Monday.
URL:https://sunpierhouse.co.uk/whatson/zen-go-yoga/2028-11-06/
LOCATION:Community Hire Space\, First Floor\, Sun Pier House\, Chatham\, Kent\, ME4 4HF
CATEGORIES:Class
ATTACH;FMTTYPE=image/jpeg:https://sunpierhouse.co.uk/wp-content/uploads/2026/03/yoga-banner.jpg
ORGANIZER;CN="Zen Go Yoga":MAILTO:zengomedway@gmail.com
END:VEVENT
END:VCALENDAR