BEGIN:VCALENDAR
VERSION:2.0
PRODID:-//Sun Pier House CIC - ECPv6.15.18//NONSGML v1.0//EN
CALSCALE:GREGORIAN
METHOD:PUBLISH
X-ORIGINAL-URL:https://sunpierhouse.co.uk
X-WR-CALDESC:Events for Sun Pier House CIC
REFRESH-INTERVAL;VALUE=DURATION:PT1H
X-Robots-Tag:noindex
X-PUBLISHED-TTL:PT1H
BEGIN:VTIMEZONE
TZID:UTC
BEGIN:STANDARD
TZOFFSETFROM:+0000
TZOFFSETTO:+0000
TZNAME:UTC
DTSTART:20250101T000000
END:STANDARD
END:VTIMEZONE
BEGIN:VEVENT
DTSTART;TZID=UTC:20260902T134500
DTEND;TZID=UTC:20260902T154500
DTSTAMP:20260421T132840
CREATED:20260327T094012Z
LAST-MODIFIED:20260327T095827Z
UID:10001477-1788356700-1788363900@sunpierhouse.co.uk
SUMMARY:Centa Co Circle - Autistic Female Group
DESCRIPTION:Centa Co Circle is a social and creative club for autistic women aged 18+. It provides a calm\, supportive environment where members are able to socialise\, build friendships\, and take part in arts and crafts.
URL:https://sunpierhouse.co.uk/whatson/centa-co-circle-autistic-female-group/2026-09-02/
LOCATION:Creation Space\, Ground Floor\, Sun Pier House\, Chatham\, Kent\, ME4 4HF
CATEGORIES:Event
ATTACH;FMTTYPE=image/jpeg:https://sunpierhouse.co.uk/wp-content/uploads/2026/03/Centa-Co-Circle.jpg
ORGANIZER;CN="Centa Co":MAILTO:contact@centa-co.com
END:VEVENT
BEGIN:VEVENT
DTSTART;TZID=UTC:20260909T134500
DTEND;TZID=UTC:20260909T154500
DTSTAMP:20260421T132840
CREATED:20260327T094012Z
LAST-MODIFIED:20260327T095827Z
UID:10001478-1788961500-1788968700@sunpierhouse.co.uk
SUMMARY:Centa Co Circle - Autistic Female Group
DESCRIPTION:Centa Co Circle is a social and creative club for autistic women aged 18+. It provides a calm\, supportive environment where members are able to socialise\, build friendships\, and take part in arts and crafts.
URL:https://sunpierhouse.co.uk/whatson/centa-co-circle-autistic-female-group/2026-09-09/
LOCATION:Creation Space\, Ground Floor\, Sun Pier House\, Chatham\, Kent\, ME4 4HF
CATEGORIES:Event
ATTACH;FMTTYPE=image/jpeg:https://sunpierhouse.co.uk/wp-content/uploads/2026/03/Centa-Co-Circle.jpg
ORGANIZER;CN="Centa Co":MAILTO:contact@centa-co.com
END:VEVENT
BEGIN:VEVENT
DTSTART;TZID=UTC:20260910T160000
DTEND;TZID=UTC:20260910T200000
DTSTAMP:20260421T132840
CREATED:20260202T103327Z
LAST-MODIFIED:20260326T144716Z
UID:10001450-1789056000-1789070400@sunpierhouse.co.uk
SUMMARY:Gallery Lates
DESCRIPTION:Looking for a relaxed way to spend your evening? Gallery Lates at Sun Pier House are back and better than ever. Think chilled-out vibes\, creative energy\, and stunning views over the river\, all rolled into one perfect after-hours social.
URL:https://sunpierhouse.co.uk/whatson/gallery-lates-3/2026-09-10/
LOCATION:Café & Gallery\, Second Floor\, Sun Pier House\, Chatham\, Kent\, ME4 4HF
CATEGORIES:Event
ATTACH;FMTTYPE=image/jpeg:https://sunpierhouse.co.uk/wp-content/uploads/2026/02/Gallery-Lates-Events-Page.jpg
ORGANIZER;CN="Sun Pier House":MAILTO:info@sunpierhouse.co.uk
END:VEVENT
BEGIN:VEVENT
DTSTART;TZID=UTC:20260912T110000
DTEND;TZID=UTC:20260912T150000
DTSTAMP:20260421T132840
CREATED:20260223T122126Z
LAST-MODIFIED:20260327T090343Z
UID:10001451-1789210800-1789225200@sunpierhouse.co.uk
SUMMARY:ART FLEA FAIR
DESCRIPTION:Every season we host our own indoor ART FLEA FAIR market. We focus on art\, craft\, hand-made work and vintage finds. Most of our stall holders come from Medway and they reflect the creativity that already exists here. Grab a takeaway coffee from the Café and take a slow walk around the stalls.
URL:https://sunpierhouse.co.uk/whatson/art-flea-fair-2/2026-09-12/
LOCATION:Sun Pier House\, Medway Street\, Chatham\, Kent\, ME4 4HF
CATEGORIES:Event
ATTACH;FMTTYPE=image/jpeg:https://sunpierhouse.co.uk/wp-content/uploads/2026/02/ART-FLEA-FAIR-general-events-Page-3.jpg
ORGANIZER;CN="Sun Pier House":MAILTO:info@sunpierhouse.co.uk
END:VEVENT
BEGIN:VEVENT
DTSTART;TZID=UTC:20260916T134500
DTEND;TZID=UTC:20260916T154500
DTSTAMP:20260421T132840
CREATED:20260327T094012Z
LAST-MODIFIED:20260327T095827Z
UID:10001479-1789566300-1789573500@sunpierhouse.co.uk
SUMMARY:Centa Co Circle - Autistic Female Group
DESCRIPTION:Centa Co Circle is a social and creative club for autistic women aged 18+. It provides a calm\, supportive environment where members are able to socialise\, build friendships\, and take part in arts and crafts.
URL:https://sunpierhouse.co.uk/whatson/centa-co-circle-autistic-female-group/2026-09-16/
LOCATION:Creation Space\, Ground Floor\, Sun Pier House\, Chatham\, Kent\, ME4 4HF
CATEGORIES:Event
ATTACH;FMTTYPE=image/jpeg:https://sunpierhouse.co.uk/wp-content/uploads/2026/03/Centa-Co-Circle.jpg
ORGANIZER;CN="Centa Co":MAILTO:contact@centa-co.com
END:VEVENT
BEGIN:VEVENT
DTSTART;TZID=UTC:20260923T134500
DTEND;TZID=UTC:20260923T154500
DTSTAMP:20260421T132840
CREATED:20260327T094012Z
LAST-MODIFIED:20260327T095827Z
UID:10001480-1790171100-1790178300@sunpierhouse.co.uk
SUMMARY:Centa Co Circle - Autistic Female Group
DESCRIPTION:Centa Co Circle is a social and creative club for autistic women aged 18+. It provides a calm\, supportive environment where members are able to socialise\, build friendships\, and take part in arts and crafts.
URL:https://sunpierhouse.co.uk/whatson/centa-co-circle-autistic-female-group/2026-09-23/
LOCATION:Creation Space\, Ground Floor\, Sun Pier House\, Chatham\, Kent\, ME4 4HF
CATEGORIES:Event
ATTACH;FMTTYPE=image/jpeg:https://sunpierhouse.co.uk/wp-content/uploads/2026/03/Centa-Co-Circle.jpg
ORGANIZER;CN="Centa Co":MAILTO:contact@centa-co.com
END:VEVENT
BEGIN:VEVENT
DTSTART;TZID=UTC:20260930T134500
DTEND;TZID=UTC:20260930T154500
DTSTAMP:20260421T132840
CREATED:20260327T094012Z
LAST-MODIFIED:20260327T095827Z
UID:10001481-1790775900-1790783100@sunpierhouse.co.uk
SUMMARY:Centa Co Circle - Autistic Female Group
DESCRIPTION:Centa Co Circle is a social and creative club for autistic women aged 18+. It provides a calm\, supportive environment where members are able to socialise\, build friendships\, and take part in arts and crafts.
URL:https://sunpierhouse.co.uk/whatson/centa-co-circle-autistic-female-group/2026-09-30/
LOCATION:Creation Space\, Ground Floor\, Sun Pier House\, Chatham\, Kent\, ME4 4HF
CATEGORIES:Event
ATTACH;FMTTYPE=image/jpeg:https://sunpierhouse.co.uk/wp-content/uploads/2026/03/Centa-Co-Circle.jpg
ORGANIZER;CN="Centa Co":MAILTO:contact@centa-co.com
END:VEVENT
END:VCALENDAR