BEGIN:VCALENDAR
VERSION:2.0
PRODID:-//Sun Pier House CIC - ECPv6.15.18//NONSGML v1.0//EN
CALSCALE:GREGORIAN
METHOD:PUBLISH
X-ORIGINAL-URL:https://sunpierhouse.co.uk
X-WR-CALDESC:Events for Sun Pier House CIC
REFRESH-INTERVAL;VALUE=DURATION:PT1H
X-Robots-Tag:noindex
X-PUBLISHED-TTL:PT1H
BEGIN:VTIMEZONE
TZID:UTC
BEGIN:STANDARD
TZOFFSETFROM:+0000
TZOFFSETTO:+0000
TZNAME:UTC
DTSTART:20250101T000000
END:STANDARD
END:VTIMEZONE
BEGIN:VEVENT
DTSTART;TZID=UTC:20261007T134500
DTEND;TZID=UTC:20261007T154500
DTSTAMP:20260421T153756
CREATED:20260327T094012Z
LAST-MODIFIED:20260327T095827Z
UID:10001482-1791380700-1791387900@sunpierhouse.co.uk
SUMMARY:Centa Co Circle - Autistic Female Group
DESCRIPTION:Centa Co Circle is a social and creative club for autistic women aged 18+. It provides a calm\, supportive environment where members are able to socialise\, build friendships\, and take part in arts and crafts.
URL:https://sunpierhouse.co.uk/whatson/centa-co-circle-autistic-female-group/2026-10-07/
LOCATION:Creation Space\, Ground Floor\, Sun Pier House\, Chatham\, Kent\, ME4 4HF
CATEGORIES:Event
ATTACH;FMTTYPE=image/jpeg:https://sunpierhouse.co.uk/wp-content/uploads/2026/03/Centa-Co-Circle.jpg
ORGANIZER;CN="Centa Co":MAILTO:contact@centa-co.com
END:VEVENT
BEGIN:VEVENT
DTSTART;TZID=UTC:20261014T134500
DTEND;TZID=UTC:20261014T154500
DTSTAMP:20260421T153756
CREATED:20260327T094012Z
LAST-MODIFIED:20260327T095827Z
UID:10001483-1791985500-1791992700@sunpierhouse.co.uk
SUMMARY:Centa Co Circle - Autistic Female Group
DESCRIPTION:Centa Co Circle is a social and creative club for autistic women aged 18+. It provides a calm\, supportive environment where members are able to socialise\, build friendships\, and take part in arts and crafts.
URL:https://sunpierhouse.co.uk/whatson/centa-co-circle-autistic-female-group/2026-10-14/
LOCATION:Creation Space\, Ground Floor\, Sun Pier House\, Chatham\, Kent\, ME4 4HF
CATEGORIES:Event
ATTACH;FMTTYPE=image/jpeg:https://sunpierhouse.co.uk/wp-content/uploads/2026/03/Centa-Co-Circle.jpg
ORGANIZER;CN="Centa Co":MAILTO:contact@centa-co.com
END:VEVENT
BEGIN:VEVENT
DTSTART;TZID=UTC:20261017T110000
DTEND;TZID=UTC:20261017T150000
DTSTAMP:20260421T153756
CREATED:20260327T092305Z
LAST-MODIFIED:20260327T092305Z
UID:10001454-1792234800-1792249200@sunpierhouse.co.uk
SUMMARY:Broken Heart Bazaar
DESCRIPTION:Twice a year\, we welcome Medway’s original alternative market Broken Heart Bazaar raising funds for the British Heart Foundation. It brings something different to Chatham. Expect one-of-a-kind curios\, gothic designs\, and pagan wares\, bold aesthetics and subculture. Everything you won’t find on the high street.
URL:https://sunpierhouse.co.uk/whatson/broken-heart-bazaar/2026-10-17/
LOCATION:Sun Pier House\, Medway Street\, Chatham\, Kent\, ME4 4HF
CATEGORIES:Event
ATTACH;FMTTYPE=image/jpeg:https://sunpierhouse.co.uk/wp-content/uploads/2026/03/BHB-Banner.jpg
ORGANIZER;CN="Broken Heart Bazaar":MAILTO:brokenheartbazaar@gmail.com
END:VEVENT
BEGIN:VEVENT
DTSTART;TZID=UTC:20261021T134500
DTEND;TZID=UTC:20261021T154500
DTSTAMP:20260421T153756
CREATED:20260327T094012Z
LAST-MODIFIED:20260327T095827Z
UID:10001484-1792590300-1792597500@sunpierhouse.co.uk
SUMMARY:Centa Co Circle - Autistic Female Group
DESCRIPTION:Centa Co Circle is a social and creative club for autistic women aged 18+. It provides a calm\, supportive environment where members are able to socialise\, build friendships\, and take part in arts and crafts.
URL:https://sunpierhouse.co.uk/whatson/centa-co-circle-autistic-female-group/2026-10-21/
LOCATION:Creation Space\, Ground Floor\, Sun Pier House\, Chatham\, Kent\, ME4 4HF
CATEGORIES:Event
ATTACH;FMTTYPE=image/jpeg:https://sunpierhouse.co.uk/wp-content/uploads/2026/03/Centa-Co-Circle.jpg
ORGANIZER;CN="Centa Co":MAILTO:contact@centa-co.com
END:VEVENT
BEGIN:VEVENT
DTSTART;TZID=UTC:20261028T134500
DTEND;TZID=UTC:20261028T154500
DTSTAMP:20260421T153756
CREATED:20260327T094012Z
LAST-MODIFIED:20260327T095827Z
UID:10001485-1793195100-1793202300@sunpierhouse.co.uk
SUMMARY:Centa Co Circle - Autistic Female Group
DESCRIPTION:Centa Co Circle is a social and creative club for autistic women aged 18+. It provides a calm\, supportive environment where members are able to socialise\, build friendships\, and take part in arts and crafts.
URL:https://sunpierhouse.co.uk/whatson/centa-co-circle-autistic-female-group/2026-10-28/
LOCATION:Creation Space\, Ground Floor\, Sun Pier House\, Chatham\, Kent\, ME4 4HF
CATEGORIES:Event
ATTACH;FMTTYPE=image/jpeg:https://sunpierhouse.co.uk/wp-content/uploads/2026/03/Centa-Co-Circle.jpg
ORGANIZER;CN="Centa Co":MAILTO:contact@centa-co.com
END:VEVENT
BEGIN:VEVENT
DTSTART;TZID=UTC:20261029T190000
DTEND;TZID=UTC:20261029T230000
DTSTAMP:20260421T153756
CREATED:20260327T110743Z
LAST-MODIFIED:20260410T101058Z
UID:10001718-1793300400-1793314800@sunpierhouse.co.uk
SUMMARY:Sun Pier Sounds
DESCRIPTION:Discover laid-back live music from local musicians in a warm\, upbeat environment where anyone can enjoy live music together at Sun Pier Sounds
URL:https://sunpierhouse.co.uk/whatson/sun-pier-sounds/2026-10-29/
LOCATION:Café\, Second Floor\, Sun Pier House\, Chatham\, Kent\, ME4 4HF
CATEGORIES:Event
ATTACH;FMTTYPE=image/jpeg:https://sunpierhouse.co.uk/wp-content/uploads/2026/03/Sun-Pier-Sounds.jpg
ORGANIZER;CN="Sun Pier House":MAILTO:info@sunpierhouse.co.uk
END:VEVENT
END:VCALENDAR