BEGIN:VCALENDAR
VERSION:2.0
PRODID:-//Sun Pier House CIC - ECPv6.15.18//NONSGML v1.0//EN
CALSCALE:GREGORIAN
METHOD:PUBLISH
X-ORIGINAL-URL:https://sunpierhouse.co.uk
X-WR-CALDESC:Events for Sun Pier House CIC
REFRESH-INTERVAL;VALUE=DURATION:PT1H
X-Robots-Tag:noindex
X-PUBLISHED-TTL:PT1H
BEGIN:VTIMEZONE
TZID:UTC
BEGIN:STANDARD
TZOFFSETFROM:+0000
TZOFFSETTO:+0000
TZNAME:UTC
DTSTART:20280101T000000
END:STANDARD
END:VTIMEZONE
BEGIN:VEVENT
DTSTART;TZID=UTC:20290328T134500
DTEND;TZID=UTC:20290328T154500
DTSTAMP:20260419T223853
CREATED:20260327T094012Z
LAST-MODIFIED:20260327T095827Z
UID:10001611-1869399900-1869407100@sunpierhouse.co.uk
SUMMARY:Centa Co Circle - Autistic Female Group
DESCRIPTION:Centa Co Circle is a social and creative club for autistic women aged 18+. It provides a calm\, supportive environment where members are able to socialise\, build friendships\, and take part in arts and crafts.
URL:https://sunpierhouse.co.uk/whatson/centa-co-circle-autistic-female-group/2029-03-28/
LOCATION:Creation Space\, Ground Floor\, Sun Pier House\, Chatham\, Kent\, ME4 4HF
CATEGORIES:Event
ATTACH;FMTTYPE=image/jpeg:https://sunpierhouse.co.uk/wp-content/uploads/2026/03/Centa-Co-Circle.jpg
ORGANIZER;CN="Centa Co":MAILTO:contact@centa-co.com
END:VEVENT
BEGIN:VEVENT
DTSTART;TZID=UTC:20290404T134500
DTEND;TZID=UTC:20290404T154500
DTSTAMP:20260419T223853
CREATED:20260327T094012Z
LAST-MODIFIED:20260327T095827Z
UID:10001612-1870004700-1870011900@sunpierhouse.co.uk
SUMMARY:Centa Co Circle - Autistic Female Group
DESCRIPTION:Centa Co Circle is a social and creative club for autistic women aged 18+. It provides a calm\, supportive environment where members are able to socialise\, build friendships\, and take part in arts and crafts.
URL:https://sunpierhouse.co.uk/whatson/centa-co-circle-autistic-female-group/2029-04-04/
LOCATION:Creation Space\, Ground Floor\, Sun Pier House\, Chatham\, Kent\, ME4 4HF
CATEGORIES:Event
ATTACH;FMTTYPE=image/jpeg:https://sunpierhouse.co.uk/wp-content/uploads/2026/03/Centa-Co-Circle.jpg
ORGANIZER;CN="Centa Co":MAILTO:contact@centa-co.com
END:VEVENT
BEGIN:VEVENT
DTSTART;TZID=UTC:20290411T134500
DTEND;TZID=UTC:20290411T154500
DTSTAMP:20260419T223853
CREATED:20260327T094012Z
LAST-MODIFIED:20260327T095827Z
UID:10001613-1870609500-1870616700@sunpierhouse.co.uk
SUMMARY:Centa Co Circle - Autistic Female Group
DESCRIPTION:Centa Co Circle is a social and creative club for autistic women aged 18+. It provides a calm\, supportive environment where members are able to socialise\, build friendships\, and take part in arts and crafts.
URL:https://sunpierhouse.co.uk/whatson/centa-co-circle-autistic-female-group/2029-04-11/
LOCATION:Creation Space\, Ground Floor\, Sun Pier House\, Chatham\, Kent\, ME4 4HF
CATEGORIES:Event
ATTACH;FMTTYPE=image/jpeg:https://sunpierhouse.co.uk/wp-content/uploads/2026/03/Centa-Co-Circle.jpg
ORGANIZER;CN="Centa Co":MAILTO:contact@centa-co.com
END:VEVENT
BEGIN:VEVENT
DTSTART;TZID=UTC:20290418T134500
DTEND;TZID=UTC:20290418T154500
DTSTAMP:20260419T223853
CREATED:20260327T094012Z
LAST-MODIFIED:20260327T095827Z
UID:10001614-1871214300-1871221500@sunpierhouse.co.uk
SUMMARY:Centa Co Circle - Autistic Female Group
DESCRIPTION:Centa Co Circle is a social and creative club for autistic women aged 18+. It provides a calm\, supportive environment where members are able to socialise\, build friendships\, and take part in arts and crafts.
URL:https://sunpierhouse.co.uk/whatson/centa-co-circle-autistic-female-group/2029-04-18/
LOCATION:Creation Space\, Ground Floor\, Sun Pier House\, Chatham\, Kent\, ME4 4HF
CATEGORIES:Event
ATTACH;FMTTYPE=image/jpeg:https://sunpierhouse.co.uk/wp-content/uploads/2026/03/Centa-Co-Circle.jpg
ORGANIZER;CN="Centa Co":MAILTO:contact@centa-co.com
END:VEVENT
BEGIN:VEVENT
DTSTART;TZID=UTC:20290425T134500
DTEND;TZID=UTC:20290425T154500
DTSTAMP:20260419T223853
CREATED:20260327T094012Z
LAST-MODIFIED:20260327T095827Z
UID:10001615-1871819100-1871826300@sunpierhouse.co.uk
SUMMARY:Centa Co Circle - Autistic Female Group
DESCRIPTION:Centa Co Circle is a social and creative club for autistic women aged 18+. It provides a calm\, supportive environment where members are able to socialise\, build friendships\, and take part in arts and crafts.
URL:https://sunpierhouse.co.uk/whatson/centa-co-circle-autistic-female-group/2029-04-25/
LOCATION:Creation Space\, Ground Floor\, Sun Pier House\, Chatham\, Kent\, ME4 4HF
CATEGORIES:Event
ATTACH;FMTTYPE=image/jpeg:https://sunpierhouse.co.uk/wp-content/uploads/2026/03/Centa-Co-Circle.jpg
ORGANIZER;CN="Centa Co":MAILTO:contact@centa-co.com
END:VEVENT
BEGIN:VEVENT
DTSTART;TZID=UTC:20290502T134500
DTEND;TZID=UTC:20290502T154500
DTSTAMP:20260419T223853
CREATED:20260327T094012Z
LAST-MODIFIED:20260327T095827Z
UID:10001616-1872423900-1872431100@sunpierhouse.co.uk
SUMMARY:Centa Co Circle - Autistic Female Group
DESCRIPTION:Centa Co Circle is a social and creative club for autistic women aged 18+. It provides a calm\, supportive environment where members are able to socialise\, build friendships\, and take part in arts and crafts.
URL:https://sunpierhouse.co.uk/whatson/centa-co-circle-autistic-female-group/2029-05-02/
LOCATION:Creation Space\, Ground Floor\, Sun Pier House\, Chatham\, Kent\, ME4 4HF
CATEGORIES:Event
ATTACH;FMTTYPE=image/jpeg:https://sunpierhouse.co.uk/wp-content/uploads/2026/03/Centa-Co-Circle.jpg
ORGANIZER;CN="Centa Co":MAILTO:contact@centa-co.com
END:VEVENT
BEGIN:VEVENT
DTSTART;TZID=UTC:20290509T134500
DTEND;TZID=UTC:20290509T154500
DTSTAMP:20260419T223853
CREATED:20260327T094012Z
LAST-MODIFIED:20260327T095827Z
UID:10001617-1873028700-1873035900@sunpierhouse.co.uk
SUMMARY:Centa Co Circle - Autistic Female Group
DESCRIPTION:Centa Co Circle is a social and creative club for autistic women aged 18+. It provides a calm\, supportive environment where members are able to socialise\, build friendships\, and take part in arts and crafts.
URL:https://sunpierhouse.co.uk/whatson/centa-co-circle-autistic-female-group/2029-05-09/
LOCATION:Creation Space\, Ground Floor\, Sun Pier House\, Chatham\, Kent\, ME4 4HF
CATEGORIES:Event
ATTACH;FMTTYPE=image/jpeg:https://sunpierhouse.co.uk/wp-content/uploads/2026/03/Centa-Co-Circle.jpg
ORGANIZER;CN="Centa Co":MAILTO:contact@centa-co.com
END:VEVENT
BEGIN:VEVENT
DTSTART;TZID=UTC:20290516T134500
DTEND;TZID=UTC:20290516T154500
DTSTAMP:20260419T223853
CREATED:20260327T094012Z
LAST-MODIFIED:20260327T095827Z
UID:10001618-1873633500-1873640700@sunpierhouse.co.uk
SUMMARY:Centa Co Circle - Autistic Female Group
DESCRIPTION:Centa Co Circle is a social and creative club for autistic women aged 18+. It provides a calm\, supportive environment where members are able to socialise\, build friendships\, and take part in arts and crafts.
URL:https://sunpierhouse.co.uk/whatson/centa-co-circle-autistic-female-group/2029-05-16/
LOCATION:Creation Space\, Ground Floor\, Sun Pier House\, Chatham\, Kent\, ME4 4HF
CATEGORIES:Event
ATTACH;FMTTYPE=image/jpeg:https://sunpierhouse.co.uk/wp-content/uploads/2026/03/Centa-Co-Circle.jpg
ORGANIZER;CN="Centa Co":MAILTO:contact@centa-co.com
END:VEVENT
BEGIN:VEVENT
DTSTART;TZID=UTC:20290523T134500
DTEND;TZID=UTC:20290523T154500
DTSTAMP:20260419T223853
CREATED:20260327T094012Z
LAST-MODIFIED:20260327T095827Z
UID:10001619-1874238300-1874245500@sunpierhouse.co.uk
SUMMARY:Centa Co Circle - Autistic Female Group
DESCRIPTION:Centa Co Circle is a social and creative club for autistic women aged 18+. It provides a calm\, supportive environment where members are able to socialise\, build friendships\, and take part in arts and crafts.
URL:https://sunpierhouse.co.uk/whatson/centa-co-circle-autistic-female-group/2029-05-23/
LOCATION:Creation Space\, Ground Floor\, Sun Pier House\, Chatham\, Kent\, ME4 4HF
CATEGORIES:Event
ATTACH;FMTTYPE=image/jpeg:https://sunpierhouse.co.uk/wp-content/uploads/2026/03/Centa-Co-Circle.jpg
ORGANIZER;CN="Centa Co":MAILTO:contact@centa-co.com
END:VEVENT
BEGIN:VEVENT
DTSTART;TZID=UTC:20290530T134500
DTEND;TZID=UTC:20290530T154500
DTSTAMP:20260419T223853
CREATED:20260327T094012Z
LAST-MODIFIED:20260327T095827Z
UID:10001620-1874843100-1874850300@sunpierhouse.co.uk
SUMMARY:Centa Co Circle - Autistic Female Group
DESCRIPTION:Centa Co Circle is a social and creative club for autistic women aged 18+. It provides a calm\, supportive environment where members are able to socialise\, build friendships\, and take part in arts and crafts.
URL:https://sunpierhouse.co.uk/whatson/centa-co-circle-autistic-female-group/2029-05-30/
LOCATION:Creation Space\, Ground Floor\, Sun Pier House\, Chatham\, Kent\, ME4 4HF
CATEGORIES:Event
ATTACH;FMTTYPE=image/jpeg:https://sunpierhouse.co.uk/wp-content/uploads/2026/03/Centa-Co-Circle.jpg
ORGANIZER;CN="Centa Co":MAILTO:contact@centa-co.com
END:VEVENT
BEGIN:VEVENT
DTSTART;TZID=UTC:20290606T134500
DTEND;TZID=UTC:20290606T154500
DTSTAMP:20260419T223853
CREATED:20260327T094012Z
LAST-MODIFIED:20260327T095827Z
UID:10001621-1875447900-1875455100@sunpierhouse.co.uk
SUMMARY:Centa Co Circle - Autistic Female Group
DESCRIPTION:Centa Co Circle is a social and creative club for autistic women aged 18+. It provides a calm\, supportive environment where members are able to socialise\, build friendships\, and take part in arts and crafts.
URL:https://sunpierhouse.co.uk/whatson/centa-co-circle-autistic-female-group/2029-06-06/
LOCATION:Creation Space\, Ground Floor\, Sun Pier House\, Chatham\, Kent\, ME4 4HF
CATEGORIES:Event
ATTACH;FMTTYPE=image/jpeg:https://sunpierhouse.co.uk/wp-content/uploads/2026/03/Centa-Co-Circle.jpg
ORGANIZER;CN="Centa Co":MAILTO:contact@centa-co.com
END:VEVENT
BEGIN:VEVENT
DTSTART;TZID=UTC:20290613T134500
DTEND;TZID=UTC:20290613T154500
DTSTAMP:20260419T223853
CREATED:20260327T094012Z
LAST-MODIFIED:20260327T095827Z
UID:10001622-1876052700-1876059900@sunpierhouse.co.uk
SUMMARY:Centa Co Circle - Autistic Female Group
DESCRIPTION:Centa Co Circle is a social and creative club for autistic women aged 18+. It provides a calm\, supportive environment where members are able to socialise\, build friendships\, and take part in arts and crafts.
URL:https://sunpierhouse.co.uk/whatson/centa-co-circle-autistic-female-group/2029-06-13/
LOCATION:Creation Space\, Ground Floor\, Sun Pier House\, Chatham\, Kent\, ME4 4HF
CATEGORIES:Event
ATTACH;FMTTYPE=image/jpeg:https://sunpierhouse.co.uk/wp-content/uploads/2026/03/Centa-Co-Circle.jpg
ORGANIZER;CN="Centa Co":MAILTO:contact@centa-co.com
END:VEVENT
BEGIN:VEVENT
DTSTART;TZID=UTC:20290620T134500
DTEND;TZID=UTC:20290620T154500
DTSTAMP:20260419T223853
CREATED:20260327T094012Z
LAST-MODIFIED:20260327T095827Z
UID:10001623-1876657500-1876664700@sunpierhouse.co.uk
SUMMARY:Centa Co Circle - Autistic Female Group
DESCRIPTION:Centa Co Circle is a social and creative club for autistic women aged 18+. It provides a calm\, supportive environment where members are able to socialise\, build friendships\, and take part in arts and crafts.
URL:https://sunpierhouse.co.uk/whatson/centa-co-circle-autistic-female-group/2029-06-20/
LOCATION:Creation Space\, Ground Floor\, Sun Pier House\, Chatham\, Kent\, ME4 4HF
CATEGORIES:Event
ATTACH;FMTTYPE=image/jpeg:https://sunpierhouse.co.uk/wp-content/uploads/2026/03/Centa-Co-Circle.jpg
ORGANIZER;CN="Centa Co":MAILTO:contact@centa-co.com
END:VEVENT
BEGIN:VEVENT
DTSTART;TZID=UTC:20290627T134500
DTEND;TZID=UTC:20290627T154500
DTSTAMP:20260419T223853
CREATED:20260327T094012Z
LAST-MODIFIED:20260327T095827Z
UID:10001624-1877262300-1877269500@sunpierhouse.co.uk
SUMMARY:Centa Co Circle - Autistic Female Group
DESCRIPTION:Centa Co Circle is a social and creative club for autistic women aged 18+. It provides a calm\, supportive environment where members are able to socialise\, build friendships\, and take part in arts and crafts.
URL:https://sunpierhouse.co.uk/whatson/centa-co-circle-autistic-female-group/2029-06-27/
LOCATION:Creation Space\, Ground Floor\, Sun Pier House\, Chatham\, Kent\, ME4 4HF
CATEGORIES:Event
ATTACH;FMTTYPE=image/jpeg:https://sunpierhouse.co.uk/wp-content/uploads/2026/03/Centa-Co-Circle.jpg
ORGANIZER;CN="Centa Co":MAILTO:contact@centa-co.com
END:VEVENT
BEGIN:VEVENT
DTSTART;TZID=UTC:20290704T134500
DTEND;TZID=UTC:20290704T154500
DTSTAMP:20260419T223853
CREATED:20260327T094012Z
LAST-MODIFIED:20260327T095827Z
UID:10001625-1877867100-1877874300@sunpierhouse.co.uk
SUMMARY:Centa Co Circle - Autistic Female Group
DESCRIPTION:Centa Co Circle is a social and creative club for autistic women aged 18+. It provides a calm\, supportive environment where members are able to socialise\, build friendships\, and take part in arts and crafts.
URL:https://sunpierhouse.co.uk/whatson/centa-co-circle-autistic-female-group/2029-07-04/
LOCATION:Creation Space\, Ground Floor\, Sun Pier House\, Chatham\, Kent\, ME4 4HF
CATEGORIES:Event
ATTACH;FMTTYPE=image/jpeg:https://sunpierhouse.co.uk/wp-content/uploads/2026/03/Centa-Co-Circle.jpg
ORGANIZER;CN="Centa Co":MAILTO:contact@centa-co.com
END:VEVENT
BEGIN:VEVENT
DTSTART;TZID=UTC:20290711T134500
DTEND;TZID=UTC:20290711T154500
DTSTAMP:20260419T223853
CREATED:20260327T094012Z
LAST-MODIFIED:20260327T095827Z
UID:10001626-1878471900-1878479100@sunpierhouse.co.uk
SUMMARY:Centa Co Circle - Autistic Female Group
DESCRIPTION:Centa Co Circle is a social and creative club for autistic women aged 18+. It provides a calm\, supportive environment where members are able to socialise\, build friendships\, and take part in arts and crafts.
URL:https://sunpierhouse.co.uk/whatson/centa-co-circle-autistic-female-group/2029-07-11/
LOCATION:Creation Space\, Ground Floor\, Sun Pier House\, Chatham\, Kent\, ME4 4HF
CATEGORIES:Event
ATTACH;FMTTYPE=image/jpeg:https://sunpierhouse.co.uk/wp-content/uploads/2026/03/Centa-Co-Circle.jpg
ORGANIZER;CN="Centa Co":MAILTO:contact@centa-co.com
END:VEVENT
BEGIN:VEVENT
DTSTART;TZID=UTC:20290718T134500
DTEND;TZID=UTC:20290718T154500
DTSTAMP:20260419T223853
CREATED:20260327T094012Z
LAST-MODIFIED:20260327T095827Z
UID:10001627-1879076700-1879083900@sunpierhouse.co.uk
SUMMARY:Centa Co Circle - Autistic Female Group
DESCRIPTION:Centa Co Circle is a social and creative club for autistic women aged 18+. It provides a calm\, supportive environment where members are able to socialise\, build friendships\, and take part in arts and crafts.
URL:https://sunpierhouse.co.uk/whatson/centa-co-circle-autistic-female-group/2029-07-18/
LOCATION:Creation Space\, Ground Floor\, Sun Pier House\, Chatham\, Kent\, ME4 4HF
CATEGORIES:Event
ATTACH;FMTTYPE=image/jpeg:https://sunpierhouse.co.uk/wp-content/uploads/2026/03/Centa-Co-Circle.jpg
ORGANIZER;CN="Centa Co":MAILTO:contact@centa-co.com
END:VEVENT
BEGIN:VEVENT
DTSTART;TZID=UTC:20290725T134500
DTEND;TZID=UTC:20290725T154500
DTSTAMP:20260419T223853
CREATED:20260327T094012Z
LAST-MODIFIED:20260327T095827Z
UID:10001628-1879681500-1879688700@sunpierhouse.co.uk
SUMMARY:Centa Co Circle - Autistic Female Group
DESCRIPTION:Centa Co Circle is a social and creative club for autistic women aged 18+. It provides a calm\, supportive environment where members are able to socialise\, build friendships\, and take part in arts and crafts.
URL:https://sunpierhouse.co.uk/whatson/centa-co-circle-autistic-female-group/2029-07-25/
LOCATION:Creation Space\, Ground Floor\, Sun Pier House\, Chatham\, Kent\, ME4 4HF
CATEGORIES:Event
ATTACH;FMTTYPE=image/jpeg:https://sunpierhouse.co.uk/wp-content/uploads/2026/03/Centa-Co-Circle.jpg
ORGANIZER;CN="Centa Co":MAILTO:contact@centa-co.com
END:VEVENT
BEGIN:VEVENT
DTSTART;TZID=UTC:20290801T134500
DTEND;TZID=UTC:20290801T154500
DTSTAMP:20260419T223853
CREATED:20260327T094012Z
LAST-MODIFIED:20260327T095827Z
UID:10001629-1880286300-1880293500@sunpierhouse.co.uk
SUMMARY:Centa Co Circle - Autistic Female Group
DESCRIPTION:Centa Co Circle is a social and creative club for autistic women aged 18+. It provides a calm\, supportive environment where members are able to socialise\, build friendships\, and take part in arts and crafts.
URL:https://sunpierhouse.co.uk/whatson/centa-co-circle-autistic-female-group/2029-08-01/
LOCATION:Creation Space\, Ground Floor\, Sun Pier House\, Chatham\, Kent\, ME4 4HF
CATEGORIES:Event
ATTACH;FMTTYPE=image/jpeg:https://sunpierhouse.co.uk/wp-content/uploads/2026/03/Centa-Co-Circle.jpg
ORGANIZER;CN="Centa Co":MAILTO:contact@centa-co.com
END:VEVENT
BEGIN:VEVENT
DTSTART;TZID=UTC:20290808T134500
DTEND;TZID=UTC:20290808T154500
DTSTAMP:20260419T223853
CREATED:20260327T094012Z
LAST-MODIFIED:20260327T095827Z
UID:10001630-1880891100-1880898300@sunpierhouse.co.uk
SUMMARY:Centa Co Circle - Autistic Female Group
DESCRIPTION:Centa Co Circle is a social and creative club for autistic women aged 18+. It provides a calm\, supportive environment where members are able to socialise\, build friendships\, and take part in arts and crafts.
URL:https://sunpierhouse.co.uk/whatson/centa-co-circle-autistic-female-group/2029-08-08/
LOCATION:Creation Space\, Ground Floor\, Sun Pier House\, Chatham\, Kent\, ME4 4HF
CATEGORIES:Event
ATTACH;FMTTYPE=image/jpeg:https://sunpierhouse.co.uk/wp-content/uploads/2026/03/Centa-Co-Circle.jpg
ORGANIZER;CN="Centa Co":MAILTO:contact@centa-co.com
END:VEVENT
BEGIN:VEVENT
DTSTART;TZID=UTC:20290815T134500
DTEND;TZID=UTC:20290815T154500
DTSTAMP:20260419T223853
CREATED:20260327T094012Z
LAST-MODIFIED:20260327T095827Z
UID:10001631-1881495900-1881503100@sunpierhouse.co.uk
SUMMARY:Centa Co Circle - Autistic Female Group
DESCRIPTION:Centa Co Circle is a social and creative club for autistic women aged 18+. It provides a calm\, supportive environment where members are able to socialise\, build friendships\, and take part in arts and crafts.
URL:https://sunpierhouse.co.uk/whatson/centa-co-circle-autistic-female-group/2029-08-15/
LOCATION:Creation Space\, Ground Floor\, Sun Pier House\, Chatham\, Kent\, ME4 4HF
CATEGORIES:Event
ATTACH;FMTTYPE=image/jpeg:https://sunpierhouse.co.uk/wp-content/uploads/2026/03/Centa-Co-Circle.jpg
ORGANIZER;CN="Centa Co":MAILTO:contact@centa-co.com
END:VEVENT
BEGIN:VEVENT
DTSTART;TZID=UTC:20290822T134500
DTEND;TZID=UTC:20290822T154500
DTSTAMP:20260419T223853
CREATED:20260327T094012Z
LAST-MODIFIED:20260327T095827Z
UID:10001632-1882100700-1882107900@sunpierhouse.co.uk
SUMMARY:Centa Co Circle - Autistic Female Group
DESCRIPTION:Centa Co Circle is a social and creative club for autistic women aged 18+. It provides a calm\, supportive environment where members are able to socialise\, build friendships\, and take part in arts and crafts.
URL:https://sunpierhouse.co.uk/whatson/centa-co-circle-autistic-female-group/2029-08-22/
LOCATION:Creation Space\, Ground Floor\, Sun Pier House\, Chatham\, Kent\, ME4 4HF
CATEGORIES:Event
ATTACH;FMTTYPE=image/jpeg:https://sunpierhouse.co.uk/wp-content/uploads/2026/03/Centa-Co-Circle.jpg
ORGANIZER;CN="Centa Co":MAILTO:contact@centa-co.com
END:VEVENT
BEGIN:VEVENT
DTSTART;TZID=UTC:20290829T134500
DTEND;TZID=UTC:20290829T154500
DTSTAMP:20260419T223853
CREATED:20260327T094012Z
LAST-MODIFIED:20260327T095827Z
UID:10001633-1882705500-1882712700@sunpierhouse.co.uk
SUMMARY:Centa Co Circle - Autistic Female Group
DESCRIPTION:Centa Co Circle is a social and creative club for autistic women aged 18+. It provides a calm\, supportive environment where members are able to socialise\, build friendships\, and take part in arts and crafts.
URL:https://sunpierhouse.co.uk/whatson/centa-co-circle-autistic-female-group/2029-08-29/
LOCATION:Creation Space\, Ground Floor\, Sun Pier House\, Chatham\, Kent\, ME4 4HF
CATEGORIES:Event
ATTACH;FMTTYPE=image/jpeg:https://sunpierhouse.co.uk/wp-content/uploads/2026/03/Centa-Co-Circle.jpg
ORGANIZER;CN="Centa Co":MAILTO:contact@centa-co.com
END:VEVENT
BEGIN:VEVENT
DTSTART;TZID=UTC:20290905T134500
DTEND;TZID=UTC:20290905T154500
DTSTAMP:20260419T223853
CREATED:20260327T094012Z
LAST-MODIFIED:20260327T095827Z
UID:10001634-1883310300-1883317500@sunpierhouse.co.uk
SUMMARY:Centa Co Circle - Autistic Female Group
DESCRIPTION:Centa Co Circle is a social and creative club for autistic women aged 18+. It provides a calm\, supportive environment where members are able to socialise\, build friendships\, and take part in arts and crafts.
URL:https://sunpierhouse.co.uk/whatson/centa-co-circle-autistic-female-group/2029-09-05/
LOCATION:Creation Space\, Ground Floor\, Sun Pier House\, Chatham\, Kent\, ME4 4HF
CATEGORIES:Event
ATTACH;FMTTYPE=image/jpeg:https://sunpierhouse.co.uk/wp-content/uploads/2026/03/Centa-Co-Circle.jpg
ORGANIZER;CN="Centa Co":MAILTO:contact@centa-co.com
END:VEVENT
BEGIN:VEVENT
DTSTART;TZID=UTC:20290912T134500
DTEND;TZID=UTC:20290912T154500
DTSTAMP:20260419T223853
CREATED:20260327T094012Z
LAST-MODIFIED:20260327T095827Z
UID:10001635-1883915100-1883922300@sunpierhouse.co.uk
SUMMARY:Centa Co Circle - Autistic Female Group
DESCRIPTION:Centa Co Circle is a social and creative club for autistic women aged 18+. It provides a calm\, supportive environment where members are able to socialise\, build friendships\, and take part in arts and crafts.
URL:https://sunpierhouse.co.uk/whatson/centa-co-circle-autistic-female-group/2029-09-12/
LOCATION:Creation Space\, Ground Floor\, Sun Pier House\, Chatham\, Kent\, ME4 4HF
CATEGORIES:Event
ATTACH;FMTTYPE=image/jpeg:https://sunpierhouse.co.uk/wp-content/uploads/2026/03/Centa-Co-Circle.jpg
ORGANIZER;CN="Centa Co":MAILTO:contact@centa-co.com
END:VEVENT
BEGIN:VEVENT
DTSTART;TZID=UTC:20290919T134500
DTEND;TZID=UTC:20290919T154500
DTSTAMP:20260419T223853
CREATED:20260327T094012Z
LAST-MODIFIED:20260327T095827Z
UID:10001636-1884519900-1884527100@sunpierhouse.co.uk
SUMMARY:Centa Co Circle - Autistic Female Group
DESCRIPTION:Centa Co Circle is a social and creative club for autistic women aged 18+. It provides a calm\, supportive environment where members are able to socialise\, build friendships\, and take part in arts and crafts.
URL:https://sunpierhouse.co.uk/whatson/centa-co-circle-autistic-female-group/2029-09-19/
LOCATION:Creation Space\, Ground Floor\, Sun Pier House\, Chatham\, Kent\, ME4 4HF
CATEGORIES:Event
ATTACH;FMTTYPE=image/jpeg:https://sunpierhouse.co.uk/wp-content/uploads/2026/03/Centa-Co-Circle.jpg
ORGANIZER;CN="Centa Co":MAILTO:contact@centa-co.com
END:VEVENT
BEGIN:VEVENT
DTSTART;TZID=UTC:20290926T134500
DTEND;TZID=UTC:20290926T154500
DTSTAMP:20260419T223853
CREATED:20260327T094012Z
LAST-MODIFIED:20260327T095827Z
UID:10001637-1885124700-1885131900@sunpierhouse.co.uk
SUMMARY:Centa Co Circle - Autistic Female Group
DESCRIPTION:Centa Co Circle is a social and creative club for autistic women aged 18+. It provides a calm\, supportive environment where members are able to socialise\, build friendships\, and take part in arts and crafts.
URL:https://sunpierhouse.co.uk/whatson/centa-co-circle-autistic-female-group/2029-09-26/
LOCATION:Creation Space\, Ground Floor\, Sun Pier House\, Chatham\, Kent\, ME4 4HF
CATEGORIES:Event
ATTACH;FMTTYPE=image/jpeg:https://sunpierhouse.co.uk/wp-content/uploads/2026/03/Centa-Co-Circle.jpg
ORGANIZER;CN="Centa Co":MAILTO:contact@centa-co.com
END:VEVENT
BEGIN:VEVENT
DTSTART;TZID=UTC:20291003T134500
DTEND;TZID=UTC:20291003T154500
DTSTAMP:20260419T223853
CREATED:20260327T094012Z
LAST-MODIFIED:20260327T095827Z
UID:10001638-1885729500-1885736700@sunpierhouse.co.uk
SUMMARY:Centa Co Circle - Autistic Female Group
DESCRIPTION:Centa Co Circle is a social and creative club for autistic women aged 18+. It provides a calm\, supportive environment where members are able to socialise\, build friendships\, and take part in arts and crafts.
URL:https://sunpierhouse.co.uk/whatson/centa-co-circle-autistic-female-group/2029-10-03/
LOCATION:Creation Space\, Ground Floor\, Sun Pier House\, Chatham\, Kent\, ME4 4HF
CATEGORIES:Event
ATTACH;FMTTYPE=image/jpeg:https://sunpierhouse.co.uk/wp-content/uploads/2026/03/Centa-Co-Circle.jpg
ORGANIZER;CN="Centa Co":MAILTO:contact@centa-co.com
END:VEVENT
BEGIN:VEVENT
DTSTART;TZID=UTC:20291010T134500
DTEND;TZID=UTC:20291010T154500
DTSTAMP:20260419T223853
CREATED:20260327T094012Z
LAST-MODIFIED:20260327T095827Z
UID:10001639-1886334300-1886341500@sunpierhouse.co.uk
SUMMARY:Centa Co Circle - Autistic Female Group
DESCRIPTION:Centa Co Circle is a social and creative club for autistic women aged 18+. It provides a calm\, supportive environment where members are able to socialise\, build friendships\, and take part in arts and crafts.
URL:https://sunpierhouse.co.uk/whatson/centa-co-circle-autistic-female-group/2029-10-10/
LOCATION:Creation Space\, Ground Floor\, Sun Pier House\, Chatham\, Kent\, ME4 4HF
CATEGORIES:Event
ATTACH;FMTTYPE=image/jpeg:https://sunpierhouse.co.uk/wp-content/uploads/2026/03/Centa-Co-Circle.jpg
ORGANIZER;CN="Centa Co":MAILTO:contact@centa-co.com
END:VEVENT
BEGIN:VEVENT
DTSTART;TZID=UTC:20291017T134500
DTEND;TZID=UTC:20291017T154500
DTSTAMP:20260419T223853
CREATED:20260327T094012Z
LAST-MODIFIED:20260327T095827Z
UID:10001640-1886939100-1886946300@sunpierhouse.co.uk
SUMMARY:Centa Co Circle - Autistic Female Group
DESCRIPTION:Centa Co Circle is a social and creative club for autistic women aged 18+. It provides a calm\, supportive environment where members are able to socialise\, build friendships\, and take part in arts and crafts.
URL:https://sunpierhouse.co.uk/whatson/centa-co-circle-autistic-female-group/2029-10-17/
LOCATION:Creation Space\, Ground Floor\, Sun Pier House\, Chatham\, Kent\, ME4 4HF
CATEGORIES:Event
ATTACH;FMTTYPE=image/jpeg:https://sunpierhouse.co.uk/wp-content/uploads/2026/03/Centa-Co-Circle.jpg
ORGANIZER;CN="Centa Co":MAILTO:contact@centa-co.com
END:VEVENT
END:VCALENDAR