BEGIN:VCALENDAR
VERSION:2.0
PRODID:-//Sun Pier House CIC - ECPv6.15.18//NONSGML v1.0//EN
CALSCALE:GREGORIAN
METHOD:PUBLISH
X-ORIGINAL-URL:https://sunpierhouse.co.uk
X-WR-CALDESC:Events for Sun Pier House CIC
REFRESH-INTERVAL;VALUE=DURATION:PT1H
X-Robots-Tag:noindex
X-PUBLISHED-TTL:PT1H
BEGIN:VTIMEZONE
TZID:UTC
BEGIN:STANDARD
TZOFFSETFROM:+0000
TZOFFSETTO:+0000
TZNAME:UTC
DTSTART:20300101T000000
END:STANDARD
END:VTIMEZONE
BEGIN:VEVENT
DTSTART;TZID=UTC:20310206T160000
DTEND;TZID=UTC:20310206T180000
DTSTAMP:20260420T113652
CREATED:20260402T105918Z
LAST-MODIFIED:20260402T105918Z
UID:10001946-1928160000-1928167200@sunpierhouse.co.uk
SUMMARY:Draw Manga with Nadia
DESCRIPTION:Join local comic artist Nadia Perrotta for a relaxed monthly manga session in the Sun Pier House Café. \nDraw\, chat\, get inspired\, and take a peek behind the scenes of Murphy’s Adventures\, Nadia’s manga-influenced comic series.\nNo teaching\, just shared creativity. \nFirst Thursday of the month\n4–6pm\nSun Pier House Café\n£8 per session – All ages welcome
URL:https://sunpierhouse.co.uk/whatson/draw-manga-with-nadia/2031-02-06/
LOCATION:Café\, Second Floor\, Sun Pier House\, Chatham\, Kent\, ME4 4HF
CATEGORIES:Workshop
ATTACH;FMTTYPE=image/jpeg:https://sunpierhouse.co.uk/wp-content/uploads/2026/04/Web-images-3.jpg
ORGANIZER;CN="House of Stars":MAILTO:info@house-of-stars.co.uk
END:VEVENT
BEGIN:VEVENT
DTSTART;TZID=UTC:20310211T100000
DTEND;TZID=UTC:20310211T120000
DTSTAMP:20260420T113652
CREATED:20260309T132454Z
LAST-MODIFIED:20260326T133208Z
UID:10001181-1928570400-1928577600@sunpierhouse.co.uk
SUMMARY:Zest - Dementia Friendly Arts Experiences
DESCRIPTION:Bright Shadow’s Zest Groups are shaped to individual needs and are safe and accessible. They introduce a rich mix of arts experiences that are mood-boosting\, invigorating and which enhance communication and relationships. You don’t need to have experience of being creative to enjoy them. They offer a wide range of creative activities designed and led by professional artists based on the interests and needs of those taking part.
URL:https://sunpierhouse.co.uk/whatson/zest-dementia-friendly-arts-experiences/2031-02-11/
LOCATION:Community Hire Space\, First Floor\, Sun Pier House\, Chatham\, Kent\, ME4 4HF
CATEGORIES:Workshop
ATTACH;FMTTYPE=image/jpeg:https://sunpierhouse.co.uk/wp-content/uploads/2026/03/Web-images-1.jpg
END:VEVENT
BEGIN:VEVENT
DTSTART;TZID=UTC:20310218T100000
DTEND;TZID=UTC:20310218T120000
DTSTAMP:20260420T113652
CREATED:20260309T132454Z
LAST-MODIFIED:20260326T133208Z
UID:10001182-1929175200-1929182400@sunpierhouse.co.uk
SUMMARY:Zest - Dementia Friendly Arts Experiences
DESCRIPTION:Bright Shadow’s Zest Groups are shaped to individual needs and are safe and accessible. They introduce a rich mix of arts experiences that are mood-boosting\, invigorating and which enhance communication and relationships. You don’t need to have experience of being creative to enjoy them. They offer a wide range of creative activities designed and led by professional artists based on the interests and needs of those taking part.
URL:https://sunpierhouse.co.uk/whatson/zest-dementia-friendly-arts-experiences/2031-02-18/
LOCATION:Community Hire Space\, First Floor\, Sun Pier House\, Chatham\, Kent\, ME4 4HF
CATEGORIES:Workshop
ATTACH;FMTTYPE=image/jpeg:https://sunpierhouse.co.uk/wp-content/uploads/2026/03/Web-images-1.jpg
END:VEVENT
BEGIN:VEVENT
DTSTART;TZID=UTC:20310225T100000
DTEND;TZID=UTC:20310225T120000
DTSTAMP:20260420T113652
CREATED:20260309T132454Z
LAST-MODIFIED:20260326T133208Z
UID:10001183-1929780000-1929787200@sunpierhouse.co.uk
SUMMARY:Zest - Dementia Friendly Arts Experiences
DESCRIPTION:Bright Shadow’s Zest Groups are shaped to individual needs and are safe and accessible. They introduce a rich mix of arts experiences that are mood-boosting\, invigorating and which enhance communication and relationships. You don’t need to have experience of being creative to enjoy them. They offer a wide range of creative activities designed and led by professional artists based on the interests and needs of those taking part.
URL:https://sunpierhouse.co.uk/whatson/zest-dementia-friendly-arts-experiences/2031-02-25/
LOCATION:Community Hire Space\, First Floor\, Sun Pier House\, Chatham\, Kent\, ME4 4HF
CATEGORIES:Workshop
ATTACH;FMTTYPE=image/jpeg:https://sunpierhouse.co.uk/wp-content/uploads/2026/03/Web-images-1.jpg
END:VEVENT
BEGIN:VEVENT
DTSTART;TZID=UTC:20310304T100000
DTEND;TZID=UTC:20310304T120000
DTSTAMP:20260420T113652
CREATED:20260309T132454Z
LAST-MODIFIED:20260326T133208Z
UID:10001184-1930384800-1930392000@sunpierhouse.co.uk
SUMMARY:Zest - Dementia Friendly Arts Experiences
DESCRIPTION:Bright Shadow’s Zest Groups are shaped to individual needs and are safe and accessible. They introduce a rich mix of arts experiences that are mood-boosting\, invigorating and which enhance communication and relationships. You don’t need to have experience of being creative to enjoy them. They offer a wide range of creative activities designed and led by professional artists based on the interests and needs of those taking part.
URL:https://sunpierhouse.co.uk/whatson/zest-dementia-friendly-arts-experiences/2031-03-04/
LOCATION:Community Hire Space\, First Floor\, Sun Pier House\, Chatham\, Kent\, ME4 4HF
CATEGORIES:Workshop
ATTACH;FMTTYPE=image/jpeg:https://sunpierhouse.co.uk/wp-content/uploads/2026/03/Web-images-1.jpg
END:VEVENT
BEGIN:VEVENT
DTSTART;TZID=UTC:20310306T160000
DTEND;TZID=UTC:20310306T180000
DTSTAMP:20260420T113652
CREATED:20260402T105918Z
LAST-MODIFIED:20260402T105918Z
UID:10001947-1930579200-1930586400@sunpierhouse.co.uk
SUMMARY:Draw Manga with Nadia
DESCRIPTION:Join local comic artist Nadia Perrotta for a relaxed monthly manga session in the Sun Pier House Café. \nDraw\, chat\, get inspired\, and take a peek behind the scenes of Murphy’s Adventures\, Nadia’s manga-influenced comic series.\nNo teaching\, just shared creativity. \nFirst Thursday of the month\n4–6pm\nSun Pier House Café\n£8 per session – All ages welcome
URL:https://sunpierhouse.co.uk/whatson/draw-manga-with-nadia/2031-03-06/
LOCATION:Café\, Second Floor\, Sun Pier House\, Chatham\, Kent\, ME4 4HF
CATEGORIES:Workshop
ATTACH;FMTTYPE=image/jpeg:https://sunpierhouse.co.uk/wp-content/uploads/2026/04/Web-images-3.jpg
ORGANIZER;CN="House of Stars":MAILTO:info@house-of-stars.co.uk
END:VEVENT
BEGIN:VEVENT
DTSTART;TZID=UTC:20310311T100000
DTEND;TZID=UTC:20310311T120000
DTSTAMP:20260420T113652
CREATED:20260309T132454Z
LAST-MODIFIED:20260326T133208Z
UID:10001185-1930989600-1930996800@sunpierhouse.co.uk
SUMMARY:Zest - Dementia Friendly Arts Experiences
DESCRIPTION:Bright Shadow’s Zest Groups are shaped to individual needs and are safe and accessible. They introduce a rich mix of arts experiences that are mood-boosting\, invigorating and which enhance communication and relationships. You don’t need to have experience of being creative to enjoy them. They offer a wide range of creative activities designed and led by professional artists based on the interests and needs of those taking part.
URL:https://sunpierhouse.co.uk/whatson/zest-dementia-friendly-arts-experiences/2031-03-11/
LOCATION:Community Hire Space\, First Floor\, Sun Pier House\, Chatham\, Kent\, ME4 4HF
CATEGORIES:Workshop
ATTACH;FMTTYPE=image/jpeg:https://sunpierhouse.co.uk/wp-content/uploads/2026/03/Web-images-1.jpg
END:VEVENT
BEGIN:VEVENT
DTSTART;TZID=UTC:20310318T100000
DTEND;TZID=UTC:20310318T120000
DTSTAMP:20260420T113652
CREATED:20260309T132454Z
LAST-MODIFIED:20260326T133208Z
UID:10001186-1931594400-1931601600@sunpierhouse.co.uk
SUMMARY:Zest - Dementia Friendly Arts Experiences
DESCRIPTION:Bright Shadow’s Zest Groups are shaped to individual needs and are safe and accessible. They introduce a rich mix of arts experiences that are mood-boosting\, invigorating and which enhance communication and relationships. You don’t need to have experience of being creative to enjoy them. They offer a wide range of creative activities designed and led by professional artists based on the interests and needs of those taking part.
URL:https://sunpierhouse.co.uk/whatson/zest-dementia-friendly-arts-experiences/2031-03-18/
LOCATION:Community Hire Space\, First Floor\, Sun Pier House\, Chatham\, Kent\, ME4 4HF
CATEGORIES:Workshop
ATTACH;FMTTYPE=image/jpeg:https://sunpierhouse.co.uk/wp-content/uploads/2026/03/Web-images-1.jpg
END:VEVENT
BEGIN:VEVENT
DTSTART;TZID=UTC:20310325T100000
DTEND;TZID=UTC:20310325T120000
DTSTAMP:20260420T113652
CREATED:20260309T132454Z
LAST-MODIFIED:20260326T133208Z
UID:10001187-1932199200-1932206400@sunpierhouse.co.uk
SUMMARY:Zest - Dementia Friendly Arts Experiences
DESCRIPTION:Bright Shadow’s Zest Groups are shaped to individual needs and are safe and accessible. They introduce a rich mix of arts experiences that are mood-boosting\, invigorating and which enhance communication and relationships. You don’t need to have experience of being creative to enjoy them. They offer a wide range of creative activities designed and led by professional artists based on the interests and needs of those taking part.
URL:https://sunpierhouse.co.uk/whatson/zest-dementia-friendly-arts-experiences/2031-03-25/
LOCATION:Community Hire Space\, First Floor\, Sun Pier House\, Chatham\, Kent\, ME4 4HF
CATEGORIES:Workshop
ATTACH;FMTTYPE=image/jpeg:https://sunpierhouse.co.uk/wp-content/uploads/2026/03/Web-images-1.jpg
END:VEVENT
END:VCALENDAR