BEGIN:VCALENDAR
VERSION:2.0
PRODID:-//Sun Pier House CIC - ECPv6.15.18//NONSGML v1.0//EN
CALSCALE:GREGORIAN
METHOD:PUBLISH
X-WR-CALNAME:Sun Pier House CIC
X-ORIGINAL-URL:https://sunpierhouse.co.uk
X-WR-CALDESC:Events for Sun Pier House CIC
REFRESH-INTERVAL;VALUE=DURATION:PT1H
X-Robots-Tag:noindex
X-PUBLISHED-TTL:PT1H
BEGIN:VTIMEZONE
TZID:UTC
BEGIN:STANDARD
TZOFFSETFROM:+0000
TZOFFSETTO:+0000
TZNAME:UTC
DTSTART:20250101T000000
END:STANDARD
END:VTIMEZONE
BEGIN:VEVENT
DTSTART;TZID=UTC:20260831T091500
DTEND;TZID=UTC:20260831T123000
DTSTAMP:20260421T173026
CREATED:20260326T142758Z
LAST-MODIFIED:20260326T142758Z
UID:10001207-1788167700-1788179400@sunpierhouse.co.uk
SUMMARY:Zen Go Yoga
DESCRIPTION:Join Angela from Zen Go yoga for 3 different classes every Monday.
URL:https://sunpierhouse.co.uk/whatson/zen-go-yoga/2026-08-31/
LOCATION:Community Hire Space\, First Floor\, Sun Pier House\, Chatham\, Kent\, ME4 4HF
CATEGORIES:Class
ATTACH;FMTTYPE=image/jpeg:https://sunpierhouse.co.uk/wp-content/uploads/2026/03/yoga-banner.jpg
ORGANIZER;CN="Zen Go Yoga":MAILTO:zengomedway@gmail.com
END:VEVENT
BEGIN:VEVENT
DTSTART;TZID=UTC:20260829T100000
DTEND;TZID=UTC:20260829T160000
DTSTAMP:20260421T173026
CREATED:20260309T135144Z
LAST-MODIFIED:20260326T132247Z
UID:10000199-1787997600-1788019200@sunpierhouse.co.uk
SUMMARY:Café Open
DESCRIPTION:Perched on the top floor of Sun Pier House\, our café offers stunning panoramic views of the River Medway\, stretching from Rochester Castle to Upnor Castle. This peaceful spot provides a welcome escape from the bustle of Chatham High Street and is the perfect place to soak up the atmosphere Thursdays\, Fridays and Saturdays.
URL:https://sunpierhouse.co.uk/whatson/cafe-open-3-6/2026-08-29/
LOCATION:Café\, Second Floor\, Sun Pier House\, Chatham\, Kent\, ME4 4HF
CATEGORIES:Café
ATTACH;FMTTYPE=image/jpeg:https://sunpierhouse.co.uk/wp-content/uploads/2025/12/SPh-GalleryTearoom-20220622-56-9219-scaled.jpg
ORGANIZER;CN="Sun Pier House":MAILTO:info@sunpierhouse.co.uk
END:VEVENT
BEGIN:VEVENT
DTSTART;TZID=UTC:20260828T100000
DTEND;TZID=UTC:20260828T160000
DTSTAMP:20260421T173026
CREATED:20260309T135144Z
LAST-MODIFIED:20260326T132247Z
UID:10000198-1787911200-1787932800@sunpierhouse.co.uk
SUMMARY:Café Open
DESCRIPTION:Perched on the top floor of Sun Pier House\, our café offers stunning panoramic views of the River Medway\, stretching from Rochester Castle to Upnor Castle. This peaceful spot provides a welcome escape from the bustle of Chatham High Street and is the perfect place to soak up the atmosphere Thursdays\, Fridays and Saturdays.
URL:https://sunpierhouse.co.uk/whatson/cafe-open-3-6/2026-08-28/
LOCATION:Café\, Second Floor\, Sun Pier House\, Chatham\, Kent\, ME4 4HF
CATEGORIES:Café
ATTACH;FMTTYPE=image/jpeg:https://sunpierhouse.co.uk/wp-content/uploads/2025/12/SPh-GalleryTearoom-20220622-56-9219-scaled.jpg
ORGANIZER;CN="Sun Pier House":MAILTO:info@sunpierhouse.co.uk
END:VEVENT
BEGIN:VEVENT
DTSTART;TZID=UTC:20260827T100000
DTEND;TZID=UTC:20260827T160000
DTSTAMP:20260421T173026
CREATED:20260309T135144Z
LAST-MODIFIED:20260326T132247Z
UID:10000197-1787824800-1787846400@sunpierhouse.co.uk
SUMMARY:Café Open
DESCRIPTION:Perched on the top floor of Sun Pier House\, our café offers stunning panoramic views of the River Medway\, stretching from Rochester Castle to Upnor Castle. This peaceful spot provides a welcome escape from the bustle of Chatham High Street and is the perfect place to soak up the atmosphere Thursdays\, Fridays and Saturdays.
URL:https://sunpierhouse.co.uk/whatson/cafe-open-3-6/2026-08-27/
LOCATION:Café\, Second Floor\, Sun Pier House\, Chatham\, Kent\, ME4 4HF
CATEGORIES:Café
ATTACH;FMTTYPE=image/jpeg:https://sunpierhouse.co.uk/wp-content/uploads/2025/12/SPh-GalleryTearoom-20220622-56-9219-scaled.jpg
ORGANIZER;CN="Sun Pier House":MAILTO:info@sunpierhouse.co.uk
END:VEVENT
BEGIN:VEVENT
DTSTART;TZID=UTC:20260826T134500
DTEND;TZID=UTC:20260826T154500
DTSTAMP:20260421T173026
CREATED:20260327T094012Z
LAST-MODIFIED:20260327T095827Z
UID:10001476-1787751900-1787759100@sunpierhouse.co.uk
SUMMARY:Centa Co Circle - Autistic Female Group
DESCRIPTION:Centa Co Circle is a social and creative club for autistic women aged 18+. It provides a calm\, supportive environment where members are able to socialise\, build friendships\, and take part in arts and crafts.
URL:https://sunpierhouse.co.uk/whatson/centa-co-circle-autistic-female-group/2026-08-26/
LOCATION:Creation Space\, Ground Floor\, Sun Pier House\, Chatham\, Kent\, ME4 4HF
CATEGORIES:Event
ATTACH;FMTTYPE=image/jpeg:https://sunpierhouse.co.uk/wp-content/uploads/2026/03/Centa-Co-Circle.jpg
ORGANIZER;CN="Centa Co":MAILTO:contact@centa-co.com
END:VEVENT
BEGIN:VEVENT
DTSTART;TZID=UTC:20260824T091500
DTEND;TZID=UTC:20260824T123000
DTSTAMP:20260421T173026
CREATED:20260326T142758Z
LAST-MODIFIED:20260326T142758Z
UID:10001206-1787562900-1787574600@sunpierhouse.co.uk
SUMMARY:Zen Go Yoga
DESCRIPTION:Join Angela from Zen Go yoga for 3 different classes every Monday.
URL:https://sunpierhouse.co.uk/whatson/zen-go-yoga/2026-08-24/
LOCATION:Community Hire Space\, First Floor\, Sun Pier House\, Chatham\, Kent\, ME4 4HF
CATEGORIES:Class
ATTACH;FMTTYPE=image/jpeg:https://sunpierhouse.co.uk/wp-content/uploads/2026/03/yoga-banner.jpg
ORGANIZER;CN="Zen Go Yoga":MAILTO:zengomedway@gmail.com
END:VEVENT
BEGIN:VEVENT
DTSTART;TZID=UTC:20260822T100000
DTEND;TZID=UTC:20260822T160000
DTSTAMP:20260421T173026
CREATED:20260309T135144Z
LAST-MODIFIED:20260326T132247Z
UID:10000196-1787392800-1787414400@sunpierhouse.co.uk
SUMMARY:Café Open
DESCRIPTION:Perched on the top floor of Sun Pier House\, our café offers stunning panoramic views of the River Medway\, stretching from Rochester Castle to Upnor Castle. This peaceful spot provides a welcome escape from the bustle of Chatham High Street and is the perfect place to soak up the atmosphere Thursdays\, Fridays and Saturdays.
URL:https://sunpierhouse.co.uk/whatson/cafe-open-3-6/2026-08-22/
LOCATION:Café\, Second Floor\, Sun Pier House\, Chatham\, Kent\, ME4 4HF
CATEGORIES:Café
ATTACH;FMTTYPE=image/jpeg:https://sunpierhouse.co.uk/wp-content/uploads/2025/12/SPh-GalleryTearoom-20220622-56-9219-scaled.jpg
ORGANIZER;CN="Sun Pier House":MAILTO:info@sunpierhouse.co.uk
END:VEVENT
BEGIN:VEVENT
DTSTART;TZID=UTC:20260821T100000
DTEND;TZID=UTC:20260821T160000
DTSTAMP:20260421T173026
CREATED:20260309T135144Z
LAST-MODIFIED:20260326T132247Z
UID:10000195-1787306400-1787328000@sunpierhouse.co.uk
SUMMARY:Café Open
DESCRIPTION:Perched on the top floor of Sun Pier House\, our café offers stunning panoramic views of the River Medway\, stretching from Rochester Castle to Upnor Castle. This peaceful spot provides a welcome escape from the bustle of Chatham High Street and is the perfect place to soak up the atmosphere Thursdays\, Fridays and Saturdays.
URL:https://sunpierhouse.co.uk/whatson/cafe-open-3-6/2026-08-21/
LOCATION:Café\, Second Floor\, Sun Pier House\, Chatham\, Kent\, ME4 4HF
CATEGORIES:Café
ATTACH;FMTTYPE=image/jpeg:https://sunpierhouse.co.uk/wp-content/uploads/2025/12/SPh-GalleryTearoom-20220622-56-9219-scaled.jpg
ORGANIZER;CN="Sun Pier House":MAILTO:info@sunpierhouse.co.uk
END:VEVENT
BEGIN:VEVENT
DTSTART;TZID=UTC:20260820T190000
DTEND;TZID=UTC:20260820T230000
DTSTAMP:20260421T173026
CREATED:20260327T110743Z
LAST-MODIFIED:20260410T101058Z
UID:10001717-1787252400-1787266800@sunpierhouse.co.uk
SUMMARY:Sun Pier Sounds
DESCRIPTION:Discover laid-back live music from local musicians in a warm\, upbeat environment where anyone can enjoy live music together at Sun Pier Sounds
URL:https://sunpierhouse.co.uk/whatson/sun-pier-sounds/2026-08-20/
LOCATION:Café\, Second Floor\, Sun Pier House\, Chatham\, Kent\, ME4 4HF
CATEGORIES:Event
ATTACH;FMTTYPE=image/jpeg:https://sunpierhouse.co.uk/wp-content/uploads/2026/03/Sun-Pier-Sounds.jpg
ORGANIZER;CN="Sun Pier House":MAILTO:info@sunpierhouse.co.uk
END:VEVENT
BEGIN:VEVENT
DTSTART;TZID=UTC:20260820T100000
DTEND;TZID=UTC:20260820T160000
DTSTAMP:20260421T173026
CREATED:20260309T135144Z
LAST-MODIFIED:20260326T132247Z
UID:10000194-1787220000-1787241600@sunpierhouse.co.uk
SUMMARY:Café Open
DESCRIPTION:Perched on the top floor of Sun Pier House\, our café offers stunning panoramic views of the River Medway\, stretching from Rochester Castle to Upnor Castle. This peaceful spot provides a welcome escape from the bustle of Chatham High Street and is the perfect place to soak up the atmosphere Thursdays\, Fridays and Saturdays.
URL:https://sunpierhouse.co.uk/whatson/cafe-open-3-6/2026-08-20/
LOCATION:Café\, Second Floor\, Sun Pier House\, Chatham\, Kent\, ME4 4HF
CATEGORIES:Café
ATTACH;FMTTYPE=image/jpeg:https://sunpierhouse.co.uk/wp-content/uploads/2025/12/SPh-GalleryTearoom-20220622-56-9219-scaled.jpg
ORGANIZER;CN="Sun Pier House":MAILTO:info@sunpierhouse.co.uk
END:VEVENT
BEGIN:VEVENT
DTSTART;TZID=UTC:20260819T134500
DTEND;TZID=UTC:20260819T154500
DTSTAMP:20260421T173026
CREATED:20260327T094012Z
LAST-MODIFIED:20260327T095827Z
UID:10001475-1787147100-1787154300@sunpierhouse.co.uk
SUMMARY:Centa Co Circle - Autistic Female Group
DESCRIPTION:Centa Co Circle is a social and creative club for autistic women aged 18+. It provides a calm\, supportive environment where members are able to socialise\, build friendships\, and take part in arts and crafts.
URL:https://sunpierhouse.co.uk/whatson/centa-co-circle-autistic-female-group/2026-08-19/
LOCATION:Creation Space\, Ground Floor\, Sun Pier House\, Chatham\, Kent\, ME4 4HF
CATEGORIES:Event
ATTACH;FMTTYPE=image/jpeg:https://sunpierhouse.co.uk/wp-content/uploads/2026/03/Centa-Co-Circle.jpg
ORGANIZER;CN="Centa Co":MAILTO:contact@centa-co.com
END:VEVENT
BEGIN:VEVENT
DTSTART;TZID=UTC:20260817T091500
DTEND;TZID=UTC:20260817T123000
DTSTAMP:20260421T173026
CREATED:20260326T142758Z
LAST-MODIFIED:20260326T142758Z
UID:10001205-1786958100-1786969800@sunpierhouse.co.uk
SUMMARY:Zen Go Yoga
DESCRIPTION:Join Angela from Zen Go yoga for 3 different classes every Monday.
URL:https://sunpierhouse.co.uk/whatson/zen-go-yoga/2026-08-17/
LOCATION:Community Hire Space\, First Floor\, Sun Pier House\, Chatham\, Kent\, ME4 4HF
CATEGORIES:Class
ATTACH;FMTTYPE=image/jpeg:https://sunpierhouse.co.uk/wp-content/uploads/2026/03/yoga-banner.jpg
ORGANIZER;CN="Zen Go Yoga":MAILTO:zengomedway@gmail.com
END:VEVENT
BEGIN:VEVENT
DTSTART;TZID=UTC:20260815T100000
DTEND;TZID=UTC:20260815T160000
DTSTAMP:20260421T173026
CREATED:20260309T135144Z
LAST-MODIFIED:20260326T132247Z
UID:10000193-1786788000-1786809600@sunpierhouse.co.uk
SUMMARY:Café Open
DESCRIPTION:Perched on the top floor of Sun Pier House\, our café offers stunning panoramic views of the River Medway\, stretching from Rochester Castle to Upnor Castle. This peaceful spot provides a welcome escape from the bustle of Chatham High Street and is the perfect place to soak up the atmosphere Thursdays\, Fridays and Saturdays.
URL:https://sunpierhouse.co.uk/whatson/cafe-open-3-6/2026-08-15/
LOCATION:Café\, Second Floor\, Sun Pier House\, Chatham\, Kent\, ME4 4HF
CATEGORIES:Café
ATTACH;FMTTYPE=image/jpeg:https://sunpierhouse.co.uk/wp-content/uploads/2025/12/SPh-GalleryTearoom-20220622-56-9219-scaled.jpg
ORGANIZER;CN="Sun Pier House":MAILTO:info@sunpierhouse.co.uk
END:VEVENT
BEGIN:VEVENT
DTSTART;TZID=UTC:20260814T100000
DTEND;TZID=UTC:20260814T160000
DTSTAMP:20260421T173026
CREATED:20260309T135144Z
LAST-MODIFIED:20260326T132247Z
UID:10000192-1786701600-1786723200@sunpierhouse.co.uk
SUMMARY:Café Open
DESCRIPTION:Perched on the top floor of Sun Pier House\, our café offers stunning panoramic views of the River Medway\, stretching from Rochester Castle to Upnor Castle. This peaceful spot provides a welcome escape from the bustle of Chatham High Street and is the perfect place to soak up the atmosphere Thursdays\, Fridays and Saturdays.
URL:https://sunpierhouse.co.uk/whatson/cafe-open-3-6/2026-08-14/
LOCATION:Café\, Second Floor\, Sun Pier House\, Chatham\, Kent\, ME4 4HF
CATEGORIES:Café
ATTACH;FMTTYPE=image/jpeg:https://sunpierhouse.co.uk/wp-content/uploads/2025/12/SPh-GalleryTearoom-20220622-56-9219-scaled.jpg
ORGANIZER;CN="Sun Pier House":MAILTO:info@sunpierhouse.co.uk
END:VEVENT
BEGIN:VEVENT
DTSTART;TZID=UTC:20260813T160000
DTEND;TZID=UTC:20260813T200000
DTSTAMP:20260421T173026
CREATED:20260202T103327Z
LAST-MODIFIED:20260326T144716Z
UID:10001449-1786636800-1786651200@sunpierhouse.co.uk
SUMMARY:Gallery Lates
DESCRIPTION:Looking for a relaxed way to spend your evening? Gallery Lates at Sun Pier House are back and better than ever. Think chilled-out vibes\, creative energy\, and stunning views over the river\, all rolled into one perfect after-hours social.
URL:https://sunpierhouse.co.uk/whatson/gallery-lates-3/2026-08-13/
LOCATION:Café & Gallery\, Second Floor\, Sun Pier House\, Chatham\, Kent\, ME4 4HF
CATEGORIES:Event
ATTACH;FMTTYPE=image/jpeg:https://sunpierhouse.co.uk/wp-content/uploads/2026/02/Gallery-Lates-Events-Page.jpg
ORGANIZER;CN="Sun Pier House":MAILTO:info@sunpierhouse.co.uk
END:VEVENT
BEGIN:VEVENT
DTSTART;TZID=UTC:20260813T100000
DTEND;TZID=UTC:20260813T160000
DTSTAMP:20260421T173026
CREATED:20260309T135144Z
LAST-MODIFIED:20260326T132247Z
UID:10000191-1786615200-1786636800@sunpierhouse.co.uk
SUMMARY:Café Open
DESCRIPTION:Perched on the top floor of Sun Pier House\, our café offers stunning panoramic views of the River Medway\, stretching from Rochester Castle to Upnor Castle. This peaceful spot provides a welcome escape from the bustle of Chatham High Street and is the perfect place to soak up the atmosphere Thursdays\, Fridays and Saturdays.
URL:https://sunpierhouse.co.uk/whatson/cafe-open-3-6/2026-08-13/
LOCATION:Café\, Second Floor\, Sun Pier House\, Chatham\, Kent\, ME4 4HF
CATEGORIES:Café
ATTACH;FMTTYPE=image/jpeg:https://sunpierhouse.co.uk/wp-content/uploads/2025/12/SPh-GalleryTearoom-20220622-56-9219-scaled.jpg
ORGANIZER;CN="Sun Pier House":MAILTO:info@sunpierhouse.co.uk
END:VEVENT
BEGIN:VEVENT
DTSTART;TZID=UTC:20260812T134500
DTEND;TZID=UTC:20260812T154500
DTSTAMP:20260421T173026
CREATED:20260327T094012Z
LAST-MODIFIED:20260327T095827Z
UID:10001474-1786542300-1786549500@sunpierhouse.co.uk
SUMMARY:Centa Co Circle - Autistic Female Group
DESCRIPTION:Centa Co Circle is a social and creative club for autistic women aged 18+. It provides a calm\, supportive environment where members are able to socialise\, build friendships\, and take part in arts and crafts.
URL:https://sunpierhouse.co.uk/whatson/centa-co-circle-autistic-female-group/2026-08-12/
LOCATION:Creation Space\, Ground Floor\, Sun Pier House\, Chatham\, Kent\, ME4 4HF
CATEGORIES:Event
ATTACH;FMTTYPE=image/jpeg:https://sunpierhouse.co.uk/wp-content/uploads/2026/03/Centa-Co-Circle.jpg
ORGANIZER;CN="Centa Co":MAILTO:contact@centa-co.com
END:VEVENT
BEGIN:VEVENT
DTSTART;TZID=UTC:20260810T091500
DTEND;TZID=UTC:20260810T123000
DTSTAMP:20260421T173026
CREATED:20260326T142758Z
LAST-MODIFIED:20260326T142758Z
UID:10001204-1786353300-1786365000@sunpierhouse.co.uk
SUMMARY:Zen Go Yoga
DESCRIPTION:Join Angela from Zen Go yoga for 3 different classes every Monday.
URL:https://sunpierhouse.co.uk/whatson/zen-go-yoga/2026-08-10/
LOCATION:Community Hire Space\, First Floor\, Sun Pier House\, Chatham\, Kent\, ME4 4HF
CATEGORIES:Class
ATTACH;FMTTYPE=image/jpeg:https://sunpierhouse.co.uk/wp-content/uploads/2026/03/yoga-banner.jpg
ORGANIZER;CN="Zen Go Yoga":MAILTO:zengomedway@gmail.com
END:VEVENT
BEGIN:VEVENT
DTSTART;TZID=UTC:20260808T100000
DTEND;TZID=UTC:20260808T160000
DTSTAMP:20260421T173026
CREATED:20260309T135144Z
LAST-MODIFIED:20260326T132247Z
UID:10000190-1786183200-1786204800@sunpierhouse.co.uk
SUMMARY:Café Open
DESCRIPTION:Perched on the top floor of Sun Pier House\, our café offers stunning panoramic views of the River Medway\, stretching from Rochester Castle to Upnor Castle. This peaceful spot provides a welcome escape from the bustle of Chatham High Street and is the perfect place to soak up the atmosphere Thursdays\, Fridays and Saturdays.
URL:https://sunpierhouse.co.uk/whatson/cafe-open-3-6/2026-08-08/
LOCATION:Café\, Second Floor\, Sun Pier House\, Chatham\, Kent\, ME4 4HF
CATEGORIES:Café
ATTACH;FMTTYPE=image/jpeg:https://sunpierhouse.co.uk/wp-content/uploads/2025/12/SPh-GalleryTearoom-20220622-56-9219-scaled.jpg
ORGANIZER;CN="Sun Pier House":MAILTO:info@sunpierhouse.co.uk
END:VEVENT
BEGIN:VEVENT
DTSTART;TZID=UTC:20260807T100000
DTEND;TZID=UTC:20260807T160000
DTSTAMP:20260421T173026
CREATED:20260309T135144Z
LAST-MODIFIED:20260326T132247Z
UID:10000189-1786096800-1786118400@sunpierhouse.co.uk
SUMMARY:Café Open
DESCRIPTION:Perched on the top floor of Sun Pier House\, our café offers stunning panoramic views of the River Medway\, stretching from Rochester Castle to Upnor Castle. This peaceful spot provides a welcome escape from the bustle of Chatham High Street and is the perfect place to soak up the atmosphere Thursdays\, Fridays and Saturdays.
URL:https://sunpierhouse.co.uk/whatson/cafe-open-3-6/2026-08-07/
LOCATION:Café\, Second Floor\, Sun Pier House\, Chatham\, Kent\, ME4 4HF
CATEGORIES:Café
ATTACH;FMTTYPE=image/jpeg:https://sunpierhouse.co.uk/wp-content/uploads/2025/12/SPh-GalleryTearoom-20220622-56-9219-scaled.jpg
ORGANIZER;CN="Sun Pier House":MAILTO:info@sunpierhouse.co.uk
END:VEVENT
BEGIN:VEVENT
DTSTART;TZID=UTC:20260806T160000
DTEND;TZID=UTC:20260806T180000
DTSTAMP:20260421T173026
CREATED:20260402T105918Z
LAST-MODIFIED:20260402T105918Z
UID:10001892-1786032000-1786039200@sunpierhouse.co.uk
SUMMARY:Draw Manga with Nadia
DESCRIPTION:Join local comic artist Nadia Perrotta for a relaxed monthly manga session in the Sun Pier House Café. \nDraw\, chat\, get inspired\, and take a peek behind the scenes of Murphy’s Adventures\, Nadia’s manga-influenced comic series.\nNo teaching\, just shared creativity. \nFirst Thursday of the month\n4–6pm\nSun Pier House Café\n£8 per session – All ages welcome
URL:https://sunpierhouse.co.uk/whatson/draw-manga-with-nadia/2026-08-06/
LOCATION:Café\, Second Floor\, Sun Pier House\, Chatham\, Kent\, ME4 4HF
CATEGORIES:Workshop
ATTACH;FMTTYPE=image/jpeg:https://sunpierhouse.co.uk/wp-content/uploads/2026/04/Web-images-3.jpg
ORGANIZER;CN="House of Stars":MAILTO:info@house-of-stars.co.uk
END:VEVENT
BEGIN:VEVENT
DTSTART;TZID=UTC:20260806T100000
DTEND;TZID=UTC:20260806T160000
DTSTAMP:20260421T173026
CREATED:20260309T135144Z
LAST-MODIFIED:20260326T132247Z
UID:10000188-1786010400-1786032000@sunpierhouse.co.uk
SUMMARY:Café Open
DESCRIPTION:Perched on the top floor of Sun Pier House\, our café offers stunning panoramic views of the River Medway\, stretching from Rochester Castle to Upnor Castle. This peaceful spot provides a welcome escape from the bustle of Chatham High Street and is the perfect place to soak up the atmosphere Thursdays\, Fridays and Saturdays.
URL:https://sunpierhouse.co.uk/whatson/cafe-open-3-6/2026-08-06/
LOCATION:Café\, Second Floor\, Sun Pier House\, Chatham\, Kent\, ME4 4HF
CATEGORIES:Café
ATTACH;FMTTYPE=image/jpeg:https://sunpierhouse.co.uk/wp-content/uploads/2025/12/SPh-GalleryTearoom-20220622-56-9219-scaled.jpg
ORGANIZER;CN="Sun Pier House":MAILTO:info@sunpierhouse.co.uk
END:VEVENT
BEGIN:VEVENT
DTSTART;TZID=UTC:20260805T134500
DTEND;TZID=UTC:20260805T154500
DTSTAMP:20260421T173026
CREATED:20260327T094012Z
LAST-MODIFIED:20260327T095827Z
UID:10001473-1785937500-1785944700@sunpierhouse.co.uk
SUMMARY:Centa Co Circle - Autistic Female Group
DESCRIPTION:Centa Co Circle is a social and creative club for autistic women aged 18+. It provides a calm\, supportive environment where members are able to socialise\, build friendships\, and take part in arts and crafts.
URL:https://sunpierhouse.co.uk/whatson/centa-co-circle-autistic-female-group/2026-08-05/
LOCATION:Creation Space\, Ground Floor\, Sun Pier House\, Chatham\, Kent\, ME4 4HF
CATEGORIES:Event
ATTACH;FMTTYPE=image/jpeg:https://sunpierhouse.co.uk/wp-content/uploads/2026/03/Centa-Co-Circle.jpg
ORGANIZER;CN="Centa Co":MAILTO:contact@centa-co.com
END:VEVENT
BEGIN:VEVENT
DTSTART;TZID=UTC:20260803T091500
DTEND;TZID=UTC:20260803T123000
DTSTAMP:20260421T173026
CREATED:20260326T142758Z
LAST-MODIFIED:20260326T142758Z
UID:10001203-1785748500-1785760200@sunpierhouse.co.uk
SUMMARY:Zen Go Yoga
DESCRIPTION:Join Angela from Zen Go yoga for 3 different classes every Monday.
URL:https://sunpierhouse.co.uk/whatson/zen-go-yoga/2026-08-03/
LOCATION:Community Hire Space\, First Floor\, Sun Pier House\, Chatham\, Kent\, ME4 4HF
CATEGORIES:Class
ATTACH;FMTTYPE=image/jpeg:https://sunpierhouse.co.uk/wp-content/uploads/2026/03/yoga-banner.jpg
ORGANIZER;CN="Zen Go Yoga":MAILTO:zengomedway@gmail.com
END:VEVENT
BEGIN:VEVENT
DTSTART;TZID=UTC:20260729T134500
DTEND;TZID=UTC:20260729T154500
DTSTAMP:20260421T173026
CREATED:20260327T094012Z
LAST-MODIFIED:20260327T095827Z
UID:10001472-1785332700-1785339900@sunpierhouse.co.uk
SUMMARY:Centa Co Circle - Autistic Female Group
DESCRIPTION:Centa Co Circle is a social and creative club for autistic women aged 18+. It provides a calm\, supportive environment where members are able to socialise\, build friendships\, and take part in arts and crafts.
URL:https://sunpierhouse.co.uk/whatson/centa-co-circle-autistic-female-group/2026-07-29/
LOCATION:Creation Space\, Ground Floor\, Sun Pier House\, Chatham\, Kent\, ME4 4HF
CATEGORIES:Event
ATTACH;FMTTYPE=image/jpeg:https://sunpierhouse.co.uk/wp-content/uploads/2026/03/Centa-Co-Circle.jpg
ORGANIZER;CN="Centa Co":MAILTO:contact@centa-co.com
END:VEVENT
BEGIN:VEVENT
DTSTART;TZID=UTC:20260727T091500
DTEND;TZID=UTC:20260727T123000
DTSTAMP:20260421T173026
CREATED:20260326T142758Z
LAST-MODIFIED:20260326T142758Z
UID:10001202-1785143700-1785155400@sunpierhouse.co.uk
SUMMARY:Zen Go Yoga
DESCRIPTION:Join Angela from Zen Go yoga for 3 different classes every Monday.
URL:https://sunpierhouse.co.uk/whatson/zen-go-yoga/2026-07-27/
LOCATION:Community Hire Space\, First Floor\, Sun Pier House\, Chatham\, Kent\, ME4 4HF
CATEGORIES:Class
ATTACH;FMTTYPE=image/jpeg:https://sunpierhouse.co.uk/wp-content/uploads/2026/03/yoga-banner.jpg
ORGANIZER;CN="Zen Go Yoga":MAILTO:zengomedway@gmail.com
END:VEVENT
BEGIN:VEVENT
DTSTART;TZID=UTC:20260725T100000
DTEND;TZID=UTC:20260725T160000
DTSTAMP:20260421T173026
CREATED:20260309T135144Z
LAST-MODIFIED:20260326T132247Z
UID:10000187-1784973600-1784995200@sunpierhouse.co.uk
SUMMARY:Café Open
DESCRIPTION:Perched on the top floor of Sun Pier House\, our café offers stunning panoramic views of the River Medway\, stretching from Rochester Castle to Upnor Castle. This peaceful spot provides a welcome escape from the bustle of Chatham High Street and is the perfect place to soak up the atmosphere Thursdays\, Fridays and Saturdays.
URL:https://sunpierhouse.co.uk/whatson/cafe-open-3-6/2026-07-25/
LOCATION:Café\, Second Floor\, Sun Pier House\, Chatham\, Kent\, ME4 4HF
CATEGORIES:Café
ATTACH;FMTTYPE=image/jpeg:https://sunpierhouse.co.uk/wp-content/uploads/2025/12/SPh-GalleryTearoom-20220622-56-9219-scaled.jpg
ORGANIZER;CN="Sun Pier House":MAILTO:info@sunpierhouse.co.uk
END:VEVENT
BEGIN:VEVENT
DTSTART;TZID=UTC:20260724T100000
DTEND;TZID=UTC:20260724T160000
DTSTAMP:20260421T173026
CREATED:20260309T135144Z
LAST-MODIFIED:20260326T132247Z
UID:10000186-1784887200-1784908800@sunpierhouse.co.uk
SUMMARY:Café Open
DESCRIPTION:Perched on the top floor of Sun Pier House\, our café offers stunning panoramic views of the River Medway\, stretching from Rochester Castle to Upnor Castle. This peaceful spot provides a welcome escape from the bustle of Chatham High Street and is the perfect place to soak up the atmosphere Thursdays\, Fridays and Saturdays.
URL:https://sunpierhouse.co.uk/whatson/cafe-open-3-6/2026-07-24/
LOCATION:Café\, Second Floor\, Sun Pier House\, Chatham\, Kent\, ME4 4HF
CATEGORIES:Café
ATTACH;FMTTYPE=image/jpeg:https://sunpierhouse.co.uk/wp-content/uploads/2025/12/SPh-GalleryTearoom-20220622-56-9219-scaled.jpg
ORGANIZER;CN="Sun Pier House":MAILTO:info@sunpierhouse.co.uk
END:VEVENT
BEGIN:VEVENT
DTSTART;TZID=UTC:20260723T100000
DTEND;TZID=UTC:20260723T160000
DTSTAMP:20260421T173026
CREATED:20260309T135144Z
LAST-MODIFIED:20260326T132247Z
UID:10000185-1784800800-1784822400@sunpierhouse.co.uk
SUMMARY:Café Open
DESCRIPTION:Perched on the top floor of Sun Pier House\, our café offers stunning panoramic views of the River Medway\, stretching from Rochester Castle to Upnor Castle. This peaceful spot provides a welcome escape from the bustle of Chatham High Street and is the perfect place to soak up the atmosphere Thursdays\, Fridays and Saturdays.
URL:https://sunpierhouse.co.uk/whatson/cafe-open-3-6/2026-07-23/
LOCATION:Café\, Second Floor\, Sun Pier House\, Chatham\, Kent\, ME4 4HF
CATEGORIES:Café
ATTACH;FMTTYPE=image/jpeg:https://sunpierhouse.co.uk/wp-content/uploads/2025/12/SPh-GalleryTearoom-20220622-56-9219-scaled.jpg
ORGANIZER;CN="Sun Pier House":MAILTO:info@sunpierhouse.co.uk
END:VEVENT
BEGIN:VEVENT
DTSTART;TZID=UTC:20260722T134500
DTEND;TZID=UTC:20260722T154500
DTSTAMP:20260421T173026
CREATED:20260327T094012Z
LAST-MODIFIED:20260327T095827Z
UID:10001471-1784727900-1784735100@sunpierhouse.co.uk
SUMMARY:Centa Co Circle - Autistic Female Group
DESCRIPTION:Centa Co Circle is a social and creative club for autistic women aged 18+. It provides a calm\, supportive environment where members are able to socialise\, build friendships\, and take part in arts and crafts.
URL:https://sunpierhouse.co.uk/whatson/centa-co-circle-autistic-female-group/2026-07-22/
LOCATION:Creation Space\, Ground Floor\, Sun Pier House\, Chatham\, Kent\, ME4 4HF
CATEGORIES:Event
ATTACH;FMTTYPE=image/jpeg:https://sunpierhouse.co.uk/wp-content/uploads/2026/03/Centa-Co-Circle.jpg
ORGANIZER;CN="Centa Co":MAILTO:contact@centa-co.com
END:VEVENT
END:VCALENDAR