BEGIN:VCALENDAR
VERSION:2.0
PRODID:-//Sun Pier House CIC - ECPv6.15.18//NONSGML v1.0//EN
CALSCALE:GREGORIAN
METHOD:PUBLISH
X-WR-CALNAME:Sun Pier House CIC
X-ORIGINAL-URL:https://sunpierhouse.co.uk
X-WR-CALDESC:Events for Sun Pier House CIC
REFRESH-INTERVAL;VALUE=DURATION:PT1H
X-Robots-Tag:noindex
X-PUBLISHED-TTL:PT1H
BEGIN:VTIMEZONE
TZID:UTC
BEGIN:STANDARD
TZOFFSETFROM:+0000
TZOFFSETTO:+0000
TZNAME:UTC
DTSTART:20250101T000000
END:STANDARD
END:VTIMEZONE
BEGIN:VEVENT
DTSTART;TZID=UTC:20260416T100000
DTEND;TZID=UTC:20260416T160000
DTSTAMP:20260422T085008
CREATED:20260331T153651Z
LAST-MODIFIED:20260401T112507Z
UID:10001720-1776333600-1776355200@sunpierhouse.co.uk
SUMMARY:POP at the Pier
DESCRIPTION:This collaborative exhibition brings together the talented studio residents of Nucleus Arts. After Halpern POP hosted our residents in 2024\, we’re delighted to return the favour. Discover a varied collection of ceramics\, paintings and sculpture.
URL:https://sunpierhouse.co.uk/whatson/pop-at-the-pier/2026-04-16/
LOCATION:Riverside Gallery\, Second Floor\, Sun Pier House\, Chatham\, Kent\, ME4 4HF
CATEGORIES:Exhibition
ATTACH;FMTTYPE=image/jpeg:https://sunpierhouse.co.uk/wp-content/uploads/2026/03/Pop-at-the-Pier.jpg
ORGANIZER;CN="Sun Pier House":MAILTO:info@sunpierhouse.co.uk
END:VEVENT
BEGIN:VEVENT
DTSTART;TZID=UTC:20260416T100000
DTEND;TZID=UTC:20260416T160000
DTSTAMP:20260422T085008
CREATED:20260309T135144Z
LAST-MODIFIED:20260326T132247Z
UID:10000143-1776333600-1776355200@sunpierhouse.co.uk
SUMMARY:Café Open
DESCRIPTION:Perched on the top floor of Sun Pier House\, our café offers stunning panoramic views of the River Medway\, stretching from Rochester Castle to Upnor Castle. This peaceful spot provides a welcome escape from the bustle of Chatham High Street and is the perfect place to soak up the atmosphere Thursdays\, Fridays and Saturdays.
URL:https://sunpierhouse.co.uk/whatson/cafe-open-3-6/2026-04-16/
LOCATION:Café\, Second Floor\, Sun Pier House\, Chatham\, Kent\, ME4 4HF
CATEGORIES:Café
ATTACH;FMTTYPE=image/jpeg:https://sunpierhouse.co.uk/wp-content/uploads/2025/12/SPh-GalleryTearoom-20220622-56-9219-scaled.jpg
ORGANIZER;CN="Sun Pier House":MAILTO:info@sunpierhouse.co.uk
END:VEVENT
BEGIN:VEVENT
DTSTART;TZID=UTC:20260415T134500
DTEND;TZID=UTC:20260415T154500
DTSTAMP:20260422T085008
CREATED:20260327T094012Z
LAST-MODIFIED:20260327T095827Z
UID:10001457-1776260700-1776267900@sunpierhouse.co.uk
SUMMARY:Centa Co Circle - Autistic Female Group
DESCRIPTION:Centa Co Circle is a social and creative club for autistic women aged 18+. It provides a calm\, supportive environment where members are able to socialise\, build friendships\, and take part in arts and crafts.
URL:https://sunpierhouse.co.uk/whatson/centa-co-circle-autistic-female-group/2026-04-15/
LOCATION:Creation Space\, Ground Floor\, Sun Pier House\, Chatham\, Kent\, ME4 4HF
CATEGORIES:Event
ATTACH;FMTTYPE=image/jpeg:https://sunpierhouse.co.uk/wp-content/uploads/2026/03/Centa-Co-Circle.jpg
ORGANIZER;CN="Centa Co":MAILTO:contact@centa-co.com
END:VEVENT
BEGIN:VEVENT
DTSTART;TZID=UTC:20260414T100000
DTEND;TZID=UTC:20260414T120000
DTSTAMP:20260422T085009
CREATED:20260309T132454Z
LAST-MODIFIED:20260326T133208Z
UID:10000937-1776160800-1776168000@sunpierhouse.co.uk
SUMMARY:Zest - Dementia Friendly Arts Experiences
DESCRIPTION:Bright Shadow’s Zest Groups are shaped to individual needs and are safe and accessible. They introduce a rich mix of arts experiences that are mood-boosting\, invigorating and which enhance communication and relationships. You don’t need to have experience of being creative to enjoy them. They offer a wide range of creative activities designed and led by professional artists based on the interests and needs of those taking part.
URL:https://sunpierhouse.co.uk/whatson/zest-dementia-friendly-arts-experiences/2026-04-14/
LOCATION:Community Hire Space\, First Floor\, Sun Pier House\, Chatham\, Kent\, ME4 4HF
CATEGORIES:Workshop
ATTACH;FMTTYPE=image/jpeg:https://sunpierhouse.co.uk/wp-content/uploads/2026/03/Web-images-1.jpg
END:VEVENT
BEGIN:VEVENT
DTSTART;TZID=UTC:20260413T100000
DTEND;TZID=UTC:20260413T120000
DTSTAMP:20260422T085009
CREATED:20260309T131507Z
LAST-MODIFIED:20260326T131745Z
UID:10000130-1776074400-1776081600@sunpierhouse.co.uk
SUMMARY:Life Drawing Sessions
DESCRIPTION:Self-led Life Drawing sessions held weekly in the Creation Space organised by a local art group. \nContact Lynn for more information at lynn-drew@outlook.com
URL:https://sunpierhouse.co.uk/whatson/life-drawing-classes-2/2026-04-13/
LOCATION:Creation Space\, Ground Floor\, Sun Pier House\, Chatham\, Kent\, ME4 4HF
CATEGORIES:Class
ATTACH;FMTTYPE=image/jpeg:https://sunpierhouse.co.uk/wp-content/uploads/2026/03/Web-images.jpg
ORGANIZER;CN="Sun Pier Life Drawing":MAILTO:lynn-drew@outlook.com
END:VEVENT
BEGIN:VEVENT
DTSTART;TZID=UTC:20260413T091500
DTEND;TZID=UTC:20260413T123000
DTSTAMP:20260422T085009
CREATED:20260326T142758Z
LAST-MODIFIED:20260326T142758Z
UID:10001189-1776071700-1776083400@sunpierhouse.co.uk
SUMMARY:Zen Go Yoga
DESCRIPTION:Join Angela from Zen Go yoga for 3 different classes every Monday.
URL:https://sunpierhouse.co.uk/whatson/zen-go-yoga/2026-04-13/
LOCATION:Community Hire Space\, First Floor\, Sun Pier House\, Chatham\, Kent\, ME4 4HF
CATEGORIES:Class
ATTACH;FMTTYPE=image/jpeg:https://sunpierhouse.co.uk/wp-content/uploads/2026/03/yoga-banner.jpg
ORGANIZER;CN="Zen Go Yoga":MAILTO:zengomedway@gmail.com
END:VEVENT
BEGIN:VEVENT
DTSTART;TZID=UTC:20260411T100000
DTEND;TZID=UTC:20260411T160000
DTSTAMP:20260422T085009
CREATED:20260310T121208Z
LAST-MODIFIED:20260326T132722Z
UID:10000934-1775901600-1775923200@sunpierhouse.co.uk
SUMMARY:Exhibition: 20 Years of Creative Visions
DESCRIPTION:A MESS ROOM and Kent Association for the Blind (KAB) exhibition celebrating artistic achievement beyond sight .
URL:https://sunpierhouse.co.uk/whatson/exhibition-20-years-of-creative-visions/2026-04-11/
LOCATION:Riverside Gallery\, Second Floor\, Sun Pier House\, Chatham\, Kent\, ME4 4HF
CATEGORIES:Exhibition
ATTACH;FMTTYPE=image/jpeg:https://sunpierhouse.co.uk/wp-content/uploads/2026/03/e039d310-0bba-4c53-803e-e0219f3c9490.jpg
ORGANIZER;CN="MESS ROOM":MAILTO:mail@messroom.org.uk
END:VEVENT
BEGIN:VEVENT
DTSTART;TZID=UTC:20260411T100000
DTEND;TZID=UTC:20260411T160000
DTSTAMP:20260422T085009
CREATED:20260309T135144Z
LAST-MODIFIED:20260326T132247Z
UID:10000142-1775901600-1775923200@sunpierhouse.co.uk
SUMMARY:Café Open
DESCRIPTION:Perched on the top floor of Sun Pier House\, our café offers stunning panoramic views of the River Medway\, stretching from Rochester Castle to Upnor Castle. This peaceful spot provides a welcome escape from the bustle of Chatham High Street and is the perfect place to soak up the atmosphere Thursdays\, Fridays and Saturdays.
URL:https://sunpierhouse.co.uk/whatson/cafe-open-3-6/2026-04-11/
LOCATION:Café\, Second Floor\, Sun Pier House\, Chatham\, Kent\, ME4 4HF
CATEGORIES:Café
ATTACH;FMTTYPE=image/jpeg:https://sunpierhouse.co.uk/wp-content/uploads/2025/12/SPh-GalleryTearoom-20220622-56-9219-scaled.jpg
ORGANIZER;CN="Sun Pier House":MAILTO:info@sunpierhouse.co.uk
END:VEVENT
BEGIN:VEVENT
DTSTART;TZID=UTC:20260410T110000
DTEND;TZID=UTC:20260410T150000
DTSTAMP:20260422T085009
CREATED:20260309T125134Z
LAST-MODIFIED:20260407T101543Z
UID:10000034-1775818800-1775833200@sunpierhouse.co.uk
SUMMARY:Nessy gets Messy!
DESCRIPTION:FREE Foam Mosaic Workshop. Join us for a hands-on creative session where the whole family can make together. Led by the MESS ROOM create your own colourful foam mosaic artwork and help give their beloved Nessy sculpture a fresh new look. You’ll design and build your own mosaic masterpiece. All materials supplied\, just bring your creativity.
URL:https://sunpierhouse.co.uk/whatson/nessy-gets-messy/
LOCATION:Riverside Gallery\, Second Floor\, Sun Pier House\, Chatham\, Kent\, ME4 4HF
CATEGORIES:Workshop
ATTACH;FMTTYPE=image/png:https://sunpierhouse.co.uk/wp-content/uploads/2026/03/Nessy-Gets-Messy-Screenshot.png
ORGANIZER;CN="Sun Pier House":MAILTO:info@sunpierhouse.co.uk
END:VEVENT
BEGIN:VEVENT
DTSTART;TZID=UTC:20260410T100000
DTEND;TZID=UTC:20260410T160000
DTSTAMP:20260422T085009
CREATED:20260310T121208Z
LAST-MODIFIED:20260326T132722Z
UID:10000933-1775815200-1775836800@sunpierhouse.co.uk
SUMMARY:Exhibition: 20 Years of Creative Visions
DESCRIPTION:A MESS ROOM and Kent Association for the Blind (KAB) exhibition celebrating artistic achievement beyond sight .
URL:https://sunpierhouse.co.uk/whatson/exhibition-20-years-of-creative-visions/2026-04-10/
LOCATION:Riverside Gallery\, Second Floor\, Sun Pier House\, Chatham\, Kent\, ME4 4HF
CATEGORIES:Exhibition
ATTACH;FMTTYPE=image/jpeg:https://sunpierhouse.co.uk/wp-content/uploads/2026/03/e039d310-0bba-4c53-803e-e0219f3c9490.jpg
ORGANIZER;CN="MESS ROOM":MAILTO:mail@messroom.org.uk
END:VEVENT
BEGIN:VEVENT
DTSTART;TZID=UTC:20260410T100000
DTEND;TZID=UTC:20260410T160000
DTSTAMP:20260422T085009
CREATED:20260309T135144Z
LAST-MODIFIED:20260326T132247Z
UID:10000141-1775815200-1775836800@sunpierhouse.co.uk
SUMMARY:Café Open
DESCRIPTION:Perched on the top floor of Sun Pier House\, our café offers stunning panoramic views of the River Medway\, stretching from Rochester Castle to Upnor Castle. This peaceful spot provides a welcome escape from the bustle of Chatham High Street and is the perfect place to soak up the atmosphere Thursdays\, Fridays and Saturdays.
URL:https://sunpierhouse.co.uk/whatson/cafe-open-3-6/2026-04-10/
LOCATION:Café\, Second Floor\, Sun Pier House\, Chatham\, Kent\, ME4 4HF
CATEGORIES:Café
ATTACH;FMTTYPE=image/jpeg:https://sunpierhouse.co.uk/wp-content/uploads/2025/12/SPh-GalleryTearoom-20220622-56-9219-scaled.jpg
ORGANIZER;CN="Sun Pier House":MAILTO:info@sunpierhouse.co.uk
END:VEVENT
BEGIN:VEVENT
DTSTART;TZID=UTC:20260409T100000
DTEND;TZID=UTC:20260409T160000
DTSTAMP:20260422T085009
CREATED:20260310T121208Z
LAST-MODIFIED:20260326T132722Z
UID:10000932-1775728800-1775750400@sunpierhouse.co.uk
SUMMARY:Exhibition: 20 Years of Creative Visions
DESCRIPTION:A MESS ROOM and Kent Association for the Blind (KAB) exhibition celebrating artistic achievement beyond sight .
URL:https://sunpierhouse.co.uk/whatson/exhibition-20-years-of-creative-visions/2026-04-09/
LOCATION:Riverside Gallery\, Second Floor\, Sun Pier House\, Chatham\, Kent\, ME4 4HF
CATEGORIES:Exhibition
ATTACH;FMTTYPE=image/jpeg:https://sunpierhouse.co.uk/wp-content/uploads/2026/03/e039d310-0bba-4c53-803e-e0219f3c9490.jpg
ORGANIZER;CN="MESS ROOM":MAILTO:mail@messroom.org.uk
END:VEVENT
BEGIN:VEVENT
DTSTART;TZID=UTC:20260409T100000
DTEND;TZID=UTC:20260409T160000
DTSTAMP:20260422T085009
CREATED:20260309T135144Z
LAST-MODIFIED:20260326T132247Z
UID:10000140-1775728800-1775750400@sunpierhouse.co.uk
SUMMARY:Café Open
DESCRIPTION:Perched on the top floor of Sun Pier House\, our café offers stunning panoramic views of the River Medway\, stretching from Rochester Castle to Upnor Castle. This peaceful spot provides a welcome escape from the bustle of Chatham High Street and is the perfect place to soak up the atmosphere Thursdays\, Fridays and Saturdays.
URL:https://sunpierhouse.co.uk/whatson/cafe-open-3-6/2026-04-09/
LOCATION:Café\, Second Floor\, Sun Pier House\, Chatham\, Kent\, ME4 4HF
CATEGORIES:Café
ATTACH;FMTTYPE=image/jpeg:https://sunpierhouse.co.uk/wp-content/uploads/2025/12/SPh-GalleryTearoom-20220622-56-9219-scaled.jpg
ORGANIZER;CN="Sun Pier House":MAILTO:info@sunpierhouse.co.uk
END:VEVENT
BEGIN:VEVENT
DTSTART;TZID=UTC:20260408T134500
DTEND;TZID=UTC:20260408T154500
DTSTAMP:20260422T085009
CREATED:20260327T094012Z
LAST-MODIFIED:20260327T095827Z
UID:10001456-1775655900-1775663100@sunpierhouse.co.uk
SUMMARY:Centa Co Circle - Autistic Female Group
DESCRIPTION:Centa Co Circle is a social and creative club for autistic women aged 18+. It provides a calm\, supportive environment where members are able to socialise\, build friendships\, and take part in arts and crafts.
URL:https://sunpierhouse.co.uk/whatson/centa-co-circle-autistic-female-group/2026-04-08/
LOCATION:Creation Space\, Ground Floor\, Sun Pier House\, Chatham\, Kent\, ME4 4HF
CATEGORIES:Event
ATTACH;FMTTYPE=image/jpeg:https://sunpierhouse.co.uk/wp-content/uploads/2026/03/Centa-Co-Circle.jpg
ORGANIZER;CN="Centa Co":MAILTO:contact@centa-co.com
END:VEVENT
BEGIN:VEVENT
DTSTART;TZID=UTC:20260407T100000
DTEND;TZID=UTC:20260407T120000
DTSTAMP:20260422T085009
CREATED:20260309T132454Z
LAST-MODIFIED:20260326T133208Z
UID:10000936-1775556000-1775563200@sunpierhouse.co.uk
SUMMARY:Zest - Dementia Friendly Arts Experiences
DESCRIPTION:Bright Shadow’s Zest Groups are shaped to individual needs and are safe and accessible. They introduce a rich mix of arts experiences that are mood-boosting\, invigorating and which enhance communication and relationships. You don’t need to have experience of being creative to enjoy them. They offer a wide range of creative activities designed and led by professional artists based on the interests and needs of those taking part.
URL:https://sunpierhouse.co.uk/whatson/zest-dementia-friendly-arts-experiences/2026-04-07/
LOCATION:Community Hire Space\, First Floor\, Sun Pier House\, Chatham\, Kent\, ME4 4HF
CATEGORIES:Workshop
ATTACH;FMTTYPE=image/jpeg:https://sunpierhouse.co.uk/wp-content/uploads/2026/03/Web-images-1.jpg
END:VEVENT
BEGIN:VEVENT
DTSTART;TZID=UTC:20260402T160000
DTEND;TZID=UTC:20260402T180000
DTSTAMP:20260422T085009
CREATED:20260402T105918Z
LAST-MODIFIED:20260402T105918Z
UID:10001888-1775145600-1775152800@sunpierhouse.co.uk
SUMMARY:Draw Manga with Nadia
DESCRIPTION:Join local comic artist Nadia Perrotta for a relaxed monthly manga session in the Sun Pier House Café. \nDraw\, chat\, get inspired\, and take a peek behind the scenes of Murphy’s Adventures\, Nadia’s manga-influenced comic series.\nNo teaching\, just shared creativity. \nFirst Thursday of the month\n4–6pm\nSun Pier House Café\n£8 per session – All ages welcome
URL:https://sunpierhouse.co.uk/whatson/draw-manga-with-nadia/2026-04-02/
LOCATION:Café\, Second Floor\, Sun Pier House\, Chatham\, Kent\, ME4 4HF
CATEGORIES:Workshop
ATTACH;FMTTYPE=image/jpeg:https://sunpierhouse.co.uk/wp-content/uploads/2026/04/Web-images-3.jpg
ORGANIZER;CN="House of Stars":MAILTO:info@house-of-stars.co.uk
END:VEVENT
BEGIN:VEVENT
DTSTART;TZID=UTC:20260402T100000
DTEND;TZID=UTC:20260402T160000
DTSTAMP:20260422T085009
CREATED:20260310T121208Z
LAST-MODIFIED:20260326T132722Z
UID:10000931-1775124000-1775145600@sunpierhouse.co.uk
SUMMARY:Exhibition: 20 Years of Creative Visions
DESCRIPTION:A MESS ROOM and Kent Association for the Blind (KAB) exhibition celebrating artistic achievement beyond sight .
URL:https://sunpierhouse.co.uk/whatson/exhibition-20-years-of-creative-visions/2026-04-02/
LOCATION:Riverside Gallery\, Second Floor\, Sun Pier House\, Chatham\, Kent\, ME4 4HF
CATEGORIES:Exhibition
ATTACH;FMTTYPE=image/jpeg:https://sunpierhouse.co.uk/wp-content/uploads/2026/03/e039d310-0bba-4c53-803e-e0219f3c9490.jpg
ORGANIZER;CN="MESS ROOM":MAILTO:mail@messroom.org.uk
END:VEVENT
BEGIN:VEVENT
DTSTART;TZID=UTC:20260402T100000
DTEND;TZID=UTC:20260402T160000
DTSTAMP:20260422T085009
CREATED:20260309T135144Z
LAST-MODIFIED:20260326T132247Z
UID:10000139-1775124000-1775145600@sunpierhouse.co.uk
SUMMARY:Café Open
DESCRIPTION:Perched on the top floor of Sun Pier House\, our café offers stunning panoramic views of the River Medway\, stretching from Rochester Castle to Upnor Castle. This peaceful spot provides a welcome escape from the bustle of Chatham High Street and is the perfect place to soak up the atmosphere Thursdays\, Fridays and Saturdays.
URL:https://sunpierhouse.co.uk/whatson/cafe-open-3-6/2026-04-02/
LOCATION:Café\, Second Floor\, Sun Pier House\, Chatham\, Kent\, ME4 4HF
CATEGORIES:Café
ATTACH;FMTTYPE=image/jpeg:https://sunpierhouse.co.uk/wp-content/uploads/2025/12/SPh-GalleryTearoom-20220622-56-9219-scaled.jpg
ORGANIZER;CN="Sun Pier House":MAILTO:info@sunpierhouse.co.uk
END:VEVENT
BEGIN:VEVENT
DTSTART;TZID=UTC:20260402T100000
DTEND;TZID=UTC:20260402T120000
DTSTAMP:20260422T085009
CREATED:20260309T115029Z
LAST-MODIFIED:20260326T130735Z
UID:10000033-1775124000-1775131200@sunpierhouse.co.uk
SUMMARY:Thursday Art Club
DESCRIPTION:Artist-led sessions allowing participants to work on their own projects or explore new techniques
URL:https://sunpierhouse.co.uk/whatson/thursday-art-club-4/2026-04-02/
LOCATION:Creation Space\, Ground Floor\, Sun Pier House\, Chatham\, Kent\, ME4 4HF
CATEGORIES:Class
ATTACH;FMTTYPE=image/jpeg:https://sunpierhouse.co.uk/wp-content/uploads/2026/03/TAC-Web.jpg
ORGANIZER;CN="Sun Pier House":MAILTO:info@sunpierhouse.co.uk
END:VEVENT
BEGIN:VEVENT
DTSTART;TZID=UTC:20260401T134500
DTEND;TZID=UTC:20260401T154500
DTSTAMP:20260422T085009
CREATED:20260327T094012Z
LAST-MODIFIED:20260327T095827Z
UID:10001455-1775051100-1775058300@sunpierhouse.co.uk
SUMMARY:Centa Co Circle - Autistic Female Group
DESCRIPTION:Centa Co Circle is a social and creative club for autistic women aged 18+. It provides a calm\, supportive environment where members are able to socialise\, build friendships\, and take part in arts and crafts.
URL:https://sunpierhouse.co.uk/whatson/centa-co-circle-autistic-female-group/2026-04-01/
LOCATION:Creation Space\, Ground Floor\, Sun Pier House\, Chatham\, Kent\, ME4 4HF
CATEGORIES:Event
ATTACH;FMTTYPE=image/jpeg:https://sunpierhouse.co.uk/wp-content/uploads/2026/03/Centa-Co-Circle.jpg
ORGANIZER;CN="Centa Co":MAILTO:contact@centa-co.com
END:VEVENT
BEGIN:VEVENT
DTSTART;TZID=UTC:20260401T100000
DTEND;TZID=UTC:20260401T120000
DTSTAMP:20260422T085009
CREATED:20260309T114826Z
LAST-MODIFIED:20260326T130924Z
UID:10000031-1775037600-1775044800@sunpierhouse.co.uk
SUMMARY:Wednesday Art Club
DESCRIPTION:Artist-led sessions allowing participants to work on their own projects or explore new techniques
URL:https://sunpierhouse.co.uk/whatson/wednesday-art-club-4/2026-04-01/
LOCATION:Creation Space\, Ground Floor\, Sun Pier House\, Chatham\, Kent\, ME4 4HF
CATEGORIES:Class
ATTACH;FMTTYPE=image/jpeg:https://sunpierhouse.co.uk/wp-content/uploads/2026/03/WAC-Web-1.jpg
ORGANIZER;CN="Sun Pier House":MAILTO:info@sunpierhouse.co.uk
END:VEVENT
BEGIN:VEVENT
DTSTART;TZID=UTC:20260331T153000
DTEND;TZID=UTC:20260331T173000
DTSTAMP:20260422T085009
CREATED:20260309T133853Z
LAST-MODIFIED:20260326T132455Z
UID:10000043-1774971000-1774978200@sunpierhouse.co.uk
SUMMARY:The Anchor
DESCRIPTION:The Anchor is an after-class social club where older teens can stop by for a drink\, get creative\, learn something new\, or just chill with friends.
URL:https://sunpierhouse.co.uk/whatson/the-anchor-2-2/2026-03-31/
LOCATION:Café\, Second Floor\, Sun Pier House\, Chatham\, Kent\, ME4 4HF
CATEGORIES:Event
ATTACH;FMTTYPE=image/jpeg:https://sunpierhouse.co.uk/wp-content/uploads/2025/02/The-Anchor-Web-designs.jpg
ORGANIZER;CN="Sun Pier House":MAILTO:info@sunpierhouse.co.uk
END:VEVENT
BEGIN:VEVENT
DTSTART;TZID=UTC:20260330T100000
DTEND;TZID=UTC:20260330T120000
DTSTAMP:20260422T085009
CREATED:20260309T131507Z
LAST-MODIFIED:20260326T131745Z
UID:10000129-1774864800-1774872000@sunpierhouse.co.uk
SUMMARY:Life Drawing Sessions
DESCRIPTION:Self-led Life Drawing sessions held weekly in the Creation Space organised by a local art group. \nContact Lynn for more information at lynn-drew@outlook.com
URL:https://sunpierhouse.co.uk/whatson/life-drawing-classes-2/2026-03-30/
LOCATION:Creation Space\, Ground Floor\, Sun Pier House\, Chatham\, Kent\, ME4 4HF
CATEGORIES:Class
ATTACH;FMTTYPE=image/jpeg:https://sunpierhouse.co.uk/wp-content/uploads/2026/03/Web-images.jpg
ORGANIZER;CN="Sun Pier Life Drawing":MAILTO:lynn-drew@outlook.com
END:VEVENT
BEGIN:VEVENT
DTSTART;TZID=UTC:20260330T091500
DTEND;TZID=UTC:20260330T123000
DTSTAMP:20260422T085009
CREATED:20260326T142758Z
LAST-MODIFIED:20260326T142758Z
UID:10001188-1774862100-1774873800@sunpierhouse.co.uk
SUMMARY:Zen Go Yoga
DESCRIPTION:Join Angela from Zen Go yoga for 3 different classes every Monday.
URL:https://sunpierhouse.co.uk/whatson/zen-go-yoga/2026-03-30/
LOCATION:Community Hire Space\, First Floor\, Sun Pier House\, Chatham\, Kent\, ME4 4HF
CATEGORIES:Class
ATTACH;FMTTYPE=image/jpeg:https://sunpierhouse.co.uk/wp-content/uploads/2026/03/yoga-banner.jpg
ORGANIZER;CN="Zen Go Yoga":MAILTO:zengomedway@gmail.com
END:VEVENT
BEGIN:VEVENT
DTSTART;TZID=UTC:20260328T100000
DTEND;TZID=UTC:20260328T160000
DTSTAMP:20260422T085009
CREATED:20260310T121208Z
LAST-MODIFIED:20260326T132722Z
UID:10000930-1774692000-1774713600@sunpierhouse.co.uk
SUMMARY:Exhibition: 20 Years of Creative Visions
DESCRIPTION:A MESS ROOM and Kent Association for the Blind (KAB) exhibition celebrating artistic achievement beyond sight .
URL:https://sunpierhouse.co.uk/whatson/exhibition-20-years-of-creative-visions/2026-03-28/
LOCATION:Riverside Gallery\, Second Floor\, Sun Pier House\, Chatham\, Kent\, ME4 4HF
CATEGORIES:Exhibition
ATTACH;FMTTYPE=image/jpeg:https://sunpierhouse.co.uk/wp-content/uploads/2026/03/e039d310-0bba-4c53-803e-e0219f3c9490.jpg
ORGANIZER;CN="MESS ROOM":MAILTO:mail@messroom.org.uk
END:VEVENT
BEGIN:VEVENT
DTSTART;TZID=UTC:20260328T100000
DTEND;TZID=UTC:20260328T160000
DTSTAMP:20260422T085009
CREATED:20260309T135144Z
LAST-MODIFIED:20260326T132247Z
UID:10000051-1774692000-1774713600@sunpierhouse.co.uk
SUMMARY:Café Open
DESCRIPTION:Perched on the top floor of Sun Pier House\, our café offers stunning panoramic views of the River Medway\, stretching from Rochester Castle to Upnor Castle. This peaceful spot provides a welcome escape from the bustle of Chatham High Street and is the perfect place to soak up the atmosphere Thursdays\, Fridays and Saturdays.
URL:https://sunpierhouse.co.uk/whatson/cafe-open-3-6/2026-03-28/
LOCATION:Café\, Second Floor\, Sun Pier House\, Chatham\, Kent\, ME4 4HF
CATEGORIES:Café
ATTACH;FMTTYPE=image/jpeg:https://sunpierhouse.co.uk/wp-content/uploads/2025/12/SPh-GalleryTearoom-20220622-56-9219-scaled.jpg
ORGANIZER;CN="Sun Pier House":MAILTO:info@sunpierhouse.co.uk
END:VEVENT
BEGIN:VEVENT
DTSTART;TZID=UTC:20260327T100000
DTEND;TZID=UTC:20260327T160000
DTSTAMP:20260422T085009
CREATED:20260310T121208Z
LAST-MODIFIED:20260326T132722Z
UID:10000929-1774605600-1774627200@sunpierhouse.co.uk
SUMMARY:Exhibition: 20 Years of Creative Visions
DESCRIPTION:A MESS ROOM and Kent Association for the Blind (KAB) exhibition celebrating artistic achievement beyond sight .
URL:https://sunpierhouse.co.uk/whatson/exhibition-20-years-of-creative-visions/2026-03-27/
LOCATION:Riverside Gallery\, Second Floor\, Sun Pier House\, Chatham\, Kent\, ME4 4HF
CATEGORIES:Exhibition
ATTACH;FMTTYPE=image/jpeg:https://sunpierhouse.co.uk/wp-content/uploads/2026/03/e039d310-0bba-4c53-803e-e0219f3c9490.jpg
ORGANIZER;CN="MESS ROOM":MAILTO:mail@messroom.org.uk
END:VEVENT
BEGIN:VEVENT
DTSTART;TZID=UTC:20260327T100000
DTEND;TZID=UTC:20260327T160000
DTSTAMP:20260422T085009
CREATED:20260309T135036Z
LAST-MODIFIED:20260309T135036Z
UID:10000050-1774605600-1774627200@sunpierhouse.co.uk
SUMMARY:Café Open
DESCRIPTION:Perched on the top floor of Sun Pier House\, our café offers stunning panoramic views of the River Medway\, stretching from Rochester Castle to Upnor Castle. This peaceful spot provides a welcome escape from the bustle of Chatham High Street and is the perfect place to soak up the atmosphere Thursdays\, Fridays and Saturdays.
URL:https://sunpierhouse.co.uk/whatson/cafe-open-3-2/
LOCATION:Café\, Second Floor\, Sun Pier House\, Chatham\, Kent\, ME4 4HF
CATEGORIES:Café
ATTACH;FMTTYPE=image/jpeg:https://sunpierhouse.co.uk/wp-content/uploads/2025/12/SPh-GalleryTearoom-20220622-56-9219-scaled.jpg
ORGANIZER;CN="Sun Pier House":MAILTO:info@sunpierhouse.co.uk
END:VEVENT
BEGIN:VEVENT
DTSTART;TZID=UTC:20260326T160000
DTEND;TZID=UTC:20260326T200000
DTSTAMP:20260422T085009
CREATED:20260202T103040Z
LAST-MODIFIED:20260202T105431Z
UID:10000014-1774540800-1774555200@sunpierhouse.co.uk
SUMMARY:Gallery Lates
DESCRIPTION:Looking for a relaxed way to spend your evening? Gallery Lates at Sun Pier House are back and better than ever. Think chilled-out vibes\, creative energy\, and stunning views over the river\, all rolled into one perfect after-hours social.
URL:https://sunpierhouse.co.uk/whatson/gallery-lates-2/
LOCATION:Café & Gallery\, Second Floor\, Sun Pier House\, Chatham\, Kent\, ME4 4HF
CATEGORIES:Event
ATTACH;FMTTYPE=image/jpeg:https://sunpierhouse.co.uk/wp-content/uploads/2026/02/Gallery-Lates-Events-Page.jpg
END:VEVENT
BEGIN:VEVENT
DTSTART;TZID=UTC:20260326T100000
DTEND;TZID=UTC:20260326T160000
DTSTAMP:20260422T085009
CREATED:20260310T121208Z
LAST-MODIFIED:20260326T132722Z
UID:10000928-1774519200-1774540800@sunpierhouse.co.uk
SUMMARY:Exhibition: 20 Years of Creative Visions
DESCRIPTION:A MESS ROOM and Kent Association for the Blind (KAB) exhibition celebrating artistic achievement beyond sight .
URL:https://sunpierhouse.co.uk/whatson/exhibition-20-years-of-creative-visions/2026-03-26/
LOCATION:Riverside Gallery\, Second Floor\, Sun Pier House\, Chatham\, Kent\, ME4 4HF
CATEGORIES:Exhibition
ATTACH;FMTTYPE=image/jpeg:https://sunpierhouse.co.uk/wp-content/uploads/2026/03/e039d310-0bba-4c53-803e-e0219f3c9490.jpg
ORGANIZER;CN="MESS ROOM":MAILTO:mail@messroom.org.uk
END:VEVENT
END:VCALENDAR