BEGIN:VCALENDAR
VERSION:2.0
PRODID:-//Sun Pier House CIC - ECPv6.15.18//NONSGML v1.0//EN
CALSCALE:GREGORIAN
METHOD:PUBLISH
X-ORIGINAL-URL:https://sunpierhouse.co.uk
X-WR-CALDESC:Events for Sun Pier House CIC
REFRESH-INTERVAL;VALUE=DURATION:PT1H
X-Robots-Tag:noindex
X-PUBLISHED-TTL:PT1H
BEGIN:VTIMEZONE
TZID:UTC
BEGIN:STANDARD
TZOFFSETFROM:+0000
TZOFFSETTO:+0000
TZNAME:UTC
DTSTART:20260101T000000
END:STANDARD
END:VTIMEZONE
BEGIN:VEVENT
DTSTART;TZID=UTC:20270614T091500
DTEND;TZID=UTC:20270614T123000
DTSTAMP:20260422T094408
CREATED:20260326T142758Z
LAST-MODIFIED:20260326T142758Z
UID:10001248-1812964500-1812976200@sunpierhouse.co.uk
SUMMARY:Zen Go Yoga
DESCRIPTION:Join Angela from Zen Go yoga for 3 different classes every Monday.
URL:https://sunpierhouse.co.uk/whatson/zen-go-yoga/2027-06-14/
LOCATION:Community Hire Space\, First Floor\, Sun Pier House\, Chatham\, Kent\, ME4 4HF
CATEGORIES:Class
ATTACH;FMTTYPE=image/jpeg:https://sunpierhouse.co.uk/wp-content/uploads/2026/03/yoga-banner.jpg
ORGANIZER;CN="Zen Go Yoga":MAILTO:zengomedway@gmail.com
END:VEVENT
BEGIN:VEVENT
DTSTART;TZID=UTC:20270615T100000
DTEND;TZID=UTC:20270615T120000
DTSTAMP:20260422T094408
CREATED:20260309T132454Z
LAST-MODIFIED:20260326T133208Z
UID:10000990-1813053600-1813060800@sunpierhouse.co.uk
SUMMARY:Zest - Dementia Friendly Arts Experiences
DESCRIPTION:Bright Shadow’s Zest Groups are shaped to individual needs and are safe and accessible. They introduce a rich mix of arts experiences that are mood-boosting\, invigorating and which enhance communication and relationships. You don’t need to have experience of being creative to enjoy them. They offer a wide range of creative activities designed and led by professional artists based on the interests and needs of those taking part.
URL:https://sunpierhouse.co.uk/whatson/zest-dementia-friendly-arts-experiences/2027-06-15/
LOCATION:Community Hire Space\, First Floor\, Sun Pier House\, Chatham\, Kent\, ME4 4HF
CATEGORIES:Workshop
ATTACH;FMTTYPE=image/jpeg:https://sunpierhouse.co.uk/wp-content/uploads/2026/03/Web-images-1.jpg
END:VEVENT
BEGIN:VEVENT
DTSTART;TZID=UTC:20270616T134500
DTEND;TZID=UTC:20270616T154500
DTSTAMP:20260422T094408
CREATED:20260327T094012Z
LAST-MODIFIED:20260327T095827Z
UID:10001518-1813153500-1813160700@sunpierhouse.co.uk
SUMMARY:Centa Co Circle - Autistic Female Group
DESCRIPTION:Centa Co Circle is a social and creative club for autistic women aged 18+. It provides a calm\, supportive environment where members are able to socialise\, build friendships\, and take part in arts and crafts.
URL:https://sunpierhouse.co.uk/whatson/centa-co-circle-autistic-female-group/2027-06-16/
LOCATION:Creation Space\, Ground Floor\, Sun Pier House\, Chatham\, Kent\, ME4 4HF
CATEGORIES:Event
ATTACH;FMTTYPE=image/jpeg:https://sunpierhouse.co.uk/wp-content/uploads/2026/03/Centa-Co-Circle.jpg
ORGANIZER;CN="Centa Co":MAILTO:contact@centa-co.com
END:VEVENT
BEGIN:VEVENT
DTSTART;TZID=UTC:20270617T100000
DTEND;TZID=UTC:20270617T160000
DTSTAMP:20260422T094408
CREATED:20260309T135144Z
LAST-MODIFIED:20260326T132247Z
UID:10000323-1813226400-1813248000@sunpierhouse.co.uk
SUMMARY:Café Open
DESCRIPTION:Perched on the top floor of Sun Pier House\, our café offers stunning panoramic views of the River Medway\, stretching from Rochester Castle to Upnor Castle. This peaceful spot provides a welcome escape from the bustle of Chatham High Street and is the perfect place to soak up the atmosphere Thursdays\, Fridays and Saturdays.
URL:https://sunpierhouse.co.uk/whatson/cafe-open-3-6/2027-06-17/
LOCATION:Café\, Second Floor\, Sun Pier House\, Chatham\, Kent\, ME4 4HF
CATEGORIES:Café
ATTACH;FMTTYPE=image/jpeg:https://sunpierhouse.co.uk/wp-content/uploads/2025/12/SPh-GalleryTearoom-20220622-56-9219-scaled.jpg
ORGANIZER;CN="Sun Pier House":MAILTO:info@sunpierhouse.co.uk
END:VEVENT
BEGIN:VEVENT
DTSTART;TZID=UTC:20270618T100000
DTEND;TZID=UTC:20270618T160000
DTSTAMP:20260422T094408
CREATED:20260309T135144Z
LAST-MODIFIED:20260326T132247Z
UID:10000324-1813312800-1813334400@sunpierhouse.co.uk
SUMMARY:Café Open
DESCRIPTION:Perched on the top floor of Sun Pier House\, our café offers stunning panoramic views of the River Medway\, stretching from Rochester Castle to Upnor Castle. This peaceful spot provides a welcome escape from the bustle of Chatham High Street and is the perfect place to soak up the atmosphere Thursdays\, Fridays and Saturdays.
URL:https://sunpierhouse.co.uk/whatson/cafe-open-3-6/2027-06-18/
LOCATION:Café\, Second Floor\, Sun Pier House\, Chatham\, Kent\, ME4 4HF
CATEGORIES:Café
ATTACH;FMTTYPE=image/jpeg:https://sunpierhouse.co.uk/wp-content/uploads/2025/12/SPh-GalleryTearoom-20220622-56-9219-scaled.jpg
ORGANIZER;CN="Sun Pier House":MAILTO:info@sunpierhouse.co.uk
END:VEVENT
BEGIN:VEVENT
DTSTART;TZID=UTC:20270619T100000
DTEND;TZID=UTC:20270619T160000
DTSTAMP:20260422T094408
CREATED:20260309T135144Z
LAST-MODIFIED:20260326T132247Z
UID:10000325-1813399200-1813420800@sunpierhouse.co.uk
SUMMARY:Café Open
DESCRIPTION:Perched on the top floor of Sun Pier House\, our café offers stunning panoramic views of the River Medway\, stretching from Rochester Castle to Upnor Castle. This peaceful spot provides a welcome escape from the bustle of Chatham High Street and is the perfect place to soak up the atmosphere Thursdays\, Fridays and Saturdays.
URL:https://sunpierhouse.co.uk/whatson/cafe-open-3-6/2027-06-19/
LOCATION:Café\, Second Floor\, Sun Pier House\, Chatham\, Kent\, ME4 4HF
CATEGORIES:Café
ATTACH;FMTTYPE=image/jpeg:https://sunpierhouse.co.uk/wp-content/uploads/2025/12/SPh-GalleryTearoom-20220622-56-9219-scaled.jpg
ORGANIZER;CN="Sun Pier House":MAILTO:info@sunpierhouse.co.uk
END:VEVENT
BEGIN:VEVENT
DTSTART;TZID=UTC:20270621T091500
DTEND;TZID=UTC:20270621T123000
DTSTAMP:20260422T094408
CREATED:20260326T142758Z
LAST-MODIFIED:20260326T142758Z
UID:10001249-1813569300-1813581000@sunpierhouse.co.uk
SUMMARY:Zen Go Yoga
DESCRIPTION:Join Angela from Zen Go yoga for 3 different classes every Monday.
URL:https://sunpierhouse.co.uk/whatson/zen-go-yoga/2027-06-21/
LOCATION:Community Hire Space\, First Floor\, Sun Pier House\, Chatham\, Kent\, ME4 4HF
CATEGORIES:Class
ATTACH;FMTTYPE=image/jpeg:https://sunpierhouse.co.uk/wp-content/uploads/2026/03/yoga-banner.jpg
ORGANIZER;CN="Zen Go Yoga":MAILTO:zengomedway@gmail.com
END:VEVENT
BEGIN:VEVENT
DTSTART;TZID=UTC:20270622T100000
DTEND;TZID=UTC:20270622T120000
DTSTAMP:20260422T094408
CREATED:20260309T132454Z
LAST-MODIFIED:20260326T133208Z
UID:10000991-1813658400-1813665600@sunpierhouse.co.uk
SUMMARY:Zest - Dementia Friendly Arts Experiences
DESCRIPTION:Bright Shadow’s Zest Groups are shaped to individual needs and are safe and accessible. They introduce a rich mix of arts experiences that are mood-boosting\, invigorating and which enhance communication and relationships. You don’t need to have experience of being creative to enjoy them. They offer a wide range of creative activities designed and led by professional artists based on the interests and needs of those taking part.
URL:https://sunpierhouse.co.uk/whatson/zest-dementia-friendly-arts-experiences/2027-06-22/
LOCATION:Community Hire Space\, First Floor\, Sun Pier House\, Chatham\, Kent\, ME4 4HF
CATEGORIES:Workshop
ATTACH;FMTTYPE=image/jpeg:https://sunpierhouse.co.uk/wp-content/uploads/2026/03/Web-images-1.jpg
END:VEVENT
BEGIN:VEVENT
DTSTART;TZID=UTC:20270623T134500
DTEND;TZID=UTC:20270623T154500
DTSTAMP:20260422T094408
CREATED:20260327T094012Z
LAST-MODIFIED:20260327T095827Z
UID:10001519-1813758300-1813765500@sunpierhouse.co.uk
SUMMARY:Centa Co Circle - Autistic Female Group
DESCRIPTION:Centa Co Circle is a social and creative club for autistic women aged 18+. It provides a calm\, supportive environment where members are able to socialise\, build friendships\, and take part in arts and crafts.
URL:https://sunpierhouse.co.uk/whatson/centa-co-circle-autistic-female-group/2027-06-23/
LOCATION:Creation Space\, Ground Floor\, Sun Pier House\, Chatham\, Kent\, ME4 4HF
CATEGORIES:Event
ATTACH;FMTTYPE=image/jpeg:https://sunpierhouse.co.uk/wp-content/uploads/2026/03/Centa-Co-Circle.jpg
ORGANIZER;CN="Centa Co":MAILTO:contact@centa-co.com
END:VEVENT
BEGIN:VEVENT
DTSTART;TZID=UTC:20270624T100000
DTEND;TZID=UTC:20270624T160000
DTSTAMP:20260422T094408
CREATED:20260309T135144Z
LAST-MODIFIED:20260326T132247Z
UID:10000326-1813831200-1813852800@sunpierhouse.co.uk
SUMMARY:Café Open
DESCRIPTION:Perched on the top floor of Sun Pier House\, our café offers stunning panoramic views of the River Medway\, stretching from Rochester Castle to Upnor Castle. This peaceful spot provides a welcome escape from the bustle of Chatham High Street and is the perfect place to soak up the atmosphere Thursdays\, Fridays and Saturdays.
URL:https://sunpierhouse.co.uk/whatson/cafe-open-3-6/2027-06-24/
LOCATION:Café\, Second Floor\, Sun Pier House\, Chatham\, Kent\, ME4 4HF
CATEGORIES:Café
ATTACH;FMTTYPE=image/jpeg:https://sunpierhouse.co.uk/wp-content/uploads/2025/12/SPh-GalleryTearoom-20220622-56-9219-scaled.jpg
ORGANIZER;CN="Sun Pier House":MAILTO:info@sunpierhouse.co.uk
END:VEVENT
BEGIN:VEVENT
DTSTART;TZID=UTC:20270625T100000
DTEND;TZID=UTC:20270625T160000
DTSTAMP:20260422T094408
CREATED:20260309T135144Z
LAST-MODIFIED:20260326T132247Z
UID:10000327-1813917600-1813939200@sunpierhouse.co.uk
SUMMARY:Café Open
DESCRIPTION:Perched on the top floor of Sun Pier House\, our café offers stunning panoramic views of the River Medway\, stretching from Rochester Castle to Upnor Castle. This peaceful spot provides a welcome escape from the bustle of Chatham High Street and is the perfect place to soak up the atmosphere Thursdays\, Fridays and Saturdays.
URL:https://sunpierhouse.co.uk/whatson/cafe-open-3-6/2027-06-25/
LOCATION:Café\, Second Floor\, Sun Pier House\, Chatham\, Kent\, ME4 4HF
CATEGORIES:Café
ATTACH;FMTTYPE=image/jpeg:https://sunpierhouse.co.uk/wp-content/uploads/2025/12/SPh-GalleryTearoom-20220622-56-9219-scaled.jpg
ORGANIZER;CN="Sun Pier House":MAILTO:info@sunpierhouse.co.uk
END:VEVENT
BEGIN:VEVENT
DTSTART;TZID=UTC:20270626T100000
DTEND;TZID=UTC:20270626T160000
DTSTAMP:20260422T094408
CREATED:20260309T135144Z
LAST-MODIFIED:20260326T132247Z
UID:10000328-1814004000-1814025600@sunpierhouse.co.uk
SUMMARY:Café Open
DESCRIPTION:Perched on the top floor of Sun Pier House\, our café offers stunning panoramic views of the River Medway\, stretching from Rochester Castle to Upnor Castle. This peaceful spot provides a welcome escape from the bustle of Chatham High Street and is the perfect place to soak up the atmosphere Thursdays\, Fridays and Saturdays.
URL:https://sunpierhouse.co.uk/whatson/cafe-open-3-6/2027-06-26/
LOCATION:Café\, Second Floor\, Sun Pier House\, Chatham\, Kent\, ME4 4HF
CATEGORIES:Café
ATTACH;FMTTYPE=image/jpeg:https://sunpierhouse.co.uk/wp-content/uploads/2025/12/SPh-GalleryTearoom-20220622-56-9219-scaled.jpg
ORGANIZER;CN="Sun Pier House":MAILTO:info@sunpierhouse.co.uk
END:VEVENT
BEGIN:VEVENT
DTSTART;TZID=UTC:20270628T091500
DTEND;TZID=UTC:20270628T123000
DTSTAMP:20260422T094408
CREATED:20260326T142758Z
LAST-MODIFIED:20260326T142758Z
UID:10001250-1814174100-1814185800@sunpierhouse.co.uk
SUMMARY:Zen Go Yoga
DESCRIPTION:Join Angela from Zen Go yoga for 3 different classes every Monday.
URL:https://sunpierhouse.co.uk/whatson/zen-go-yoga/2027-06-28/
LOCATION:Community Hire Space\, First Floor\, Sun Pier House\, Chatham\, Kent\, ME4 4HF
CATEGORIES:Class
ATTACH;FMTTYPE=image/jpeg:https://sunpierhouse.co.uk/wp-content/uploads/2026/03/yoga-banner.jpg
ORGANIZER;CN="Zen Go Yoga":MAILTO:zengomedway@gmail.com
END:VEVENT
BEGIN:VEVENT
DTSTART;TZID=UTC:20270629T100000
DTEND;TZID=UTC:20270629T120000
DTSTAMP:20260422T094408
CREATED:20260309T132454Z
LAST-MODIFIED:20260326T133208Z
UID:10000992-1814263200-1814270400@sunpierhouse.co.uk
SUMMARY:Zest - Dementia Friendly Arts Experiences
DESCRIPTION:Bright Shadow’s Zest Groups are shaped to individual needs and are safe and accessible. They introduce a rich mix of arts experiences that are mood-boosting\, invigorating and which enhance communication and relationships. You don’t need to have experience of being creative to enjoy them. They offer a wide range of creative activities designed and led by professional artists based on the interests and needs of those taking part.
URL:https://sunpierhouse.co.uk/whatson/zest-dementia-friendly-arts-experiences/2027-06-29/
LOCATION:Community Hire Space\, First Floor\, Sun Pier House\, Chatham\, Kent\, ME4 4HF
CATEGORIES:Workshop
ATTACH;FMTTYPE=image/jpeg:https://sunpierhouse.co.uk/wp-content/uploads/2026/03/Web-images-1.jpg
END:VEVENT
BEGIN:VEVENT
DTSTART;TZID=UTC:20270630T134500
DTEND;TZID=UTC:20270630T154500
DTSTAMP:20260422T094408
CREATED:20260327T094012Z
LAST-MODIFIED:20260327T095827Z
UID:10001520-1814363100-1814370300@sunpierhouse.co.uk
SUMMARY:Centa Co Circle - Autistic Female Group
DESCRIPTION:Centa Co Circle is a social and creative club for autistic women aged 18+. It provides a calm\, supportive environment where members are able to socialise\, build friendships\, and take part in arts and crafts.
URL:https://sunpierhouse.co.uk/whatson/centa-co-circle-autistic-female-group/2027-06-30/
LOCATION:Creation Space\, Ground Floor\, Sun Pier House\, Chatham\, Kent\, ME4 4HF
CATEGORIES:Event
ATTACH;FMTTYPE=image/jpeg:https://sunpierhouse.co.uk/wp-content/uploads/2026/03/Centa-Co-Circle.jpg
ORGANIZER;CN="Centa Co":MAILTO:contact@centa-co.com
END:VEVENT
BEGIN:VEVENT
DTSTART;TZID=UTC:20270701T100000
DTEND;TZID=UTC:20270701T160000
DTSTAMP:20260422T094408
CREATED:20260309T135144Z
LAST-MODIFIED:20260326T132247Z
UID:10000329-1814436000-1814457600@sunpierhouse.co.uk
SUMMARY:Café Open
DESCRIPTION:Perched on the top floor of Sun Pier House\, our café offers stunning panoramic views of the River Medway\, stretching from Rochester Castle to Upnor Castle. This peaceful spot provides a welcome escape from the bustle of Chatham High Street and is the perfect place to soak up the atmosphere Thursdays\, Fridays and Saturdays.
URL:https://sunpierhouse.co.uk/whatson/cafe-open-3-6/2027-07-01/
LOCATION:Café\, Second Floor\, Sun Pier House\, Chatham\, Kent\, ME4 4HF
CATEGORIES:Café
ATTACH;FMTTYPE=image/jpeg:https://sunpierhouse.co.uk/wp-content/uploads/2025/12/SPh-GalleryTearoom-20220622-56-9219-scaled.jpg
ORGANIZER;CN="Sun Pier House":MAILTO:info@sunpierhouse.co.uk
END:VEVENT
BEGIN:VEVENT
DTSTART;TZID=UTC:20270701T160000
DTEND;TZID=UTC:20270701T180000
DTSTAMP:20260422T094408
CREATED:20260402T105918Z
LAST-MODIFIED:20260402T105918Z
UID:10001903-1814457600-1814464800@sunpierhouse.co.uk
SUMMARY:Draw Manga with Nadia
DESCRIPTION:Join local comic artist Nadia Perrotta for a relaxed monthly manga session in the Sun Pier House Café. \nDraw\, chat\, get inspired\, and take a peek behind the scenes of Murphy’s Adventures\, Nadia’s manga-influenced comic series.\nNo teaching\, just shared creativity. \nFirst Thursday of the month\n4–6pm\nSun Pier House Café\n£8 per session – All ages welcome
URL:https://sunpierhouse.co.uk/whatson/draw-manga-with-nadia/2027-07-01/
LOCATION:Café\, Second Floor\, Sun Pier House\, Chatham\, Kent\, ME4 4HF
CATEGORIES:Workshop
ATTACH;FMTTYPE=image/jpeg:https://sunpierhouse.co.uk/wp-content/uploads/2026/04/Web-images-3.jpg
ORGANIZER;CN="House of Stars":MAILTO:info@house-of-stars.co.uk
END:VEVENT
BEGIN:VEVENT
DTSTART;TZID=UTC:20270702T100000
DTEND;TZID=UTC:20270702T160000
DTSTAMP:20260422T094408
CREATED:20260309T135144Z
LAST-MODIFIED:20260326T132247Z
UID:10000330-1814522400-1814544000@sunpierhouse.co.uk
SUMMARY:Café Open
DESCRIPTION:Perched on the top floor of Sun Pier House\, our café offers stunning panoramic views of the River Medway\, stretching from Rochester Castle to Upnor Castle. This peaceful spot provides a welcome escape from the bustle of Chatham High Street and is the perfect place to soak up the atmosphere Thursdays\, Fridays and Saturdays.
URL:https://sunpierhouse.co.uk/whatson/cafe-open-3-6/2027-07-02/
LOCATION:Café\, Second Floor\, Sun Pier House\, Chatham\, Kent\, ME4 4HF
CATEGORIES:Café
ATTACH;FMTTYPE=image/jpeg:https://sunpierhouse.co.uk/wp-content/uploads/2025/12/SPh-GalleryTearoom-20220622-56-9219-scaled.jpg
ORGANIZER;CN="Sun Pier House":MAILTO:info@sunpierhouse.co.uk
END:VEVENT
BEGIN:VEVENT
DTSTART;TZID=UTC:20270703T100000
DTEND;TZID=UTC:20270703T160000
DTSTAMP:20260422T094408
CREATED:20260309T135144Z
LAST-MODIFIED:20260326T132247Z
UID:10000331-1814608800-1814630400@sunpierhouse.co.uk
SUMMARY:Café Open
DESCRIPTION:Perched on the top floor of Sun Pier House\, our café offers stunning panoramic views of the River Medway\, stretching from Rochester Castle to Upnor Castle. This peaceful spot provides a welcome escape from the bustle of Chatham High Street and is the perfect place to soak up the atmosphere Thursdays\, Fridays and Saturdays.
URL:https://sunpierhouse.co.uk/whatson/cafe-open-3-6/2027-07-03/
LOCATION:Café\, Second Floor\, Sun Pier House\, Chatham\, Kent\, ME4 4HF
CATEGORIES:Café
ATTACH;FMTTYPE=image/jpeg:https://sunpierhouse.co.uk/wp-content/uploads/2025/12/SPh-GalleryTearoom-20220622-56-9219-scaled.jpg
ORGANIZER;CN="Sun Pier House":MAILTO:info@sunpierhouse.co.uk
END:VEVENT
BEGIN:VEVENT
DTSTART;TZID=UTC:20270705T091500
DTEND;TZID=UTC:20270705T123000
DTSTAMP:20260422T094408
CREATED:20260326T142758Z
LAST-MODIFIED:20260326T142758Z
UID:10001251-1814778900-1814790600@sunpierhouse.co.uk
SUMMARY:Zen Go Yoga
DESCRIPTION:Join Angela from Zen Go yoga for 3 different classes every Monday.
URL:https://sunpierhouse.co.uk/whatson/zen-go-yoga/2027-07-05/
LOCATION:Community Hire Space\, First Floor\, Sun Pier House\, Chatham\, Kent\, ME4 4HF
CATEGORIES:Class
ATTACH;FMTTYPE=image/jpeg:https://sunpierhouse.co.uk/wp-content/uploads/2026/03/yoga-banner.jpg
ORGANIZER;CN="Zen Go Yoga":MAILTO:zengomedway@gmail.com
END:VEVENT
BEGIN:VEVENT
DTSTART;TZID=UTC:20270706T100000
DTEND;TZID=UTC:20270706T120000
DTSTAMP:20260422T094408
CREATED:20260309T132454Z
LAST-MODIFIED:20260326T133208Z
UID:10000993-1814868000-1814875200@sunpierhouse.co.uk
SUMMARY:Zest - Dementia Friendly Arts Experiences
DESCRIPTION:Bright Shadow’s Zest Groups are shaped to individual needs and are safe and accessible. They introduce a rich mix of arts experiences that are mood-boosting\, invigorating and which enhance communication and relationships. You don’t need to have experience of being creative to enjoy them. They offer a wide range of creative activities designed and led by professional artists based on the interests and needs of those taking part.
URL:https://sunpierhouse.co.uk/whatson/zest-dementia-friendly-arts-experiences/2027-07-06/
LOCATION:Community Hire Space\, First Floor\, Sun Pier House\, Chatham\, Kent\, ME4 4HF
CATEGORIES:Workshop
ATTACH;FMTTYPE=image/jpeg:https://sunpierhouse.co.uk/wp-content/uploads/2026/03/Web-images-1.jpg
END:VEVENT
BEGIN:VEVENT
DTSTART;TZID=UTC:20270707T134500
DTEND;TZID=UTC:20270707T154500
DTSTAMP:20260422T094408
CREATED:20260327T094012Z
LAST-MODIFIED:20260327T095827Z
UID:10001521-1814967900-1814975100@sunpierhouse.co.uk
SUMMARY:Centa Co Circle - Autistic Female Group
DESCRIPTION:Centa Co Circle is a social and creative club for autistic women aged 18+. It provides a calm\, supportive environment where members are able to socialise\, build friendships\, and take part in arts and crafts.
URL:https://sunpierhouse.co.uk/whatson/centa-co-circle-autistic-female-group/2027-07-07/
LOCATION:Creation Space\, Ground Floor\, Sun Pier House\, Chatham\, Kent\, ME4 4HF
CATEGORIES:Event
ATTACH;FMTTYPE=image/jpeg:https://sunpierhouse.co.uk/wp-content/uploads/2026/03/Centa-Co-Circle.jpg
ORGANIZER;CN="Centa Co":MAILTO:contact@centa-co.com
END:VEVENT
BEGIN:VEVENT
DTSTART;TZID=UTC:20270708T100000
DTEND;TZID=UTC:20270708T160000
DTSTAMP:20260422T094408
CREATED:20260309T135144Z
LAST-MODIFIED:20260326T132247Z
UID:10000332-1815040800-1815062400@sunpierhouse.co.uk
SUMMARY:Café Open
DESCRIPTION:Perched on the top floor of Sun Pier House\, our café offers stunning panoramic views of the River Medway\, stretching from Rochester Castle to Upnor Castle. This peaceful spot provides a welcome escape from the bustle of Chatham High Street and is the perfect place to soak up the atmosphere Thursdays\, Fridays and Saturdays.
URL:https://sunpierhouse.co.uk/whatson/cafe-open-3-6/2027-07-08/
LOCATION:Café\, Second Floor\, Sun Pier House\, Chatham\, Kent\, ME4 4HF
CATEGORIES:Café
ATTACH;FMTTYPE=image/jpeg:https://sunpierhouse.co.uk/wp-content/uploads/2025/12/SPh-GalleryTearoom-20220622-56-9219-scaled.jpg
ORGANIZER;CN="Sun Pier House":MAILTO:info@sunpierhouse.co.uk
END:VEVENT
BEGIN:VEVENT
DTSTART;TZID=UTC:20270709T100000
DTEND;TZID=UTC:20270709T160000
DTSTAMP:20260422T094408
CREATED:20260309T135144Z
LAST-MODIFIED:20260326T132247Z
UID:10000333-1815127200-1815148800@sunpierhouse.co.uk
SUMMARY:Café Open
DESCRIPTION:Perched on the top floor of Sun Pier House\, our café offers stunning panoramic views of the River Medway\, stretching from Rochester Castle to Upnor Castle. This peaceful spot provides a welcome escape from the bustle of Chatham High Street and is the perfect place to soak up the atmosphere Thursdays\, Fridays and Saturdays.
URL:https://sunpierhouse.co.uk/whatson/cafe-open-3-6/2027-07-09/
LOCATION:Café\, Second Floor\, Sun Pier House\, Chatham\, Kent\, ME4 4HF
CATEGORIES:Café
ATTACH;FMTTYPE=image/jpeg:https://sunpierhouse.co.uk/wp-content/uploads/2025/12/SPh-GalleryTearoom-20220622-56-9219-scaled.jpg
ORGANIZER;CN="Sun Pier House":MAILTO:info@sunpierhouse.co.uk
END:VEVENT
BEGIN:VEVENT
DTSTART;TZID=UTC:20270710T100000
DTEND;TZID=UTC:20270710T160000
DTSTAMP:20260422T094408
CREATED:20260309T135144Z
LAST-MODIFIED:20260326T132247Z
UID:10000334-1815213600-1815235200@sunpierhouse.co.uk
SUMMARY:Café Open
DESCRIPTION:Perched on the top floor of Sun Pier House\, our café offers stunning panoramic views of the River Medway\, stretching from Rochester Castle to Upnor Castle. This peaceful spot provides a welcome escape from the bustle of Chatham High Street and is the perfect place to soak up the atmosphere Thursdays\, Fridays and Saturdays.
URL:https://sunpierhouse.co.uk/whatson/cafe-open-3-6/2027-07-10/
LOCATION:Café\, Second Floor\, Sun Pier House\, Chatham\, Kent\, ME4 4HF
CATEGORIES:Café
ATTACH;FMTTYPE=image/jpeg:https://sunpierhouse.co.uk/wp-content/uploads/2025/12/SPh-GalleryTearoom-20220622-56-9219-scaled.jpg
ORGANIZER;CN="Sun Pier House":MAILTO:info@sunpierhouse.co.uk
END:VEVENT
BEGIN:VEVENT
DTSTART;TZID=UTC:20270712T091500
DTEND;TZID=UTC:20270712T123000
DTSTAMP:20260422T094408
CREATED:20260326T142758Z
LAST-MODIFIED:20260326T142758Z
UID:10001252-1815383700-1815395400@sunpierhouse.co.uk
SUMMARY:Zen Go Yoga
DESCRIPTION:Join Angela from Zen Go yoga for 3 different classes every Monday.
URL:https://sunpierhouse.co.uk/whatson/zen-go-yoga/2027-07-12/
LOCATION:Community Hire Space\, First Floor\, Sun Pier House\, Chatham\, Kent\, ME4 4HF
CATEGORIES:Class
ATTACH;FMTTYPE=image/jpeg:https://sunpierhouse.co.uk/wp-content/uploads/2026/03/yoga-banner.jpg
ORGANIZER;CN="Zen Go Yoga":MAILTO:zengomedway@gmail.com
END:VEVENT
BEGIN:VEVENT
DTSTART;TZID=UTC:20270713T100000
DTEND;TZID=UTC:20270713T120000
DTSTAMP:20260422T094408
CREATED:20260309T132454Z
LAST-MODIFIED:20260326T133208Z
UID:10000994-1815472800-1815480000@sunpierhouse.co.uk
SUMMARY:Zest - Dementia Friendly Arts Experiences
DESCRIPTION:Bright Shadow’s Zest Groups are shaped to individual needs and are safe and accessible. They introduce a rich mix of arts experiences that are mood-boosting\, invigorating and which enhance communication and relationships. You don’t need to have experience of being creative to enjoy them. They offer a wide range of creative activities designed and led by professional artists based on the interests and needs of those taking part.
URL:https://sunpierhouse.co.uk/whatson/zest-dementia-friendly-arts-experiences/2027-07-13/
LOCATION:Community Hire Space\, First Floor\, Sun Pier House\, Chatham\, Kent\, ME4 4HF
CATEGORIES:Workshop
ATTACH;FMTTYPE=image/jpeg:https://sunpierhouse.co.uk/wp-content/uploads/2026/03/Web-images-1.jpg
END:VEVENT
BEGIN:VEVENT
DTSTART;TZID=UTC:20270714T134500
DTEND;TZID=UTC:20270714T154500
DTSTAMP:20260422T094408
CREATED:20260327T094012Z
LAST-MODIFIED:20260327T095827Z
UID:10001522-1815572700-1815579900@sunpierhouse.co.uk
SUMMARY:Centa Co Circle - Autistic Female Group
DESCRIPTION:Centa Co Circle is a social and creative club for autistic women aged 18+. It provides a calm\, supportive environment where members are able to socialise\, build friendships\, and take part in arts and crafts.
URL:https://sunpierhouse.co.uk/whatson/centa-co-circle-autistic-female-group/2027-07-14/
LOCATION:Creation Space\, Ground Floor\, Sun Pier House\, Chatham\, Kent\, ME4 4HF
CATEGORIES:Event
ATTACH;FMTTYPE=image/jpeg:https://sunpierhouse.co.uk/wp-content/uploads/2026/03/Centa-Co-Circle.jpg
ORGANIZER;CN="Centa Co":MAILTO:contact@centa-co.com
END:VEVENT
BEGIN:VEVENT
DTSTART;TZID=UTC:20270715T100000
DTEND;TZID=UTC:20270715T160000
DTSTAMP:20260422T094408
CREATED:20260309T135144Z
LAST-MODIFIED:20260326T132247Z
UID:10000335-1815645600-1815667200@sunpierhouse.co.uk
SUMMARY:Café Open
DESCRIPTION:Perched on the top floor of Sun Pier House\, our café offers stunning panoramic views of the River Medway\, stretching from Rochester Castle to Upnor Castle. This peaceful spot provides a welcome escape from the bustle of Chatham High Street and is the perfect place to soak up the atmosphere Thursdays\, Fridays and Saturdays.
URL:https://sunpierhouse.co.uk/whatson/cafe-open-3-6/2027-07-15/
LOCATION:Café\, Second Floor\, Sun Pier House\, Chatham\, Kent\, ME4 4HF
CATEGORIES:Café
ATTACH;FMTTYPE=image/jpeg:https://sunpierhouse.co.uk/wp-content/uploads/2025/12/SPh-GalleryTearoom-20220622-56-9219-scaled.jpg
ORGANIZER;CN="Sun Pier House":MAILTO:info@sunpierhouse.co.uk
END:VEVENT
BEGIN:VEVENT
DTSTART;TZID=UTC:20270716T100000
DTEND;TZID=UTC:20270716T160000
DTSTAMP:20260422T094408
CREATED:20260309T135144Z
LAST-MODIFIED:20260326T132247Z
UID:10000336-1815732000-1815753600@sunpierhouse.co.uk
SUMMARY:Café Open
DESCRIPTION:Perched on the top floor of Sun Pier House\, our café offers stunning panoramic views of the River Medway\, stretching from Rochester Castle to Upnor Castle. This peaceful spot provides a welcome escape from the bustle of Chatham High Street and is the perfect place to soak up the atmosphere Thursdays\, Fridays and Saturdays.
URL:https://sunpierhouse.co.uk/whatson/cafe-open-3-6/2027-07-16/
LOCATION:Café\, Second Floor\, Sun Pier House\, Chatham\, Kent\, ME4 4HF
CATEGORIES:Café
ATTACH;FMTTYPE=image/jpeg:https://sunpierhouse.co.uk/wp-content/uploads/2025/12/SPh-GalleryTearoom-20220622-56-9219-scaled.jpg
ORGANIZER;CN="Sun Pier House":MAILTO:info@sunpierhouse.co.uk
END:VEVENT
END:VCALENDAR