BEGIN:VCALENDAR
VERSION:2.0
PRODID:-//Sun Pier House CIC - ECPv6.15.18//NONSGML v1.0//EN
CALSCALE:GREGORIAN
METHOD:PUBLISH
X-WR-CALNAME:Sun Pier House CIC
X-ORIGINAL-URL:https://sunpierhouse.co.uk
X-WR-CALDESC:Events for Sun Pier House CIC
REFRESH-INTERVAL;VALUE=DURATION:PT1H
X-Robots-Tag:noindex
X-PUBLISHED-TTL:PT1H
BEGIN:VTIMEZONE
TZID:UTC
BEGIN:STANDARD
TZOFFSETFROM:+0000
TZOFFSETTO:+0000
TZNAME:UTC
DTSTART:20250101T000000
END:STANDARD
END:VTIMEZONE
BEGIN:VEVENT
DTSTART;TZID=UTC:20260608T091500
DTEND;TZID=UTC:20260608T123000
DTSTAMP:20260421T193512
CREATED:20260326T142758Z
LAST-MODIFIED:20260326T142758Z
UID:10001195-1780910100-1780921800@sunpierhouse.co.uk
SUMMARY:Zen Go Yoga
DESCRIPTION:Join Angela from Zen Go yoga for 3 different classes every Monday.
URL:https://sunpierhouse.co.uk/whatson/zen-go-yoga/2026-06-08/
LOCATION:Community Hire Space\, First Floor\, Sun Pier House\, Chatham\, Kent\, ME4 4HF
CATEGORIES:Class
ATTACH;FMTTYPE=image/jpeg:https://sunpierhouse.co.uk/wp-content/uploads/2026/03/yoga-banner.jpg
ORGANIZER;CN="Zen Go Yoga":MAILTO:zengomedway@gmail.com
END:VEVENT
BEGIN:VEVENT
DTSTART;TZID=UTC:20260606T100000
DTEND;TZID=UTC:20260606T160000
DTSTAMP:20260421T193512
CREATED:20260309T135144Z
LAST-MODIFIED:20260326T132247Z
UID:10000166-1780740000-1780761600@sunpierhouse.co.uk
SUMMARY:Café Open
DESCRIPTION:Perched on the top floor of Sun Pier House\, our café offers stunning panoramic views of the River Medway\, stretching from Rochester Castle to Upnor Castle. This peaceful spot provides a welcome escape from the bustle of Chatham High Street and is the perfect place to soak up the atmosphere Thursdays\, Fridays and Saturdays.
URL:https://sunpierhouse.co.uk/whatson/cafe-open-3-6/2026-06-06/
LOCATION:Café\, Second Floor\, Sun Pier House\, Chatham\, Kent\, ME4 4HF
CATEGORIES:Café
ATTACH;FMTTYPE=image/jpeg:https://sunpierhouse.co.uk/wp-content/uploads/2025/12/SPh-GalleryTearoom-20220622-56-9219-scaled.jpg
ORGANIZER;CN="Sun Pier House":MAILTO:info@sunpierhouse.co.uk
END:VEVENT
BEGIN:VEVENT
DTSTART;TZID=UTC:20260605T100000
DTEND;TZID=UTC:20260605T160000
DTSTAMP:20260421T193512
CREATED:20260309T135144Z
LAST-MODIFIED:20260326T132247Z
UID:10000165-1780653600-1780675200@sunpierhouse.co.uk
SUMMARY:Café Open
DESCRIPTION:Perched on the top floor of Sun Pier House\, our café offers stunning panoramic views of the River Medway\, stretching from Rochester Castle to Upnor Castle. This peaceful spot provides a welcome escape from the bustle of Chatham High Street and is the perfect place to soak up the atmosphere Thursdays\, Fridays and Saturdays.
URL:https://sunpierhouse.co.uk/whatson/cafe-open-3-6/2026-06-05/
LOCATION:Café\, Second Floor\, Sun Pier House\, Chatham\, Kent\, ME4 4HF
CATEGORIES:Café
ATTACH;FMTTYPE=image/jpeg:https://sunpierhouse.co.uk/wp-content/uploads/2025/12/SPh-GalleryTearoom-20220622-56-9219-scaled.jpg
ORGANIZER;CN="Sun Pier House":MAILTO:info@sunpierhouse.co.uk
END:VEVENT
BEGIN:VEVENT
DTSTART;TZID=UTC:20260604T160000
DTEND;TZID=UTC:20260604T180000
DTSTAMP:20260421T193512
CREATED:20260402T105918Z
LAST-MODIFIED:20260402T105918Z
UID:10001890-1780588800-1780596000@sunpierhouse.co.uk
SUMMARY:Draw Manga with Nadia
DESCRIPTION:Join local comic artist Nadia Perrotta for a relaxed monthly manga session in the Sun Pier House Café. \nDraw\, chat\, get inspired\, and take a peek behind the scenes of Murphy’s Adventures\, Nadia’s manga-influenced comic series.\nNo teaching\, just shared creativity. \nFirst Thursday of the month\n4–6pm\nSun Pier House Café\n£8 per session – All ages welcome
URL:https://sunpierhouse.co.uk/whatson/draw-manga-with-nadia/2026-06-04/
LOCATION:Café\, Second Floor\, Sun Pier House\, Chatham\, Kent\, ME4 4HF
CATEGORIES:Workshop
ATTACH;FMTTYPE=image/jpeg:https://sunpierhouse.co.uk/wp-content/uploads/2026/04/Web-images-3.jpg
ORGANIZER;CN="House of Stars":MAILTO:info@house-of-stars.co.uk
END:VEVENT
BEGIN:VEVENT
DTSTART;TZID=UTC:20260604T100000
DTEND;TZID=UTC:20260604T160000
DTSTAMP:20260421T193512
CREATED:20260309T135144Z
LAST-MODIFIED:20260326T132247Z
UID:10000164-1780567200-1780588800@sunpierhouse.co.uk
SUMMARY:Café Open
DESCRIPTION:Perched on the top floor of Sun Pier House\, our café offers stunning panoramic views of the River Medway\, stretching from Rochester Castle to Upnor Castle. This peaceful spot provides a welcome escape from the bustle of Chatham High Street and is the perfect place to soak up the atmosphere Thursdays\, Fridays and Saturdays.
URL:https://sunpierhouse.co.uk/whatson/cafe-open-3-6/2026-06-04/
LOCATION:Café\, Second Floor\, Sun Pier House\, Chatham\, Kent\, ME4 4HF
CATEGORIES:Café
ATTACH;FMTTYPE=image/jpeg:https://sunpierhouse.co.uk/wp-content/uploads/2025/12/SPh-GalleryTearoom-20220622-56-9219-scaled.jpg
ORGANIZER;CN="Sun Pier House":MAILTO:info@sunpierhouse.co.uk
END:VEVENT
BEGIN:VEVENT
DTSTART;TZID=UTC:20260604T100000
DTEND;TZID=UTC:20260604T120000
DTSTAMP:20260421T193512
CREATED:20260309T115029Z
LAST-MODIFIED:20260326T130735Z
UID:10000058-1780567200-1780574400@sunpierhouse.co.uk
SUMMARY:Thursday Art Club
DESCRIPTION:Artist-led sessions allowing participants to work on their own projects or explore new techniques
URL:https://sunpierhouse.co.uk/whatson/thursday-art-club-4/2026-06-04/
LOCATION:Creation Space\, Ground Floor\, Sun Pier House\, Chatham\, Kent\, ME4 4HF
CATEGORIES:Class
ATTACH;FMTTYPE=image/jpeg:https://sunpierhouse.co.uk/wp-content/uploads/2026/03/TAC-Web.jpg
ORGANIZER;CN="Sun Pier House":MAILTO:info@sunpierhouse.co.uk
END:VEVENT
BEGIN:VEVENT
DTSTART;TZID=UTC:20260603T134500
DTEND;TZID=UTC:20260603T154500
DTSTAMP:20260421T193512
CREATED:20260327T094012Z
LAST-MODIFIED:20260327T095827Z
UID:10001464-1780494300-1780501500@sunpierhouse.co.uk
SUMMARY:Centa Co Circle - Autistic Female Group
DESCRIPTION:Centa Co Circle is a social and creative club for autistic women aged 18+. It provides a calm\, supportive environment where members are able to socialise\, build friendships\, and take part in arts and crafts.
URL:https://sunpierhouse.co.uk/whatson/centa-co-circle-autistic-female-group/2026-06-03/
LOCATION:Creation Space\, Ground Floor\, Sun Pier House\, Chatham\, Kent\, ME4 4HF
CATEGORIES:Event
ATTACH;FMTTYPE=image/jpeg:https://sunpierhouse.co.uk/wp-content/uploads/2026/03/Centa-Co-Circle.jpg
ORGANIZER;CN="Centa Co":MAILTO:contact@centa-co.com
END:VEVENT
BEGIN:VEVENT
DTSTART;TZID=UTC:20260603T100000
DTEND;TZID=UTC:20260603T120000
DTSTAMP:20260421T193512
CREATED:20260309T114826Z
LAST-MODIFIED:20260326T130924Z
UID:10000122-1780480800-1780488000@sunpierhouse.co.uk
SUMMARY:Wednesday Art Club
DESCRIPTION:Artist-led sessions allowing participants to work on their own projects or explore new techniques
URL:https://sunpierhouse.co.uk/whatson/wednesday-art-club-4/2026-06-03/
LOCATION:Creation Space\, Ground Floor\, Sun Pier House\, Chatham\, Kent\, ME4 4HF
CATEGORIES:Class
ATTACH;FMTTYPE=image/jpeg:https://sunpierhouse.co.uk/wp-content/uploads/2026/03/WAC-Web-1.jpg
ORGANIZER;CN="Sun Pier House":MAILTO:info@sunpierhouse.co.uk
END:VEVENT
BEGIN:VEVENT
DTSTART;TZID=UTC:20260602T153000
DTEND;TZID=UTC:20260602T173000
DTSTAMP:20260421T193512
CREATED:20260309T133853Z
LAST-MODIFIED:20260326T132455Z
UID:10000919-1780414200-1780421400@sunpierhouse.co.uk
SUMMARY:The Anchor
DESCRIPTION:The Anchor is an after-class social club where older teens can stop by for a drink\, get creative\, learn something new\, or just chill with friends.
URL:https://sunpierhouse.co.uk/whatson/the-anchor-2-2/2026-06-02/
LOCATION:Café\, Second Floor\, Sun Pier House\, Chatham\, Kent\, ME4 4HF
CATEGORIES:Event
ATTACH;FMTTYPE=image/jpeg:https://sunpierhouse.co.uk/wp-content/uploads/2025/02/The-Anchor-Web-designs.jpg
ORGANIZER;CN="Sun Pier House":MAILTO:info@sunpierhouse.co.uk
END:VEVENT
BEGIN:VEVENT
DTSTART;TZID=UTC:20260602T100000
DTEND;TZID=UTC:20260602T120000
DTSTAMP:20260421T193512
CREATED:20260309T132454Z
LAST-MODIFIED:20260326T133208Z
UID:10000944-1780394400-1780401600@sunpierhouse.co.uk
SUMMARY:Zest - Dementia Friendly Arts Experiences
DESCRIPTION:Bright Shadow’s Zest Groups are shaped to individual needs and are safe and accessible. They introduce a rich mix of arts experiences that are mood-boosting\, invigorating and which enhance communication and relationships. You don’t need to have experience of being creative to enjoy them. They offer a wide range of creative activities designed and led by professional artists based on the interests and needs of those taking part.
URL:https://sunpierhouse.co.uk/whatson/zest-dementia-friendly-arts-experiences/2026-06-02/
LOCATION:Community Hire Space\, First Floor\, Sun Pier House\, Chatham\, Kent\, ME4 4HF
CATEGORIES:Workshop
ATTACH;FMTTYPE=image/jpeg:https://sunpierhouse.co.uk/wp-content/uploads/2026/03/Web-images-1.jpg
END:VEVENT
BEGIN:VEVENT
DTSTART;TZID=UTC:20260601T091500
DTEND;TZID=UTC:20260601T123000
DTSTAMP:20260421T193512
CREATED:20260326T142758Z
LAST-MODIFIED:20260326T142758Z
UID:10001194-1780305300-1780317000@sunpierhouse.co.uk
SUMMARY:Zen Go Yoga
DESCRIPTION:Join Angela from Zen Go yoga for 3 different classes every Monday.
URL:https://sunpierhouse.co.uk/whatson/zen-go-yoga/2026-06-01/
LOCATION:Community Hire Space\, First Floor\, Sun Pier House\, Chatham\, Kent\, ME4 4HF
CATEGORIES:Class
ATTACH;FMTTYPE=image/jpeg:https://sunpierhouse.co.uk/wp-content/uploads/2026/03/yoga-banner.jpg
ORGANIZER;CN="Zen Go Yoga":MAILTO:zengomedway@gmail.com
END:VEVENT
BEGIN:VEVENT
DTSTART;TZID=UTC:20260530T100000
DTEND;TZID=UTC:20260530T160000
DTSTAMP:20260421T193512
CREATED:20260309T135144Z
LAST-MODIFIED:20260326T132247Z
UID:10000163-1780135200-1780156800@sunpierhouse.co.uk
SUMMARY:Café Open
DESCRIPTION:Perched on the top floor of Sun Pier House\, our café offers stunning panoramic views of the River Medway\, stretching from Rochester Castle to Upnor Castle. This peaceful spot provides a welcome escape from the bustle of Chatham High Street and is the perfect place to soak up the atmosphere Thursdays\, Fridays and Saturdays.
URL:https://sunpierhouse.co.uk/whatson/cafe-open-3-6/2026-05-30/
LOCATION:Café\, Second Floor\, Sun Pier House\, Chatham\, Kent\, ME4 4HF
CATEGORIES:Café
ATTACH;FMTTYPE=image/jpeg:https://sunpierhouse.co.uk/wp-content/uploads/2025/12/SPh-GalleryTearoom-20220622-56-9219-scaled.jpg
ORGANIZER;CN="Sun Pier House":MAILTO:info@sunpierhouse.co.uk
END:VEVENT
BEGIN:VEVENT
DTSTART;TZID=UTC:20260529T100000
DTEND;TZID=UTC:20260529T160000
DTSTAMP:20260421T193512
CREATED:20260309T135144Z
LAST-MODIFIED:20260326T132247Z
UID:10000162-1780048800-1780070400@sunpierhouse.co.uk
SUMMARY:Café Open
DESCRIPTION:Perched on the top floor of Sun Pier House\, our café offers stunning panoramic views of the River Medway\, stretching from Rochester Castle to Upnor Castle. This peaceful spot provides a welcome escape from the bustle of Chatham High Street and is the perfect place to soak up the atmosphere Thursdays\, Fridays and Saturdays.
URL:https://sunpierhouse.co.uk/whatson/cafe-open-3-6/2026-05-29/
LOCATION:Café\, Second Floor\, Sun Pier House\, Chatham\, Kent\, ME4 4HF
CATEGORIES:Café
ATTACH;FMTTYPE=image/jpeg:https://sunpierhouse.co.uk/wp-content/uploads/2025/12/SPh-GalleryTearoom-20220622-56-9219-scaled.jpg
ORGANIZER;CN="Sun Pier House":MAILTO:info@sunpierhouse.co.uk
END:VEVENT
BEGIN:VEVENT
DTSTART;TZID=UTC:20260529T100000
DTEND;TZID=UTC:20260529T160000
DTSTAMP:20260421T193512
CREATED:20260223T123007Z
LAST-MODIFIED:20260223T125917Z
UID:10000020-1780048800-1780070400@sunpierhouse.co.uk
SUMMARY:Kids Aloud
DESCRIPTION:Looking for something different to do with the kids? Join us for Kids Aloud at Sun Pier House — a relaxed\, welcoming gallery session where noise is part of the fun! Perfect for families\, carers\, and curious little minds. Drop in anytime and stay as long as you like.
URL:https://sunpierhouse.co.uk/whatson/kids-aloud/
LOCATION:Riverside Gallery\, Second Floor\, Sun Pier House\, Chatham\, Kent\, ME4 4HF
CATEGORIES:Event
ATTACH;FMTTYPE=image/jpeg:https://sunpierhouse.co.uk/wp-content/uploads/2026/02/Kids-Aloud-2026.jpg
ORGANIZER;CN="Sun Pier House":MAILTO:info@sunpierhouse.co.uk
END:VEVENT
BEGIN:VEVENT
DTSTART;TZID=UTC:20260528T100000
DTEND;TZID=UTC:20260528T160000
DTSTAMP:20260421T193512
CREATED:20260309T135144Z
LAST-MODIFIED:20260326T132247Z
UID:10000161-1779962400-1779984000@sunpierhouse.co.uk
SUMMARY:Café Open
DESCRIPTION:Perched on the top floor of Sun Pier House\, our café offers stunning panoramic views of the River Medway\, stretching from Rochester Castle to Upnor Castle. This peaceful spot provides a welcome escape from the bustle of Chatham High Street and is the perfect place to soak up the atmosphere Thursdays\, Fridays and Saturdays.
URL:https://sunpierhouse.co.uk/whatson/cafe-open-3-6/2026-05-28/
LOCATION:Café\, Second Floor\, Sun Pier House\, Chatham\, Kent\, ME4 4HF
CATEGORIES:Café
ATTACH;FMTTYPE=image/jpeg:https://sunpierhouse.co.uk/wp-content/uploads/2025/12/SPh-GalleryTearoom-20220622-56-9219-scaled.jpg
ORGANIZER;CN="Sun Pier House":MAILTO:info@sunpierhouse.co.uk
END:VEVENT
BEGIN:VEVENT
DTSTART;TZID=UTC:20260527T134500
DTEND;TZID=UTC:20260527T154500
DTSTAMP:20260421T193512
CREATED:20260327T094012Z
LAST-MODIFIED:20260327T095827Z
UID:10001463-1779889500-1779896700@sunpierhouse.co.uk
SUMMARY:Centa Co Circle - Autistic Female Group
DESCRIPTION:Centa Co Circle is a social and creative club for autistic women aged 18+. It provides a calm\, supportive environment where members are able to socialise\, build friendships\, and take part in arts and crafts.
URL:https://sunpierhouse.co.uk/whatson/centa-co-circle-autistic-female-group/2026-05-27/
LOCATION:Creation Space\, Ground Floor\, Sun Pier House\, Chatham\, Kent\, ME4 4HF
CATEGORIES:Event
ATTACH;FMTTYPE=image/jpeg:https://sunpierhouse.co.uk/wp-content/uploads/2026/03/Centa-Co-Circle.jpg
ORGANIZER;CN="Centa Co":MAILTO:contact@centa-co.com
END:VEVENT
BEGIN:VEVENT
DTSTART;TZID=UTC:20260526T100000
DTEND;TZID=UTC:20260526T120000
DTSTAMP:20260421T193512
CREATED:20260309T132454Z
LAST-MODIFIED:20260326T133208Z
UID:10000943-1779789600-1779796800@sunpierhouse.co.uk
SUMMARY:Zest - Dementia Friendly Arts Experiences
DESCRIPTION:Bright Shadow’s Zest Groups are shaped to individual needs and are safe and accessible. They introduce a rich mix of arts experiences that are mood-boosting\, invigorating and which enhance communication and relationships. You don’t need to have experience of being creative to enjoy them. They offer a wide range of creative activities designed and led by professional artists based on the interests and needs of those taking part.
URL:https://sunpierhouse.co.uk/whatson/zest-dementia-friendly-arts-experiences/2026-05-26/
LOCATION:Community Hire Space\, First Floor\, Sun Pier House\, Chatham\, Kent\, ME4 4HF
CATEGORIES:Workshop
ATTACH;FMTTYPE=image/jpeg:https://sunpierhouse.co.uk/wp-content/uploads/2026/03/Web-images-1.jpg
END:VEVENT
BEGIN:VEVENT
DTSTART;TZID=UTC:20260523T143000
DTEND;TZID=UTC:20260523T160000
DTSTAMP:20260421T193512
CREATED:20260327T111135Z
LAST-MODIFIED:20260327T111135Z
UID:10001719-1779546600-1779552000@sunpierhouse.co.uk
SUMMARY:Sun Pier Sounds - Saturday Edition
DESCRIPTION:Discover family-friendly live music afternoons as part of our Sun Pier Sounds events. These sessions showcase a mix of original songs\, easy listening and well-loved covers. We create a warm\, upbeat environment where all ages can enjoy live music together.
URL:https://sunpierhouse.co.uk/whatson/sun-pier-sounds-saturday-edition/
LOCATION:Café\, Second Floor\, Sun Pier House\, Chatham\, Kent\, ME4 4HF
CATEGORIES:Event
ATTACH;FMTTYPE=image/png:https://sunpierhouse.co.uk/wp-content/uploads/2024/03/Saturday.png
ORGANIZER;CN="Sun Pier House":MAILTO:info@sunpierhouse.co.uk
END:VEVENT
BEGIN:VEVENT
DTSTART;TZID=UTC:20260523T100000
DTEND;TZID=UTC:20260523T160000
DTSTAMP:20260421T193512
CREATED:20260309T135144Z
LAST-MODIFIED:20260326T132247Z
UID:10000160-1779530400-1779552000@sunpierhouse.co.uk
SUMMARY:Café Open
DESCRIPTION:Perched on the top floor of Sun Pier House\, our café offers stunning panoramic views of the River Medway\, stretching from Rochester Castle to Upnor Castle. This peaceful spot provides a welcome escape from the bustle of Chatham High Street and is the perfect place to soak up the atmosphere Thursdays\, Fridays and Saturdays.
URL:https://sunpierhouse.co.uk/whatson/cafe-open-3-6/2026-05-23/
LOCATION:Café\, Second Floor\, Sun Pier House\, Chatham\, Kent\, ME4 4HF
CATEGORIES:Café
ATTACH;FMTTYPE=image/jpeg:https://sunpierhouse.co.uk/wp-content/uploads/2025/12/SPh-GalleryTearoom-20220622-56-9219-scaled.jpg
ORGANIZER;CN="Sun Pier House":MAILTO:info@sunpierhouse.co.uk
END:VEVENT
BEGIN:VEVENT
DTSTART;TZID=UTC:20260522T100000
DTEND;TZID=UTC:20260522T160000
DTSTAMP:20260421T193512
CREATED:20260309T135144Z
LAST-MODIFIED:20260326T132247Z
UID:10000159-1779444000-1779465600@sunpierhouse.co.uk
SUMMARY:Café Open
DESCRIPTION:Perched on the top floor of Sun Pier House\, our café offers stunning panoramic views of the River Medway\, stretching from Rochester Castle to Upnor Castle. This peaceful spot provides a welcome escape from the bustle of Chatham High Street and is the perfect place to soak up the atmosphere Thursdays\, Fridays and Saturdays.
URL:https://sunpierhouse.co.uk/whatson/cafe-open-3-6/2026-05-22/
LOCATION:Café\, Second Floor\, Sun Pier House\, Chatham\, Kent\, ME4 4HF
CATEGORIES:Café
ATTACH;FMTTYPE=image/jpeg:https://sunpierhouse.co.uk/wp-content/uploads/2025/12/SPh-GalleryTearoom-20220622-56-9219-scaled.jpg
ORGANIZER;CN="Sun Pier House":MAILTO:info@sunpierhouse.co.uk
END:VEVENT
BEGIN:VEVENT
DTSTART;TZID=UTC:20260521T100000
DTEND;TZID=UTC:20260521T160000
DTSTAMP:20260421T193512
CREATED:20260309T135144Z
LAST-MODIFIED:20260326T132247Z
UID:10000158-1779357600-1779379200@sunpierhouse.co.uk
SUMMARY:Café Open
DESCRIPTION:Perched on the top floor of Sun Pier House\, our café offers stunning panoramic views of the River Medway\, stretching from Rochester Castle to Upnor Castle. This peaceful spot provides a welcome escape from the bustle of Chatham High Street and is the perfect place to soak up the atmosphere Thursdays\, Fridays and Saturdays.
URL:https://sunpierhouse.co.uk/whatson/cafe-open-3-6/2026-05-21/
LOCATION:Café\, Second Floor\, Sun Pier House\, Chatham\, Kent\, ME4 4HF
CATEGORIES:Café
ATTACH;FMTTYPE=image/jpeg:https://sunpierhouse.co.uk/wp-content/uploads/2025/12/SPh-GalleryTearoom-20220622-56-9219-scaled.jpg
ORGANIZER;CN="Sun Pier House":MAILTO:info@sunpierhouse.co.uk
END:VEVENT
BEGIN:VEVENT
DTSTART;TZID=UTC:20260521T100000
DTEND;TZID=UTC:20260521T120000
DTSTAMP:20260421T193512
CREATED:20260309T115029Z
LAST-MODIFIED:20260326T130735Z
UID:10000057-1779357600-1779364800@sunpierhouse.co.uk
SUMMARY:Thursday Art Club
DESCRIPTION:Artist-led sessions allowing participants to work on their own projects or explore new techniques
URL:https://sunpierhouse.co.uk/whatson/thursday-art-club-4/2026-05-21/
LOCATION:Creation Space\, Ground Floor\, Sun Pier House\, Chatham\, Kent\, ME4 4HF
CATEGORIES:Class
ATTACH;FMTTYPE=image/jpeg:https://sunpierhouse.co.uk/wp-content/uploads/2026/03/TAC-Web.jpg
ORGANIZER;CN="Sun Pier House":MAILTO:info@sunpierhouse.co.uk
END:VEVENT
BEGIN:VEVENT
DTSTART;TZID=UTC:20260520T134500
DTEND;TZID=UTC:20260520T154500
DTSTAMP:20260421T193512
CREATED:20260327T094012Z
LAST-MODIFIED:20260327T095827Z
UID:10001462-1779284700-1779291900@sunpierhouse.co.uk
SUMMARY:Centa Co Circle - Autistic Female Group
DESCRIPTION:Centa Co Circle is a social and creative club for autistic women aged 18+. It provides a calm\, supportive environment where members are able to socialise\, build friendships\, and take part in arts and crafts.
URL:https://sunpierhouse.co.uk/whatson/centa-co-circle-autistic-female-group/2026-05-20/
LOCATION:Creation Space\, Ground Floor\, Sun Pier House\, Chatham\, Kent\, ME4 4HF
CATEGORIES:Event
ATTACH;FMTTYPE=image/jpeg:https://sunpierhouse.co.uk/wp-content/uploads/2026/03/Centa-Co-Circle.jpg
ORGANIZER;CN="Centa Co":MAILTO:contact@centa-co.com
END:VEVENT
BEGIN:VEVENT
DTSTART;TZID=UTC:20260520T100000
DTEND;TZID=UTC:20260520T120000
DTSTAMP:20260421T193512
CREATED:20260309T114826Z
LAST-MODIFIED:20260326T130924Z
UID:10000121-1779271200-1779278400@sunpierhouse.co.uk
SUMMARY:Wednesday Art Club
DESCRIPTION:Artist-led sessions allowing participants to work on their own projects or explore new techniques
URL:https://sunpierhouse.co.uk/whatson/wednesday-art-club-4/2026-05-20/
LOCATION:Creation Space\, Ground Floor\, Sun Pier House\, Chatham\, Kent\, ME4 4HF
CATEGORIES:Class
ATTACH;FMTTYPE=image/jpeg:https://sunpierhouse.co.uk/wp-content/uploads/2026/03/WAC-Web-1.jpg
ORGANIZER;CN="Sun Pier House":MAILTO:info@sunpierhouse.co.uk
END:VEVENT
BEGIN:VEVENT
DTSTART;TZID=UTC:20260519T153000
DTEND;TZID=UTC:20260519T173000
DTSTAMP:20260421T193512
CREATED:20260309T133853Z
LAST-MODIFIED:20260326T132455Z
UID:10000918-1779204600-1779211800@sunpierhouse.co.uk
SUMMARY:The Anchor
DESCRIPTION:The Anchor is an after-class social club where older teens can stop by for a drink\, get creative\, learn something new\, or just chill with friends.
URL:https://sunpierhouse.co.uk/whatson/the-anchor-2-2/2026-05-19/
LOCATION:Café\, Second Floor\, Sun Pier House\, Chatham\, Kent\, ME4 4HF
CATEGORIES:Event
ATTACH;FMTTYPE=image/jpeg:https://sunpierhouse.co.uk/wp-content/uploads/2025/02/The-Anchor-Web-designs.jpg
ORGANIZER;CN="Sun Pier House":MAILTO:info@sunpierhouse.co.uk
END:VEVENT
BEGIN:VEVENT
DTSTART;TZID=UTC:20260519T100000
DTEND;TZID=UTC:20260519T120000
DTSTAMP:20260421T193512
CREATED:20260309T132454Z
LAST-MODIFIED:20260326T133208Z
UID:10000942-1779184800-1779192000@sunpierhouse.co.uk
SUMMARY:Zest - Dementia Friendly Arts Experiences
DESCRIPTION:Bright Shadow’s Zest Groups are shaped to individual needs and are safe and accessible. They introduce a rich mix of arts experiences that are mood-boosting\, invigorating and which enhance communication and relationships. You don’t need to have experience of being creative to enjoy them. They offer a wide range of creative activities designed and led by professional artists based on the interests and needs of those taking part.
URL:https://sunpierhouse.co.uk/whatson/zest-dementia-friendly-arts-experiences/2026-05-19/
LOCATION:Community Hire Space\, First Floor\, Sun Pier House\, Chatham\, Kent\, ME4 4HF
CATEGORIES:Workshop
ATTACH;FMTTYPE=image/jpeg:https://sunpierhouse.co.uk/wp-content/uploads/2026/03/Web-images-1.jpg
END:VEVENT
BEGIN:VEVENT
DTSTART;TZID=UTC:20260518T100000
DTEND;TZID=UTC:20260518T120000
DTSTAMP:20260421T193512
CREATED:20260309T131507Z
LAST-MODIFIED:20260326T131745Z
UID:10000133-1779098400-1779105600@sunpierhouse.co.uk
SUMMARY:Life Drawing Sessions
DESCRIPTION:Self-led Life Drawing sessions held weekly in the Creation Space organised by a local art group. \nContact Lynn for more information at lynn-drew@outlook.com
URL:https://sunpierhouse.co.uk/whatson/life-drawing-classes-2/2026-05-18/
LOCATION:Creation Space\, Ground Floor\, Sun Pier House\, Chatham\, Kent\, ME4 4HF
CATEGORIES:Class
ATTACH;FMTTYPE=image/jpeg:https://sunpierhouse.co.uk/wp-content/uploads/2026/03/Web-images.jpg
ORGANIZER;CN="Sun Pier Life Drawing":MAILTO:lynn-drew@outlook.com
END:VEVENT
BEGIN:VEVENT
DTSTART;TZID=UTC:20260518T091500
DTEND;TZID=UTC:20260518T123000
DTSTAMP:20260421T193512
CREATED:20260326T142758Z
LAST-MODIFIED:20260326T142758Z
UID:10001193-1779095700-1779107400@sunpierhouse.co.uk
SUMMARY:Zen Go Yoga
DESCRIPTION:Join Angela from Zen Go yoga for 3 different classes every Monday.
URL:https://sunpierhouse.co.uk/whatson/zen-go-yoga/2026-05-18/
LOCATION:Community Hire Space\, First Floor\, Sun Pier House\, Chatham\, Kent\, ME4 4HF
CATEGORIES:Class
ATTACH;FMTTYPE=image/jpeg:https://sunpierhouse.co.uk/wp-content/uploads/2026/03/yoga-banner.jpg
ORGANIZER;CN="Zen Go Yoga":MAILTO:zengomedway@gmail.com
END:VEVENT
BEGIN:VEVENT
DTSTART;TZID=UTC:20260516T110000
DTEND;TZID=UTC:20260516T150000
DTSTAMP:20260421T193512
CREATED:20260327T092305Z
LAST-MODIFIED:20260327T092305Z
UID:10001453-1778929200-1778943600@sunpierhouse.co.uk
SUMMARY:Broken Heart Bazaar
DESCRIPTION:Twice a year\, we welcome Medway’s original alternative market Broken Heart Bazaar raising funds for the British Heart Foundation. It brings something different to Chatham. Expect one-of-a-kind curios\, gothic designs\, and pagan wares\, bold aesthetics and subculture. Everything you won’t find on the high street.
URL:https://sunpierhouse.co.uk/whatson/broken-heart-bazaar/2026-05-16/
LOCATION:Sun Pier House\, Medway Street\, Chatham\, Kent\, ME4 4HF
CATEGORIES:Event
ATTACH;FMTTYPE=image/jpeg:https://sunpierhouse.co.uk/wp-content/uploads/2026/03/BHB-Banner.jpg
ORGANIZER;CN="Broken Heart Bazaar":MAILTO:brokenheartbazaar@gmail.com
END:VEVENT
BEGIN:VEVENT
DTSTART;TZID=UTC:20260516T100000
DTEND;TZID=UTC:20260516T160000
DTSTAMP:20260421T193512
CREATED:20260309T135144Z
LAST-MODIFIED:20260326T132247Z
UID:10000157-1778925600-1778947200@sunpierhouse.co.uk
SUMMARY:Café Open
DESCRIPTION:Perched on the top floor of Sun Pier House\, our café offers stunning panoramic views of the River Medway\, stretching from Rochester Castle to Upnor Castle. This peaceful spot provides a welcome escape from the bustle of Chatham High Street and is the perfect place to soak up the atmosphere Thursdays\, Fridays and Saturdays.
URL:https://sunpierhouse.co.uk/whatson/cafe-open-3-6/2026-05-16/
LOCATION:Café\, Second Floor\, Sun Pier House\, Chatham\, Kent\, ME4 4HF
CATEGORIES:Café
ATTACH;FMTTYPE=image/jpeg:https://sunpierhouse.co.uk/wp-content/uploads/2025/12/SPh-GalleryTearoom-20220622-56-9219-scaled.jpg
ORGANIZER;CN="Sun Pier House":MAILTO:info@sunpierhouse.co.uk
END:VEVENT
END:VCALENDAR