BEGIN:VCALENDAR
VERSION:2.0
PRODID:-//Sun Pier House CIC - ECPv6.15.18//NONSGML v1.0//EN
CALSCALE:GREGORIAN
METHOD:PUBLISH
X-WR-CALNAME:Sun Pier House CIC
X-ORIGINAL-URL:https://sunpierhouse.co.uk
X-WR-CALDESC:Events for Sun Pier House CIC
REFRESH-INTERVAL;VALUE=DURATION:PT1H
X-Robots-Tag:noindex
X-PUBLISHED-TTL:PT1H
BEGIN:VTIMEZONE
TZID:UTC
BEGIN:STANDARD
TZOFFSETFROM:+0000
TZOFFSETTO:+0000
TZNAME:UTC
DTSTART:20250101T000000
END:STANDARD
END:VTIMEZONE
BEGIN:VEVENT
DTSTART;TZID=UTC:20260508T093000
DTEND;TZID=UTC:20260508T101500
DTSTAMP:20260421T171539
CREATED:20260421T133007Z
LAST-MODIFIED:20260421T140357Z
UID:10001948-1778232600-1778235300@sunpierhouse.co.uk
SUMMARY:Messy Paint - Creative Play for under 5's
DESCRIPTION:Designed especially for under 5’s\, these playful painting sessions are all about exploring colour\, texture\, and creativity in a fun and relaxed space. No need to worry about the clear up – that’s what Messy Paint is all about!
URL:https://sunpierhouse.co.uk/whatson/messy-paint-creative-play-for-under-5s/2026-05-08/
LOCATION:Creation Space\, Ground Floor\, Sun Pier House\, Chatham\, Kent\, ME4 4HF
CATEGORIES:Workshop
ATTACH;FMTTYPE=image/jpeg:https://sunpierhouse.co.uk/wp-content/uploads/2026/04/messy-paint-banner-1.jpg
ORGANIZER;CN="Sun Pier House":MAILTO:info@sunpierhouse.co.uk
END:VEVENT
BEGIN:VEVENT
DTSTART;TZID=UTC:20260626T093000
DTEND;TZID=UTC:20260626T101500
DTSTAMP:20260421T171539
CREATED:20260421T133007Z
LAST-MODIFIED:20260421T140357Z
UID:10001949-1782466200-1782468900@sunpierhouse.co.uk
SUMMARY:Messy Paint - Creative Play for under 5's
DESCRIPTION:Designed especially for under 5’s\, these playful painting sessions are all about exploring colour\, texture\, and creativity in a fun and relaxed space. No need to worry about the clear up – that’s what Messy Paint is all about!
URL:https://sunpierhouse.co.uk/whatson/messy-paint-creative-play-for-under-5s/2026-06-26/
LOCATION:Creation Space\, Ground Floor\, Sun Pier House\, Chatham\, Kent\, ME4 4HF
CATEGORIES:Workshop
ATTACH;FMTTYPE=image/jpeg:https://sunpierhouse.co.uk/wp-content/uploads/2026/04/messy-paint-banner-1.jpg
ORGANIZER;CN="Sun Pier House":MAILTO:info@sunpierhouse.co.uk
END:VEVENT
BEGIN:VEVENT
DTSTART;TZID=UTC:20261002T093000
DTEND;TZID=UTC:20261002T101500
DTSTAMP:20260421T171539
CREATED:20260421T133007Z
LAST-MODIFIED:20260421T140357Z
UID:10001950-1790933400-1790936100@sunpierhouse.co.uk
SUMMARY:Messy Paint - Creative Play for under 5's
DESCRIPTION:Designed especially for under 5’s\, these playful painting sessions are all about exploring colour\, texture\, and creativity in a fun and relaxed space. No need to worry about the clear up – that’s what Messy Paint is all about!
URL:https://sunpierhouse.co.uk/whatson/messy-paint-creative-play-for-under-5s/2026-10-02/
LOCATION:Creation Space\, Ground Floor\, Sun Pier House\, Chatham\, Kent\, ME4 4HF
CATEGORIES:Workshop
ATTACH;FMTTYPE=image/jpeg:https://sunpierhouse.co.uk/wp-content/uploads/2026/04/messy-paint-banner-1.jpg
ORGANIZER;CN="Sun Pier House":MAILTO:info@sunpierhouse.co.uk
END:VEVENT
BEGIN:VEVENT
DTSTART;TZID=UTC:20270212T093000
DTEND;TZID=UTC:20270212T101500
DTSTAMP:20260421T171539
CREATED:20260421T133007Z
LAST-MODIFIED:20260421T140357Z
UID:10001951-1802424600-1802427300@sunpierhouse.co.uk
SUMMARY:Messy Paint - Creative Play for under 5's
DESCRIPTION:Designed especially for under 5’s\, these playful painting sessions are all about exploring colour\, texture\, and creativity in a fun and relaxed space. No need to worry about the clear up – that’s what Messy Paint is all about!
URL:https://sunpierhouse.co.uk/whatson/messy-paint-creative-play-for-under-5s/2027-02-12/
LOCATION:Creation Space\, Ground Floor\, Sun Pier House\, Chatham\, Kent\, ME4 4HF
CATEGORIES:Workshop
ATTACH;FMTTYPE=image/jpeg:https://sunpierhouse.co.uk/wp-content/uploads/2026/04/messy-paint-banner-1.jpg
ORGANIZER;CN="Sun Pier House":MAILTO:info@sunpierhouse.co.uk
END:VEVENT
END:VCALENDAR