BEGIN:VCALENDAR
VERSION:2.0
PRODID:-//Sun Pier House CIC - ECPv6.15.18//NONSGML v1.0//EN
CALSCALE:GREGORIAN
METHOD:PUBLISH
X-ORIGINAL-URL:https://sunpierhouse.co.uk
X-WR-CALDESC:Events for Sun Pier House CIC
REFRESH-INTERVAL;VALUE=DURATION:PT1H
X-Robots-Tag:noindex
X-PUBLISHED-TTL:PT1H
BEGIN:VTIMEZONE
TZID:UTC
BEGIN:STANDARD
TZOFFSETFROM:+0000
TZOFFSETTO:+0000
TZNAME:UTC
DTSTART:20250101T000000
END:STANDARD
END:VTIMEZONE
BEGIN:VEVENT
DTSTART;TZID=UTC:20260514T160000
DTEND;TZID=UTC:20260514T200000
DTSTAMP:20260423T225412
CREATED:20260202T101748Z
LAST-MODIFIED:20260423T134251Z
UID:10001956-1778774400-1778788800@sunpierhouse.co.uk
SUMMARY:Gallery Lates
DESCRIPTION:Looking for a relaxed way to spend your evening? Gallery Lates at Sun Pier House are back and better than ever. Think chilled-out vibes\, creative energy\, and stunning views over the river\, all rolled into one perfect after-hours social.
URL:https://sunpierhouse.co.uk/whatson/gallery-lates/2026-05-14/
LOCATION:Café & Gallery\, Second Floor\, Sun Pier House\, Chatham\, Kent\, ME4 4HF
CATEGORIES:Event
ATTACH;FMTTYPE=image/jpeg:https://sunpierhouse.co.uk/wp-content/uploads/2026/02/Gallery-Lates-Events-Page.jpg
END:VEVENT
BEGIN:VEVENT
DTSTART;TZID=UTC:20260611T160000
DTEND;TZID=UTC:20260611T200000
DTSTAMP:20260423T225412
CREATED:20260202T101748Z
LAST-MODIFIED:20260423T134251Z
UID:10001957-1781193600-1781208000@sunpierhouse.co.uk
SUMMARY:Gallery Lates
DESCRIPTION:Looking for a relaxed way to spend your evening? Gallery Lates at Sun Pier House are back and better than ever. Think chilled-out vibes\, creative energy\, and stunning views over the river\, all rolled into one perfect after-hours social.
URL:https://sunpierhouse.co.uk/whatson/gallery-lates/2026-06-11/
LOCATION:Café & Gallery\, Second Floor\, Sun Pier House\, Chatham\, Kent\, ME4 4HF
CATEGORIES:Event
ATTACH;FMTTYPE=image/jpeg:https://sunpierhouse.co.uk/wp-content/uploads/2026/02/Gallery-Lates-Events-Page.jpg
END:VEVENT
BEGIN:VEVENT
DTSTART;TZID=UTC:20260709T160000
DTEND;TZID=UTC:20260709T200000
DTSTAMP:20260423T225412
CREATED:20260202T101748Z
LAST-MODIFIED:20260423T134251Z
UID:10001958-1783612800-1783627200@sunpierhouse.co.uk
SUMMARY:Gallery Lates
DESCRIPTION:Looking for a relaxed way to spend your evening? Gallery Lates at Sun Pier House are back and better than ever. Think chilled-out vibes\, creative energy\, and stunning views over the river\, all rolled into one perfect after-hours social.
URL:https://sunpierhouse.co.uk/whatson/gallery-lates/2026-07-09/
LOCATION:Café & Gallery\, Second Floor\, Sun Pier House\, Chatham\, Kent\, ME4 4HF
CATEGORIES:Event
ATTACH;FMTTYPE=image/jpeg:https://sunpierhouse.co.uk/wp-content/uploads/2026/02/Gallery-Lates-Events-Page.jpg
END:VEVENT
BEGIN:VEVENT
DTSTART;TZID=UTC:20260813T160000
DTEND;TZID=UTC:20260813T200000
DTSTAMP:20260423T225412
CREATED:20260202T101748Z
LAST-MODIFIED:20260423T134251Z
UID:10001959-1786636800-1786651200@sunpierhouse.co.uk
SUMMARY:Gallery Lates
DESCRIPTION:Looking for a relaxed way to spend your evening? Gallery Lates at Sun Pier House are back and better than ever. Think chilled-out vibes\, creative energy\, and stunning views over the river\, all rolled into one perfect after-hours social.
URL:https://sunpierhouse.co.uk/whatson/gallery-lates/2026-08-13/
LOCATION:Café & Gallery\, Second Floor\, Sun Pier House\, Chatham\, Kent\, ME4 4HF
CATEGORIES:Event
ATTACH;FMTTYPE=image/jpeg:https://sunpierhouse.co.uk/wp-content/uploads/2026/02/Gallery-Lates-Events-Page.jpg
END:VEVENT
BEGIN:VEVENT
DTSTART;TZID=UTC:20260910T160000
DTEND;TZID=UTC:20260910T200000
DTSTAMP:20260423T225412
CREATED:20260202T101748Z
LAST-MODIFIED:20260423T134251Z
UID:10001960-1789056000-1789070400@sunpierhouse.co.uk
SUMMARY:Gallery Lates
DESCRIPTION:Looking for a relaxed way to spend your evening? Gallery Lates at Sun Pier House are back and better than ever. Think chilled-out vibes\, creative energy\, and stunning views over the river\, all rolled into one perfect after-hours social.
URL:https://sunpierhouse.co.uk/whatson/gallery-lates/2026-09-10/
LOCATION:Café & Gallery\, Second Floor\, Sun Pier House\, Chatham\, Kent\, ME4 4HF
CATEGORIES:Event
ATTACH;FMTTYPE=image/jpeg:https://sunpierhouse.co.uk/wp-content/uploads/2026/02/Gallery-Lates-Events-Page.jpg
END:VEVENT
BEGIN:VEVENT
DTSTART;TZID=UTC:20261008T160000
DTEND;TZID=UTC:20261008T200000
DTSTAMP:20260423T225412
CREATED:20260202T101748Z
LAST-MODIFIED:20260423T134251Z
UID:10001961-1791475200-1791489600@sunpierhouse.co.uk
SUMMARY:Gallery Lates
DESCRIPTION:Looking for a relaxed way to spend your evening? Gallery Lates at Sun Pier House are back and better than ever. Think chilled-out vibes\, creative energy\, and stunning views over the river\, all rolled into one perfect after-hours social.
URL:https://sunpierhouse.co.uk/whatson/gallery-lates/2026-10-08/
LOCATION:Café & Gallery\, Second Floor\, Sun Pier House\, Chatham\, Kent\, ME4 4HF
CATEGORIES:Event
ATTACH;FMTTYPE=image/jpeg:https://sunpierhouse.co.uk/wp-content/uploads/2026/02/Gallery-Lates-Events-Page.jpg
END:VEVENT
BEGIN:VEVENT
DTSTART;TZID=UTC:20261112T160000
DTEND;TZID=UTC:20261112T200000
DTSTAMP:20260423T225412
CREATED:20260202T101748Z
LAST-MODIFIED:20260423T134251Z
UID:10001962-1794499200-1794513600@sunpierhouse.co.uk
SUMMARY:Gallery Lates
DESCRIPTION:Looking for a relaxed way to spend your evening? Gallery Lates at Sun Pier House are back and better than ever. Think chilled-out vibes\, creative energy\, and stunning views over the river\, all rolled into one perfect after-hours social.
URL:https://sunpierhouse.co.uk/whatson/gallery-lates/2026-11-12/
LOCATION:Café & Gallery\, Second Floor\, Sun Pier House\, Chatham\, Kent\, ME4 4HF
CATEGORIES:Event
ATTACH;FMTTYPE=image/jpeg:https://sunpierhouse.co.uk/wp-content/uploads/2026/02/Gallery-Lates-Events-Page.jpg
END:VEVENT
BEGIN:VEVENT
DTSTART;TZID=UTC:20261210T160000
DTEND;TZID=UTC:20261210T200000
DTSTAMP:20260423T225412
CREATED:20260202T101748Z
LAST-MODIFIED:20260423T134251Z
UID:10001963-1796918400-1796932800@sunpierhouse.co.uk
SUMMARY:Gallery Lates
DESCRIPTION:Looking for a relaxed way to spend your evening? Gallery Lates at Sun Pier House are back and better than ever. Think chilled-out vibes\, creative energy\, and stunning views over the river\, all rolled into one perfect after-hours social.
URL:https://sunpierhouse.co.uk/whatson/gallery-lates/2026-12-10/
LOCATION:Café & Gallery\, Second Floor\, Sun Pier House\, Chatham\, Kent\, ME4 4HF
CATEGORIES:Event
ATTACH;FMTTYPE=image/jpeg:https://sunpierhouse.co.uk/wp-content/uploads/2026/02/Gallery-Lates-Events-Page.jpg
END:VEVENT
END:VCALENDAR